BEGIN:VCALENDAR
VERSION:2.0
PRODID:-//Arizona Dance Coalition - ECPv6.8.3//NONSGML v1.0//EN
CALSCALE:GREGORIAN
METHOD:PUBLISH
X-WR-CALNAME:Arizona Dance Coalition
X-ORIGINAL-URL:https://www.azdancecoalition.org
X-WR-CALDESC:Events for Arizona Dance Coalition
REFRESH-INTERVAL;VALUE=DURATION:PT1H
X-Robots-Tag:noindex
X-PUBLISHED-TTL:PT1H
BEGIN:VTIMEZONE
TZID:America/Phoenix
BEGIN:STANDARD
TZOFFSETFROM:-0700
TZOFFSETTO:-0700
TZNAME:MST
DTSTART:20220101T000000
END:STANDARD
END:VTIMEZONE
BEGIN:VEVENT
DTSTART;TZID=America/Phoenix:20220419T000000
DTEND;TZID=America/Phoenix:20220424T000000
DTSTAMP:20260419T104445
CREATED:20210917T163927Z
LAST-MODIFIED:20210917T164101Z
UID:20797-1650326400-1650758400@www.azdancecoalition.org
SUMMARY:"HADESTOWN" ASU Gammage 2021-2022 Broadway
DESCRIPTION:Welcome to HADESTOWN\, where a song can change your fate. Winner of eight 2019 Tony Awards® including Best Musical and the 2020 Grammy® Award for Best Musical Theater Album\, this acclaimed new show by celebrated singer-songwriter Anaïs Mitchell and innovative director Rachel Chavkin (NATASHA\, PIERRE & THE GREAT COMET OF 1812) is a love story for today… and always. \nHADESTOWN intertwines two mythic tales — that of young dreamers Orpheus and Eurydice\, and that of King Hades and his wife Persephone — as it invites you on a hell-raising journey to the underworld and back. Mitchell’s beguiling melodies and Chavkin’s poetic imagination pit industry against nature\, doubt against faith\, and fear against love. Performed by a vibrant ensemble of actors\, dancers and singers\, HADESTOWN is a haunting and hopeful theatrical experience that grabs you and never lets go. \nGet your tickets at https://www.asugammage.com
URL:https://www.azdancecoalition.org/event/hadestown-asu-gammage-2021-2022-broadway/
LOCATION:ASU Gammage\, 1200 South Forest Ave\, Tempe\, AZ\, 85281\, United States
ATTACH;FMTTYPE=image/jpeg:https://www.azdancecoalition.org/wp-content/uploads/2021/09/1jK4tqRw-scaled.jpeg
ORGANIZER;CN="ASU Gammage":MAILTO:cpinfo@asugammage.com
END:VEVENT
BEGIN:VEVENT
DTSTART;VALUE=DATE:20220420
DTEND;VALUE=DATE:20220601
DTSTAMP:20260419T104445
CREATED:20220418T192626Z
LAST-MODIFIED:20220418T192626Z
UID:21515-1650412800-1654041599@www.azdancecoalition.org
SUMMARY:Register Now for Summer Classes with SCC Dance!
DESCRIPTION:Interested in dancing this summer?  Scottsdale Community College is offering ballet and jazz classes\, along with a more intensive conservatory\, in 5-week and 10-week options.  Even better\, classes are inexpensive\, at just $85/credit hour for Maricopa residents!  (Most classes are one or half credit hour options). \nQuestions?  Contact ude.cceladsttocsnull@ecnadccs
URL:https://www.azdancecoalition.org/event/register-now-for-summer-classes-with-scc-dance/
LOCATION:Scottsdale Community College\, PE Building\, Rm 135\, 9000 E. Chaparral Rd.\, Scottsdale\, AZ\, 85256\, United States
CATEGORIES:Classes
ATTACH;FMTTYPE=image/png:https://www.azdancecoalition.org/wp-content/uploads/2022/04/Register-for-Classes-Summer.png
END:VEVENT
BEGIN:VEVENT
DTSTART;VALUE=DATE:20220421
DTEND;VALUE=DATE:20220425
DTSTAMP:20260419T104445
CREATED:20220218T181403Z
LAST-MODIFIED:20220218T181403Z
UID:21357-1650499200-1650844799@www.azdancecoalition.org
SUMMARY:TUCSON TANGO FESTIVAL | Marriott Tucson University Park
DESCRIPTION:TUCSON TANGO FESTIVAL | Marriott Tucson University Park\nApril 21-24\, 2022 \nPre-festival milonga ‘warm up’ Wednesday\, April 20\, 8 pm-1 am\, Scottish Rite Cathedral\, Tucson. \nTUCSON TANGO FESTIVAL\, organized by Jim Baker\, will feature eight Milongas and 39 hours of dancing. At this time registration is closed for ‘single follows.’ \nPasses: Full Festival (Thursday-Sunday)\, Milonga Only Pass (Thursday through Sunday)\, Full-time Student Pass: Full Festival $180\, Milongas $80\, Vampire Pass (Evening Milongas) $55 \nBest savings is for two ‘leaders’ to register together. \nVisit link to learn about COVID-19 participation requirements. \n13 instructors (6 couples) include: \nPaloma and Maxi (Miami FL)\, Michael and Nella (Las Vegas NV)\, Yuliana Basmajyan and Brian Nguyen (Los Angeles CA)\, Oscar Casas & Jesica (Indianapolis IN)\, Homer and Cristina Ladas (Emeryville CA)\, Jon and Judy (Medellin\, Columbia)\, and Carrie Field (Albuquerque NM) \n \nThere will be a pre-festival milonga Wednesday night (April 20\, 8 pm – 1 am) at the Scottish Rite Cathedral\, 160 S Scott\, Ave\, Tucson – a ‘warm up’ for what’s to come (not included in any passes). \n520-906-2086 | moc.lavitsefognatnoscutnull@ofni
URL:https://www.azdancecoalition.org/event/tucson-tango-festival-marriott-tucson-university-park/
LOCATION:Marriott University Park\, 880 E 2nd St\, Tucson\, AZ\, 85719\, United States
CATEGORIES:Argentine Tango,Argentine Tango,Festival,Social Dance
ATTACH;FMTTYPE=image/png:https://www.azdancecoalition.org/wp-content/uploads/2022/02/216196235_2902611576530034_194484428806655815_n.png
ORGANIZER;CN="Jim Baker":MAILTO:info(at)TucsonTangoFestival(dot)com
END:VEVENT
BEGIN:VEVENT
DTSTART;TZID=America/Phoenix:20220421T193000
DTEND;TZID=America/Phoenix:20220421T213000
DTSTAMP:20260419T104445
CREATED:20220228T173310Z
LAST-MODIFIED:20220228T173310Z
UID:21431-1650569400-1650576600@www.azdancecoalition.org
SUMMARY:Maricopa CCD "Artist of Promise" GALA | Paradise Valley CC (PHX)
DESCRIPTION:Maricopa Community College District “Artist of Promise” GALA\nThe first and second place winners of four dance categories in the “Artist of Promise” Dance Competition held February 12 at the Glendale Community College will perform in the “Artist of Promise” Gala\, April 21\, 7:30 pm\, at Paradise Valley Community College\, 18401 N 32nd St\, Phoenix. The performance is open to the public. Adjudicators were Lisa Chow\, Jennifer Cafarella\, Lena Jacome\, Sam Arrow\, and House Magana. \nSolo Performance\n1. What is Balance (MCC) – Jemel Marquez\n2. Another Man’s (SCC) – Seth Abkemeier\n3. Hyper Vigilance (SCC) – Juan Garcia Gutierrez \nGroup Performance\n1. 1965 (SCC) – Alexis Montoya\, Madeline McDonald\n2. Find Me (MCC) – Annie Ethington\, Daniela Diaz\, Aspyn Beamon\n3. Come to The Aid (EMCC) – Jacqueline Montenegro\, Audrey Richards \nSolo Choreography\n1. What is Balance (MCC) – Jemel Marquez (pictured)\n2. Winter (SCC) – Trinity Pringle\n3. Hyper Vigilance (SCC) – Juan Garcia Gutierrez \nGroup Choreography\n1. 1965 (SCC) – Alexis Montoya\, Madeline McDonald\n2. Sense of Wonder (GCC) – Krystal Castro and Bianca Celaya\n3. Find Me (MCC) – Annie Ethington\, Daniela Diaz \nMCC – Mesa Community College | SCC – Scottsdale Community College\nEMCC – Estrella Mountain Community College | GCC – Glendale Community College
URL:https://www.azdancecoalition.org/event/maricopa-ccd-artist-of-promise-gala-paradise-valley-cc-phx/
LOCATION:Paradise Valley Community College\, Center for Performing Arts\, 18401 N. 32nd Street\, Phoenix\, AZ\, 85032\, United States
CATEGORIES:Dance Performance,Modern Contemporary
ATTACH;FMTTYPE=image/jpeg:https://www.azdancecoalition.org/wp-content/uploads/2022/02/JemelMarquez_MCCCD_Soloist_MCC.jpg
END:VEVENT
END:VCALENDAR