BEGIN:VCALENDAR
VERSION:2.0
PRODID:-//Arizona Dance Coalition - ECPv6.8.3//NONSGML v1.0//EN
CALSCALE:GREGORIAN
METHOD:PUBLISH
X-ORIGINAL-URL:https://www.azdancecoalition.org
X-WR-CALDESC:Events for Arizona Dance Coalition
REFRESH-INTERVAL;VALUE=DURATION:PT1H
X-Robots-Tag:noindex
X-PUBLISHED-TTL:PT1H
BEGIN:VTIMEZONE
TZID:America/Phoenix
BEGIN:STANDARD
TZOFFSETFROM:-0700
TZOFFSETTO:-0700
TZNAME:MST
DTSTART:20220101T000000
END:STANDARD
END:VTIMEZONE
BEGIN:VEVENT
DTSTART;VALUE=DATE:20220420
DTEND;VALUE=DATE:20220601
DTSTAMP:20260421T131912
CREATED:20220418T192626Z
LAST-MODIFIED:20220418T192626Z
UID:21515-1650412800-1654041599@www.azdancecoalition.org
SUMMARY:Register Now for Summer Classes with SCC Dance!
DESCRIPTION:Interested in dancing this summer?  Scottsdale Community College is offering ballet and jazz classes\, along with a more intensive conservatory\, in 5-week and 10-week options.  Even better\, classes are inexpensive\, at just $85/credit hour for Maricopa residents!  (Most classes are one or half credit hour options). \nQuestions?  Contact ude.cceladsttocsnull@ecnadccs
URL:https://www.azdancecoalition.org/event/register-now-for-summer-classes-with-scc-dance/
LOCATION:Scottsdale Community College\, PE Building\, Rm 135\, 9000 E. Chaparral Rd.\, Scottsdale\, AZ\, 85256\, United States
CATEGORIES:Classes
ATTACH;FMTTYPE=image/png:https://www.azdancecoalition.org/wp-content/uploads/2022/04/Register-for-Classes-Summer.png
END:VEVENT
BEGIN:VEVENT
DTSTART;TZID=America/Phoenix:20220505T190000
DTEND;TZID=America/Phoenix:20220505T210000
DTSTAMP:20260421T131912
CREATED:20210902T013519Z
LAST-MODIFIED:20210903T182325Z
UID:20585-1651777200-1651784400@www.azdancecoalition.org
SUMMARY:Ballet Arizona - Juan Gabriel
DESCRIPTION:May 5-8\, 2022\nat Symphony Hall\n\nThis highly anticipated world premiere pays homage to the legendary performer and music of Mexican singer and songwriter Juan Gabriel who captured the hearts of millions worldwide and whose works have transcended generations. Ballet Arizona is proud to celebrate the color\, passion\, and vibrancy of Juan Gabriel. \nAdding to the passion of the music and choreography will be costumes masterfully designed by Mexico City-based designer and fashion house\, Carla Fernández. Through her designs and work\, Carla Fernández strives to preserve and revitalize the textile legacy of indigenous and mestizo communities of Mexico. She maintains a passion for sustainability and equity through manual methods of production with a vision to prove that ethical fashion can be innovative\, avant-garde and progressive. \n5-8 de mayo de 2022\nen Symphony Hall \nEsta producción es el esperado estreno mundial del ballet inspirado por la música del legendario cantante y compositor mexicano Juan Gabriel. Canalizando la intensidad y el compromiso de Juan Gabriel a su arte en escena\, Ballet Arizona rinde homenaje a este legendario intérprete que transcendió fronteras y generaciones\, capturando los corazones de millones de personas en todo el mundo. \nA la pasión de la música y la coreografía se suma el vestuario magistralmente diseñado por la diseñadora y modista Carla Fernández\, con sede en la Ciudad de México. A través de sus diseños y trabajos\, Carla Fernández se esfuerza por preservar y revitalizar el legado textil de las comunidades indígenas y mestizas de México. Mantiene su pasión por la sostenibilidad y la equidad a través de métodos de producción manuales con la visión de demostrar que la moda ética puede ser innovadora\, vanguardista y progresista.
URL:https://www.azdancecoalition.org/event/ballet-arizona-juan-gabriel/
LOCATION:Phoenix Symphony Hall\, 100 N. 3rd Street\, Phoenix\, AZ\, 85004\, United States
CATEGORIES:Ballet,Dance Performance,Performance Art
ATTACH;FMTTYPE=image/jpeg:https://www.azdancecoalition.org/wp-content/uploads/2021/08/BalletArizona.May_.JuanGabriel.BalletArizonaDancers.TimFuller.jpg
END:VEVENT
BEGIN:VEVENT
DTSTART;TZID=America/Phoenix:20220505T190000
DTEND;TZID=America/Phoenix:20220508T140000
DTSTAMP:20260421T131912
CREATED:20220422T050221Z
LAST-MODIFIED:20220422T050221Z
UID:21553-1651777200-1652018400@www.azdancecoalition.org
SUMMARY:Southwest Ballet Theatre presents Sleeping Beauty
DESCRIPTION:Southwest Ballet Theatre presents Sleeping Beauty May 5-8 at Estrella Mountain Community College’s Performing Arts Center\, 3000 N. Dysart Road\, Avondale. Artistic direction and choreography (after Marius Petipa) by Tasha Stramecki.   Students 18 and under are $18; adults $26.  House opens 30 minutes prior to curtain.  Tickets are available online at https://swbtballet.org/sb_22/. \nThursday\, May 5\, 7pm \nFriday\, May 6\, 7pm \nSaturday\, May 7\, 7pm \nSunday\, May 8\, 2pm \nThe ballet will feature guest artists from around the Valley\, a select group of dancers from Grand Canyon University\, and student dancers from The School of Southwest Ballet Theatre. \nThis production is made possible\, in part\, through contributions from Desert Diamond Casino West Valley. Southwest Ballet Theatre has also received an AZ Organizational Relief Grant (ORG). Administered by the Arizona Commission on the Arts\, the AZ ORG Program directs relief funds allocated by Governor Doug Ducey from the State of Arizona’s Coronavirus State and Local Fiscal Recovery Funds in support of arts and culture organizations across the state.
URL:https://www.azdancecoalition.org/event/swbtsleepingbeauty/
LOCATION:AZ
CATEGORIES:Ballet,Dance Performance
ATTACH;FMTTYPE=image/jpeg:https://www.azdancecoalition.org/wp-content/uploads/2022/04/2022SleepingBeauty.jpg
END:VEVENT
END:VCALENDAR