BEGIN:VCALENDAR
VERSION:2.0
PRODID:-//Arizona Dance Coalition - ECPv6.8.3//NONSGML v1.0//EN
CALSCALE:GREGORIAN
METHOD:PUBLISH
X-ORIGINAL-URL:https://www.azdancecoalition.org
X-WR-CALDESC:Events for Arizona Dance Coalition
REFRESH-INTERVAL;VALUE=DURATION:PT1H
X-Robots-Tag:noindex
X-PUBLISHED-TTL:PT1H
BEGIN:VTIMEZONE
TZID:America/Phoenix
BEGIN:STANDARD
TZOFFSETFROM:-0700
TZOFFSETTO:-0700
TZNAME:MST
DTSTART:20230101T000000
END:STANDARD
END:VTIMEZONE
BEGIN:VEVENT
DTSTART;TZID=America/Phoenix:20231217T130000
DTEND;TZID=America/Phoenix:20231217T150000
DTSTAMP:20260424T062419
CREATED:20231102T204403Z
LAST-MODIFIED:20231102T211304Z
UID:23759-1702818000-1702825200@www.azdancecoalition.org
SUMMARY:Ballet Arizona presents The Nutcracker (Phoenix)
DESCRIPTION:Ballet Arizona returns to Symphony Hall in grand fashion with this holiday classic. Celebrate the joy and wonder of the season with Ib Andersen’s The Nutcracker as Tchaikovsky’s cherished score is masterfully performed by The Phoenix Symphony. Follow Clara’s wintry adventures as she battles mischievous mice and charms the Sugar Plum Fairy. Whether this is your first Nutcracker or your 101st\, this heartwarming tradition never fails to enchant and draw smiles from all!
URL:https://www.azdancecoalition.org/event/ballet-arizona-presents-the-nutcracker-phoenix-6/
LOCATION:Phoenix Symphony Hall\, 100 N. 3rd Street\, Phoenix\, AZ\, 85004\, United States
CATEGORIES:Ballet,DANCE HOLIDAY,Dance Performance
ATTACH;FMTTYPE=image/jpeg:https://www.azdancecoalition.org/wp-content/uploads/2023/11/BAZ2_0266-Nutcracker-2023-Assets-YouTube-Thumbnail.jpg
END:VEVENT
BEGIN:VEVENT
DTSTART;TZID=America/Phoenix:20231217T150000
DTEND;TZID=America/Phoenix:20231217T163000
DTSTAMP:20260424T062419
CREATED:20220801T020402Z
LAST-MODIFIED:20230906T185312Z
UID:23596-1702825200-1702830600@www.azdancecoalition.org
SUMMARY:Southwest Youth Ballet Theatre's The Nutcracker (Gilbert)
DESCRIPTION:Southwest Youth Ballet Theatre presents The Nutcracker\nDecember 15-17\, Friday 7 pm\, Saturday 2 pm & 6:30 pm\, Sunday 3 pm \nGo on a magical journey with the Nutcracker and Clara as they battle oversized mice and celebrate their victory with the Sugar Plum Fairy in the land of the sweets! Lead by Artistic Director Yen-Li Chen\, Southwest Youth Ballet Theatre brings to life this holiday classic. \nLive music performed by Chandler Symphony Orchestra. \nTickets on sale now at higleycenter.org. \n  \n    
URL:https://www.azdancecoalition.org/event/southwest-youth-ballet-theatres-the-nutcracker-gilbert-7/
LOCATION:Higley Center for the Performing Arts\, 4132 E. Pecos Road\, Gilbert\, AZ\, 85295\, United States
CATEGORIES:Ballet,DANCE HOLIDAY,Dance Performance
ATTACH;FMTTYPE=image/jpeg:https://www.azdancecoalition.org/wp-content/uploads/2022/07/Clara-1920x1080-1.jpg
ORGANIZER;CN="Southwest Youth Ballet":MAILTO:info@swybt.org
END:VEVENT
BEGIN:VEVENT
DTSTART;TZID=America/Phoenix:20231217T150000
DTEND;TZID=America/Phoenix:20231217T163000
DTSTAMP:20260424T062419
CREATED:20231215T232338Z
LAST-MODIFIED:20231215T232338Z
UID:23918-1702825200-1702830600@www.azdancecoalition.org
SUMMARY:The Nutcracker featuring Ballet Victoria (Prescott)
DESCRIPTION:The Nutcracker featuring Ballet Victoria \nTickets: Adults $49 | $39 |$29 | Youth $10Need ADA seating? Please call the Ticket Office at (928) 776-2000 for assistance.Sat \, Dec 16 | 7pm \n\nThis performance generously sponsored by Jeff & Patt Parker. SOLD OUT! CONTACT THE TICKET OFFICE TO BE ADDED TO THE WAITLIST: 928.776.2000 Sun\, Dec 17 | 3pm SOLD OUT! CONTACT THE TICKET OFFICE TO BE ADDED TO THE WAITLIST: 928.776.2000\nJim & Linda Lee Performing Arts CenterYavapai College1100 East Sheldon StreetPrescott\, Arizona 86301 \nA 21st century family tradition with everything you expect from a holiday production: an original Christmas tale danced to Tchaikovsky’s timeless score\, lively and imaginative choreography\, hilarious pantomime\, beautiful costumes\, magic\, and a few surprises to delight the whole family.  Alongside the professional company dancers\, local young ballet students bring the story to life and fill everyone’s heart with Christmas cheer. \nhttps://ycpac.com/Online/
URL:https://www.azdancecoalition.org/event/the-nutcracker-featuring-ballet-victoria-prescott-2023-12-17/
LOCATION:Jim & Linda Lee Performing Arts Center at Yavapai College\, 1100 East Sheldon Street\, Prescott\, 86301\, United States
CATEGORIES:Ballet,Dance Performance
ATTACH;FMTTYPE=image/jpeg:https://www.azdancecoalition.org/wp-content/uploads/2023/12/a22faad2-9a7a-fe31-35df-bd6149b905f0.jpg
END:VEVENT
BEGIN:VEVENT
DTSTART;TZID=America/Phoenix:20231217T173000
DTEND;TZID=America/Phoenix:20231217T193000
DTSTAMP:20260424T062419
CREATED:20231102T204403Z
LAST-MODIFIED:20231102T212713Z
UID:23761-1702834200-1702841400@www.azdancecoalition.org
SUMMARY:Ballet Arizona presents The Nutcracker (Phoenix)
DESCRIPTION:Ballet Arizona returns to Symphony Hall in grand fashion with this holiday classic. Celebrate the joy and wonder of the season with Ib Andersen’s The Nutcracker as Tchaikovsky’s cherished score is masterfully performed by The Phoenix Symphony. Follow Clara’s wintry adventures as she battles mischievous mice and charms the Sugar Plum Fairy. Whether this is your first Nutcracker or your 101st\, this heartwarming tradition never fails to enchant and draw smiles from all!
URL:https://www.azdancecoalition.org/event/ballet-arizona-presents-the-nutcracker-phoenix-11/
LOCATION:Phoenix Symphony Hall\, 100 N. 3rd Street\, Phoenix\, AZ\, 85004\, United States
CATEGORIES:Ballet,DANCE HOLIDAY,Dance Performance
ATTACH;FMTTYPE=image/jpeg:https://www.azdancecoalition.org/wp-content/uploads/2023/11/BAZ2_0266-Nutcracker-2023-Assets-YouTube-Thumbnail.jpg
END:VEVENT
END:VCALENDAR