BEGIN:VCALENDAR
VERSION:2.0
PRODID:-//Arizona Dance Coalition - ECPv6.8.3//NONSGML v1.0//EN
CALSCALE:GREGORIAN
METHOD:PUBLISH
X-WR-CALNAME:Arizona Dance Coalition
X-ORIGINAL-URL:https://www.azdancecoalition.org
X-WR-CALDESC:Events for Arizona Dance Coalition
REFRESH-INTERVAL;VALUE=DURATION:PT1H
X-Robots-Tag:noindex
X-PUBLISHED-TTL:PT1H
BEGIN:VTIMEZONE
TZID:America/Phoenix
BEGIN:STANDARD
TZOFFSETFROM:-0700
TZOFFSETTO:-0700
TZNAME:MST
DTSTART:20240101T000000
END:STANDARD
END:VTIMEZONE
BEGIN:VEVENT
DTSTART;TZID=America/Phoenix:20240202T193000
DTEND;TZID=America/Phoenix:20240202T210000
DTSTAMP:20260422T003915
CREATED:20230801T180721Z
LAST-MODIFIED:20230801T180813Z
UID:23426-1706902200-1706907600@www.azdancecoalition.org
SUMMARY:ASU Dance - Transition Projects I
DESCRIPTION:Experience all four transitions projects. Transition Projects I is an unforgettable and dynamic showcase that unveils the remarkable artistic journey of BFA candidates as they reach the peak of their undergraduate experiences. Immerse yourself in an eclectic evening of creativity as emerging talents share their passion\, innovation\, and dedication to the world of dance. \nThe convergence of postmodern\, urban\, and hybrid dance aesthetics\, providing a rare opportunity to explore the ever-evolving landscape of movement expression. The stage comes alive with an array of original pieces meticulously crafted by these exceptional artists\, each embodying a unique perspective and vision. This captivating production transcends traditional boundaries\, offering an unfiltered glimpse into the minds and hearts of these BFA candidates. \nBreaking away from convention\, Transitions Projects I challenges the traditional confines of performance spaces. Feel the raw energy as performers venture beyond the proscenium arch\, taking the audience on a thrilling journey through alternative spaces. Experience the seamless integration of dance with unconventional environments\, infusing the performances with a fresh and exciting perspective. \nIn every step\, leap\, and gesture\, you will witness the culmination of years of dedication\, discipline\, and exploration. These young artists have honed their craft\, drawing from their experiences and influences to forge a new path in the world of dance. \nTransitions Projects I \nFeb. 2 at 7:30 p.m. \nFeb. 3 at 2:00 p.m. \nTransitions Projects II \nFeb. 3 at 7:30 p.m. \nFeb. 4 at 2:00 p.m. \nTransitions Projects III \nFeb. 9 at 7:30 p.m. \nFeb. 10 at 2:00 p.m. \nTransitions Projects IV \nFeb. 10 at 7:30 p.m. \nFeb. 11 at 2:00 p.m.
URL:https://www.azdancecoalition.org/event/asu-dance-transition-projects-i-2/
LOCATION:Margaret Gisolo Dance Studio Theatre\, 611 E Orange Street\, Tempe\, AZ\, 85281\, United States
CATEGORIES:Community Event
ATTACH;FMTTYPE=image/png:https://www.azdancecoalition.org/wp-content/uploads/2023/08/Transitions-I_II_III_IV-Large.png
ORGANIZER;CN="ASU Dance":MAILTO:carolyn.koch@asu.edu
END:VEVENT
BEGIN:VEVENT
DTSTART;TZID=America/Phoenix:20240202T200000
DTEND;TZID=America/Phoenix:20240202T210000
DTSTAMP:20260422T003915
CREATED:20230502T174354Z
LAST-MODIFIED:20240201T025354Z
UID:23148-1706904000-1706907600@www.azdancecoalition.org
SUMMARY:Hubbard Street Dance Chicago (Scottsdale)
DESCRIPTION:The mission of Hubbard Street Dance Chicago is to bring artists\, art\, and audiences together to enrich\, engage\, educate\, and change lives through the experience of dance. \nFor 46 years\, Hubbard Street has been one of the most original forces in contemporary dance—bringing top choreographers and works to Chicago and beyond. Hubbard Street’s ever-evolving repertory\, created by today’s leading choreographic voices\, makes it a company that dancers aspire to join and performance venues all over the world are eager to present. To date\, the main company has performed globally in 19 countries and 44 U.S. states. \nAt home in Chicago\, Hubbard Street performs 20 times a year and delivers renowned education programs in 50 classrooms across 17 Chicagoland schools. HSDC Education utilizes the choreographic process to teach essential problem-solving skills\, creativity\, and collaboration—expanding the company’s reach beyond traditional concert dance audiences and ensuring that everyone has access to world-class dance and instruction. \n“Hubbard Street Dance Chicago ought to bottle itself as a cure for the ills of the era.” — The New York Times \n“The company\, under the leadership of artistic director Linda-Denise Fisher-Harrell\, seems to be evolving … toward a commitment to the legacy and the here-and-now of Chicago and American dance.” — Chicago Reader
URL:https://www.azdancecoalition.org/event/hubbard-street-dance-chicago-3/
LOCATION:Scottsdale Center for the Performing Arts\, 7380 E Second St\, Scottsdale\, 85251\, United States
CATEGORIES:Dance Performance,Modern Contemporary
ATTACH;FMTTYPE=image/jpeg:https://www.azdancecoalition.org/wp-content/uploads/2023/05/Hubbard-Street-Dancers-in-THIS-THAT-AND-THE-THIRD-by-Rena-Butler.-Photo-by-Todd-Rosenberg-1-scaled.jpg
END:VEVENT
END:VCALENDAR