BEGIN:VCALENDAR
VERSION:2.0
PRODID:-//Arizona Dance Coalition - ECPv6.8.3//NONSGML v1.0//EN
CALSCALE:GREGORIAN
METHOD:PUBLISH
X-ORIGINAL-URL:https://www.azdancecoalition.org
X-WR-CALDESC:Events for Arizona Dance Coalition
REFRESH-INTERVAL;VALUE=DURATION:PT1H
X-Robots-Tag:noindex
X-PUBLISHED-TTL:PT1H
BEGIN:VTIMEZONE
TZID:America/Phoenix
BEGIN:STANDARD
TZOFFSETFROM:-0700
TZOFFSETTO:-0700
TZNAME:MST
DTSTART:20240101T000000
END:STANDARD
END:VTIMEZONE
BEGIN:VEVENT
DTSTART;TZID=America/Phoenix:20240328T190000
DTEND;TZID=America/Phoenix:20240328T210000
DTSTAMP:20260422T124622
CREATED:20231102T204403Z
LAST-MODIFIED:20231103T183740Z
UID:23841-1711652400-1711659600@www.azdancecoalition.org
SUMMARY:Ballet Arizona presents Contemporary Moves (Phoenix)
DESCRIPTION:March 28 – 31\, 2024\nat Orpheum Theatre\nSatisfy your craving for the new and unexpected at Contemporary Moves. Ballet Arizona presents an evening of daring works by Ib Andersen\, Paul Taylor\, and Nayon Iovino. \nRio\nChoreography: Ib Andersen\nMusic: Phillip Glass \nSet to Philip Glass’s “Days and Nights in Rocinha\,” Rio explores the movement and vivacity found in Brazilian culture\, featuring vibrant costumes and dynamic choreography. Inspired by samba\, this playful ballet recalls the joy of the country of Brazil. \nPiazzola Caldera\nArizona Premiere \nChoreography: Paul Taylor\nMusic: Astor Piazzolla\, Jerzy Peterburshsky \nPaul Taylor’s Piazzolla Caldera is a sensual exposé of tango as reinterpreted and reimagined with modern dance. Taylor honors the tradition of tango\, preserving the essence of the form in his choreography. \nA New Work by Nayon Iovino\nChoreography: Nayon Iovino \nWitness Resident Choreographer Nayon Iovino’s newest work\, which will finish off this evening of exquisite dancing.
URL:https://www.azdancecoalition.org/event/ballet-arizona-presents-contemporary-moves-phoenix-4/
LOCATION:Orpheum Theatre\, 203 W Adams St\, Phoenix\, AZ\, 85003\, United States
CATEGORIES:Ballet,Dance Performance
ATTACH;FMTTYPE=image/png:https://www.azdancecoalition.org/wp-content/uploads/2023/11/BAZ2_0220-2023-24-Season-Facebook-Event-Images_1920x1005_Cont-Moves-1.png
END:VEVENT
BEGIN:VEVENT
DTSTART;TZID=America/Phoenix:20240328T200000
DTEND;TZID=America/Phoenix:20240328T220000
DTSTAMP:20260422T124622
CREATED:20240302T000922Z
LAST-MODIFIED:20240302T001241Z
UID:24347-1711656000-1711663200@www.azdancecoalition.org
SUMMARY:MOVE: A Variety Dance Festival (Phoenix)
DESCRIPTION:MOVE: Variety Dance Festival\nWhen: March 28th\nDoors Open: 6:30PM\nShow Time: 8PM\nVenue: Herberger Theatre Center – Center Stage\nSelect Seating\n\n\nMOVE: A Variety Dance Festival is a one night event full of some of Arizona’s Hottest Dance Crews\, Companies\, Dancers and Choreographers all in one show at the grand theatre of Herberger Theater Center. Creative Director Eric Ramos is a prominent dance instructor in the Phoenix/Tempe community and aims to highlight and showcase the best of the best Arizona dance community has to offer. \nGuests are encouraged to dress in fashion forward attire! \n\n\n\nAGE RECOMMENDATION\nAge Recommendation 16+ \nTicket Price Range: $30-$35 \nInfo & Tickets: https://herbergertheater.org/events/move-variety-dance-festival/
URL:https://www.azdancecoalition.org/event/move-a-variety-dance-festival-phoenix/
LOCATION:Herberger Theater Center\, 222 E Monroe St\, Phoenix\, AZ\, United States
CATEGORIES:Breakdance,Dance Performance,Hip Hop,Hip Hop,Jazz Funk,Jazz Funk,Modern Contemporary,Urban,Variety Show
ATTACH;FMTTYPE=image/jpeg:https://www.azdancecoalition.org/wp-content/uploads/2024/02/Red-Black-Hip-Hop-Dance-Online-Class-Promotion-Instagram-Post-scaled.jpeg
ORGANIZER;CN="Alonso Ramos LLC / Erick Ramos":MAILTO:ericramosa95@gmail.com
END:VEVENT
END:VCALENDAR