BEGIN:VCALENDAR
VERSION:2.0
PRODID:-//Arizona Dance Coalition - ECPv6.8.3//NONSGML v1.0//EN
CALSCALE:GREGORIAN
METHOD:PUBLISH
X-ORIGINAL-URL:https://www.azdancecoalition.org
X-WR-CALDESC:Events for Arizona Dance Coalition
REFRESH-INTERVAL;VALUE=DURATION:PT1H
X-Robots-Tag:noindex
X-PUBLISHED-TTL:PT1H
BEGIN:VTIMEZONE
TZID:America/Phoenix
BEGIN:STANDARD
TZOFFSETFROM:-0700
TZOFFSETTO:-0700
TZNAME:MST
DTSTART:20240101T000000
END:STANDARD
END:VTIMEZONE
BEGIN:VEVENT
DTSTART;VALUE=DATE:20240729
DTEND;VALUE=DATE:20240826
DTSTAMP:20260421T114844
CREATED:20240729T223305Z
LAST-MODIFIED:20240729T223305Z
UID:25359-1722211200-1724630399@www.azdancecoalition.org
SUMMARY:Register Now for Classes with SCC Dance
DESCRIPTION:Interested in inexpensive\, high-quality dance training in a welcoming environment?  Consider taking day or evening classes with SCC Dance this fall!  We offer social dancing\, plus multiple levels of ballet\, modern\, jazz and hip hop.  Classes are only $97/credit hour for Maricopa County residents (most technique classes are only 1 credit).  Registration is open\, and classes begin Monday August 26th! \nQuestions? Contact ude.cceladsttocsnull@ecnadccs
URL:https://www.azdancecoalition.org/event/register-now-for-classes-with-scc-dance/
LOCATION:Scottsdale Community College\, PE Building\, Rm 135\, 9000 E. Chaparral Rd.\, Scottsdale\, AZ\, 85256\, United States
CATEGORIES:Ballet,Classes,Contemporary / Modern,Jazz Dance,Social Dance
ATTACH;FMTTYPE=image/png:https://www.azdancecoalition.org/wp-content/uploads/2024/07/Fall-2024-Registration-Print.png
END:VEVENT
BEGIN:VEVENT
DTSTART;VALUE=DATE:20240803
DTEND;VALUE=DATE:20240904
DTSTAMP:20260421T114844
CREATED:20240803T163226Z
LAST-MODIFIED:20240803T163226Z
UID:25415-1722643200-1725407999@www.azdancecoalition.org
SUMMARY:Dance Theater West - Fall Registration (Phoenix)
DESCRIPTION:DANCE THEATER WEST \nFALL  2024 \n\nStory Book Ballet Company\, \nClassical Ballet\, Modern\, Theater Dance. \nBallerinas Past their Prima Adult Ballet \nSusan Silverman\, Director \nCreative Ballet\, Classical Ballet\, Ballet-Jazz-Tap\, Musical Theatre \nFaculty: \nKatie Hughes\, Kelly Scovel\, Lisa Gray Young \nAdministrator:  Rachel Cohen \nHome of \nCenter Dance & Snow Queen – Amber Robins \nMovement Source Dance Company – Maryanne Herding \nDesert Dance Theatre – Lisa R. Chow & Step Raptis \nMusic Together – Kathy Rowe & Staff \nDaniel Baudendistel – Adult Ballet & Boys’ Ballet \nTBA – Morning Yoga & Mat Pilates \nFall Semester begins September 3\, 2024 \nRegister now \nClass Schedule\, tuition\, calendar\, contact info \nDANCETHEATERWEST.COM \nStory Book Ballet Company  &  Free Arts for Abused Children will present \nSleeping Beauty \nScottsdale Center for the Performing Arts    September 15\,    3 PM    \nAdmission Free     602.258.8100
URL:https://www.azdancecoalition.org/event/dance-theater-west-fall-registration-phoenix/
LOCATION:Dance Theater West\, 3925 East Indian School Road\, Phoenix\, 85018\, United States
CATEGORIES:Ballet,Choreography & Technique,Classes,Contemporary / Modern,Creative Movement,Jazz Dance,Musical Theater,Tap Dance
ATTACH;FMTTYPE=image/png:https://www.azdancecoalition.org/wp-content/uploads/2024/06/D2A8A32F-C932-46BD-9D31-72114A75A8C9.png
END:VEVENT
BEGIN:VEVENT
DTSTART;VALUE=DATE:20240808
DTEND;VALUE=DATE:20240820
DTSTAMP:20260421T114844
CREATED:20240808T162243Z
LAST-MODIFIED:20240808T170245Z
UID:25442-1723075200-1724111999@www.azdancecoalition.org
SUMMARY:Ballet Arizona - Calling All Dancers!
DESCRIPTION:Calling All Dancers!  \n\nBallet Arizona\, under the leadership of the Artistic Director Daniela Cardim\, is seeking professional male and female ballet dancers\, with strong classical ballet technique as well as strong partnering and contemporary dance abilities. To apply\, please send your CV\, headshot\, dance photos\, and links to videos (ballet and contemporary solos) to gro.zatellabnull@snoitidua. Audition by invitation only. Contract starting date: August 19th\, 2024\, or as soon as possible after that date.\n\n by Rosalie O’Connor (@rosalieoconnorphotography)
URL:https://www.azdancecoalition.org/event/calling-all-dancers-ballet-arizona-is-hiring/
LOCATION:AZ
CATEGORIES:Audition,Ballet,Contemporary/Modern
ATTACH;FMTTYPE=image/jpeg:https://www.azdancecoalition.org/wp-content/uploads/2024/08/453980839_1022850382541129_5063653240282277366_n.jpg
END:VEVENT
BEGIN:VEVENT
DTSTART;VALUE=DATE:20240808
DTEND;VALUE=DATE:20240901
DTSTAMP:20260421T114844
CREATED:20240808T173712Z
LAST-MODIFIED:20240808T181030Z
UID:25449-1723075200-1725148799@www.azdancecoalition.org
SUMMARY:Ballet Arizona is Hiring
DESCRIPTION:Interested in working with Ballet Arizona? We’re hiring for several exciting positions across our company!  Check out our open roles:• Marketing Coordinator• Teaching Artist for our Community Engagement Programs• Front Desk Assistant• Assistant Stage ManagerTo apply and learn more about each position\, visit balletaz.org or find the direct link in our bio.  by Rosalie O’Connor (@rosalieoconnorphotography) \nCareers
URL:https://www.azdancecoalition.org/event/ballet-arizona-is-hiring/
LOCATION:AZ
ATTACH;FMTTYPE=image/jpeg:https://www.azdancecoalition.org/wp-content/uploads/2024/08/453598058_1019669566192544_4807065981817139987_n.jpg
END:VEVENT
BEGIN:VEVENT
DTSTART;TZID=America/Phoenix:20240818T100000
DTEND;TZID=America/Phoenix:20240818T113000
DTSTAMP:20260421T114844
CREATED:20240713T103344Z
LAST-MODIFIED:20240805T153844Z
UID:25272-1723975200-1723980600@www.azdancecoalition.org
SUMMARY:ZUZI! Adult Beginner Ballet (Tucson)
DESCRIPTION:Tailored for complete beginners who have always wished to try ballet or those revisiting the art\, these drop in classes cover essential techniques\, posture\, and ballet knowledge. Develop your artistry in an inviting environment. No prior experience necessary\, modifications will be offered throughout each class. To register\, drop in at the studio or pre-register online.
URL:https://www.azdancecoalition.org/event/adult-beginner-ballet-2024-08-18/
LOCATION:sYnapse Studio Y\, 650 N. 6th Ave. ​\, Tucson\, AZ\, 85705\, United States
ATTACH;FMTTYPE=image/png:https://www.azdancecoalition.org/wp-content/uploads/2024/07/Leah-Ballet-Classes-Flyer-2.png
END:VEVENT
BEGIN:VEVENT
DTSTART;TZID=America/Phoenix:20240818T130000
DTEND;TZID=America/Phoenix:20240818T140000
DTSTAMP:20260421T114844
CREATED:20240803T181259Z
LAST-MODIFIED:20240812T235321Z
UID:25423-1723986000-1723989600@www.azdancecoalition.org
SUMMARY:BlakTinx - Family Funday at Phoenix Art Museum
DESCRIPTION:Join us for Family Funday at PHX Art Museum on August 18th! \n\n\n\nCelebrate a day of FREE dance performances featuring talented artists: @angelicamariepena @delia_d_i @e_hype00 @cruzcontrolcollective @jennygerena @ullianaserna @congolesedanceraz @shaniecebmovement\n\n\n\nShowtimes:\n\n Show #1 at 1:00 PM:\nJenny Gerena\nShaniece Brazwell\nUlliana Serna\nShanaleigh Mejia\n\n\n\n Show #2 at 3:00 PM:\nElva Howard\nDelia Ibanez\nFelix Cruz\nAngelica Pena\n\nMark your calendars and arrive early—parking is limited and the event draws a large crowd! \n\n\n\n PHX Art Museum  August 18th\n\n\nSee you there!  #BlakTinx #FamilyFunday #DanceFestival #PHXArtMuseum #FreeEvent #CommunityDance
URL:https://www.azdancecoalition.org/event/blaktinx-family-funday-at-phoenix-art-museum/
LOCATION:Phoenix Art Museum\, 1625 N. Central Avenue\, Phoenix\, 85004\, United States
CATEGORIES:African,Dance Performance,Modern Contemporary
ATTACH;FMTTYPE=image/jpeg:https://www.azdancecoalition.org/wp-content/uploads/2024/08/452972782_18443600080065146_7512177006362512437_n.jpg
ORGANIZER;CN="BlakTinxDance":MAILTO:blaktinafestival@gmail.com
END:VEVENT
BEGIN:VEVENT
DTSTART;TZID=America/Phoenix:20240818T150000
DTEND;TZID=America/Phoenix:20240818T160000
DTSTAMP:20260421T114844
CREATED:20240803T181259Z
LAST-MODIFIED:20240803T182018Z
UID:25426-1723993200-1723996800@www.azdancecoalition.org
SUMMARY:BlakTinx - Family Funday at Phoenix Art Museum
DESCRIPTION:Join us for Family Funday at PHX Art Museum on August 18th! \n\n\n\nCelebrate a day of FREE dance performances featuring talented artists: @angelicamariepena @delia_d_i @e_hype00 @cruzcontrolcollective @jennygerena @ullianaserna @congolesedanceraz @shaniecebmovement\n\n\n\nShowtimes:\n\n Show #1 at 1:00 PM:\nJenny Gerena\nShaniece Brazwell\nUlliana Serna\nShanaleigh Mejia\n\n\n\n Show #2 at 3:00 PM:\nElva Howard\nDelia Ibanez\nFelix Cruz\nAngelica Pena\n\nMark your calendars and arrive early—parking is limited and the event draws a large crowd! \n\n\n\n PHX Art Museum  August 18th\n\n\nSee you there!  #BlakTinx #FamilyFunday #DanceFestival #PHXArtMuseum #FreeEvent #CommunityDance
URL:https://www.azdancecoalition.org/event/blaktinx-family-funday-at-phoenix-art-museum-2/
LOCATION:Phoenix Art Museum\, 1625 N. Central Avenue\, Phoenix\, 85004\, United States
CATEGORIES:African,Dance Performance,Modern Contemporary
ATTACH;FMTTYPE=image/jpeg:https://www.azdancecoalition.org/wp-content/uploads/2024/08/453060186_18443600083065146_37702114564570774_n.jpg
ORGANIZER;CN="BlakTinxDance":MAILTO:blaktinafestival@gmail.com
END:VEVENT
END:VCALENDAR