BEGIN:VCALENDAR
VERSION:2.0
PRODID:-//Arizona Dance Coalition - ECPv6.8.3//NONSGML v1.0//EN
CALSCALE:GREGORIAN
METHOD:PUBLISH
X-ORIGINAL-URL:https://www.azdancecoalition.org
X-WR-CALDESC:Events for Arizona Dance Coalition
REFRESH-INTERVAL;VALUE=DURATION:PT1H
X-Robots-Tag:noindex
X-PUBLISHED-TTL:PT1H
BEGIN:VTIMEZONE
TZID:America/Phoenix
BEGIN:STANDARD
TZOFFSETFROM:-0700
TZOFFSETTO:-0700
TZNAME:MST
DTSTART:20240101T000000
END:STANDARD
END:VTIMEZONE
BEGIN:VEVENT
DTSTART;VALUE=DATE:20240729
DTEND;VALUE=DATE:20240826
DTSTAMP:20260421T095922
CREATED:20240729T223305Z
LAST-MODIFIED:20240729T223305Z
UID:25359-1722211200-1724630399@www.azdancecoalition.org
SUMMARY:Register Now for Classes with SCC Dance
DESCRIPTION:Interested in inexpensive\, high-quality dance training in a welcoming environment?  Consider taking day or evening classes with SCC Dance this fall!  We offer social dancing\, plus multiple levels of ballet\, modern\, jazz and hip hop.  Classes are only $97/credit hour for Maricopa County residents (most technique classes are only 1 credit).  Registration is open\, and classes begin Monday August 26th! \nQuestions? Contact ude.cceladsttocsnull@ecnadccs
URL:https://www.azdancecoalition.org/event/register-now-for-classes-with-scc-dance/
LOCATION:Scottsdale Community College\, PE Building\, Rm 135\, 9000 E. Chaparral Rd.\, Scottsdale\, AZ\, 85256\, United States
CATEGORIES:Ballet,Classes,Contemporary / Modern,Jazz Dance,Social Dance
ATTACH;FMTTYPE=image/png:https://www.azdancecoalition.org/wp-content/uploads/2024/07/Fall-2024-Registration-Print.png
END:VEVENT
BEGIN:VEVENT
DTSTART;VALUE=DATE:20240803
DTEND;VALUE=DATE:20240904
DTSTAMP:20260421T095922
CREATED:20240803T163226Z
LAST-MODIFIED:20240803T163226Z
UID:25415-1722643200-1725407999@www.azdancecoalition.org
SUMMARY:Dance Theater West - Fall Registration (Phoenix)
DESCRIPTION:DANCE THEATER WEST \nFALL  2024 \n\nStory Book Ballet Company\, \nClassical Ballet\, Modern\, Theater Dance. \nBallerinas Past their Prima Adult Ballet \nSusan Silverman\, Director \nCreative Ballet\, Classical Ballet\, Ballet-Jazz-Tap\, Musical Theatre \nFaculty: \nKatie Hughes\, Kelly Scovel\, Lisa Gray Young \nAdministrator:  Rachel Cohen \nHome of \nCenter Dance & Snow Queen – Amber Robins \nMovement Source Dance Company – Maryanne Herding \nDesert Dance Theatre – Lisa R. Chow & Step Raptis \nMusic Together – Kathy Rowe & Staff \nDaniel Baudendistel – Adult Ballet & Boys’ Ballet \nTBA – Morning Yoga & Mat Pilates \nFall Semester begins September 3\, 2024 \nRegister now \nClass Schedule\, tuition\, calendar\, contact info \nDANCETHEATERWEST.COM \nStory Book Ballet Company  &  Free Arts for Abused Children will present \nSleeping Beauty \nScottsdale Center for the Performing Arts    September 15\,    3 PM    \nAdmission Free     602.258.8100
URL:https://www.azdancecoalition.org/event/dance-theater-west-fall-registration-phoenix/
LOCATION:Dance Theater West\, 3925 East Indian School Road\, Phoenix\, 85018\, United States
CATEGORIES:Ballet,Choreography & Technique,Classes,Contemporary / Modern,Creative Movement,Jazz Dance,Musical Theater,Tap Dance
ATTACH;FMTTYPE=image/png:https://www.azdancecoalition.org/wp-content/uploads/2024/06/D2A8A32F-C932-46BD-9D31-72114A75A8C9.png
END:VEVENT
BEGIN:VEVENT
DTSTART;VALUE=DATE:20240808
DTEND;VALUE=DATE:20240901
DTSTAMP:20260421T095922
CREATED:20240808T173712Z
LAST-MODIFIED:20240808T181030Z
UID:25449-1723075200-1725148799@www.azdancecoalition.org
SUMMARY:Ballet Arizona is Hiring
DESCRIPTION:Interested in working with Ballet Arizona? We’re hiring for several exciting positions across our company!  Check out our open roles:• Marketing Coordinator• Teaching Artist for our Community Engagement Programs• Front Desk Assistant• Assistant Stage ManagerTo apply and learn more about each position\, visit balletaz.org or find the direct link in our bio.  by Rosalie O’Connor (@rosalieoconnorphotography) \nCareers
URL:https://www.azdancecoalition.org/event/ballet-arizona-is-hiring/
LOCATION:AZ
ATTACH;FMTTYPE=image/jpeg:https://www.azdancecoalition.org/wp-content/uploads/2024/08/453598058_1019669566192544_4807065981817139987_n.jpg
END:VEVENT
BEGIN:VEVENT
DTSTART;TZID=America/Phoenix:20240819T090000
DTEND;TZID=America/Phoenix:20240824T150000
DTSTAMP:20260421T095922
CREATED:20240722T223222Z
LAST-MODIFIED:20240803T172547Z
UID:25336-1724058000-1724511600@www.azdancecoalition.org
SUMMARY:Dance Fusion August 2024 Open House Week (Scottsdale)
DESCRIPTION:FREE week of Classes for anyone new to a class!\nMonday\, August 19th – Saturday\, August 24th\nYouth\, Teens and Adults\nAll levels\nRegister online or just drop in!
URL:https://www.azdancecoalition.org/event/dance-fusion-august-2024-open-house-week/
LOCATION:Dance Fusion\, 7601 E Gray Rd Suite B\, Scottsdale\, AZ\, 85260\, United States
CATEGORIES:Ballet,Belly Dance,Belly Dance / Mid-Eastern,Choreography & Technique,Classes,Hip Hop,Hip Hop,Jazz Dance,Musical Theater,Tap Dance
ATTACH;FMTTYPE=image/jpeg:https://www.azdancecoalition.org/wp-content/uploads/2024/07/August2024OpeHouseWeek.jpg
END:VEVENT
BEGIN:VEVENT
DTSTART;TZID=America/Phoenix:20240823T190000
DTEND;TZID=America/Phoenix:20240823T210000
DTSTAMP:20260421T095922
CREATED:20240803T115807Z
LAST-MODIFIED:20240803T181516Z
UID:25395-1724439600-1724446800@www.azdancecoalition.org
SUMMARY:BlakTinx Dance Festival Phoenix 2024
DESCRIPTION:Hello August! Save the date for the BlakTinx Dance Festival at the KAX Stage on August 23rd and 24th!Showtimes:•Friday\, August 23 at 7:00 PM•Saturday\, August 24 at 2:00 PM and 7:00 PMLocation:Herberger Theater KAX Stage @herbergertheater This year’s festival features performances by @steven_round @julstarango @jaquay.w@angelarbass @_lotusxn_ @prince.ofchaos@ali.adelis @jae_beau We are excited to welcome special guests from our sister festival in LA: @primerageneraciondance and the duo @stephenandaisha Plus\, don’t miss the legendary b-boy @bboyhouse as our special AZ invited guest. This show is not to be missed!Tickets: $27.50You know we sell out\, so grab your ticket today! DO NOT wait for the week of! Ticket link in bio! Huge shout out to @stvn.rdno for creating this years graphic campaign\, go check them out!
URL:https://www.azdancecoalition.org/event/blaktinx-dance-festival-phoenix-2024/
LOCATION:KAX Theater at Herberger Theater Center\, 222 E. Monroe Street\, Phoenix\, AZ\, 85004\, United States
CATEGORIES:African,Dance Performance,Hip Hop,Modern Contemporary
ATTACH;FMTTYPE=image/jpeg:https://www.azdancecoalition.org/wp-content/uploads/2024/08/453720225_18444802405065146_1724772822251877379_n.jpg
ORGANIZER;CN="BlakTinxDance":MAILTO:blaktinafestival@gmail.com
END:VEVENT
END:VCALENDAR