BEGIN:VCALENDAR
VERSION:2.0
PRODID:-//Arizona Dance Coalition - ECPv6.8.3//NONSGML v1.0//EN
CALSCALE:GREGORIAN
METHOD:PUBLISH
X-ORIGINAL-URL:https://www.azdancecoalition.org
X-WR-CALDESC:Events for Arizona Dance Coalition
REFRESH-INTERVAL;VALUE=DURATION:PT1H
X-Robots-Tag:noindex
X-PUBLISHED-TTL:PT1H
BEGIN:VTIMEZONE
TZID:America/Phoenix
BEGIN:STANDARD
TZOFFSETFROM:-0700
TZOFFSETTO:-0700
TZNAME:MST
DTSTART:20240101T000000
END:STANDARD
END:VTIMEZONE
BEGIN:VEVENT
DTSTART;TZID=America/Phoenix:20240922T100000
DTEND;TZID=America/Phoenix:20240922T113000
DTSTAMP:20260422T004040
CREATED:20240713T103344Z
LAST-MODIFIED:20240805T153855Z
UID:25277-1726999200-1727004600@www.azdancecoalition.org
SUMMARY:ZUZI! Adult Beginner Ballet (Tucson)
DESCRIPTION:Tailored for complete beginners who have always wished to try ballet or those revisiting the art\, these drop in classes cover essential techniques\, posture\, and ballet knowledge. Develop your artistry in an inviting environment. No prior experience necessary\, modifications will be offered throughout each class. To register\, drop in at the studio or pre-register online.
URL:https://www.azdancecoalition.org/event/adult-beginner-ballet-2024-09-22/
LOCATION:sYnapse Studio Y\, 650 N. 6th Ave. ​\, Tucson\, AZ\, 85705\, United States
ATTACH;FMTTYPE=image/png:https://www.azdancecoalition.org/wp-content/uploads/2024/07/Leah-Ballet-Classes-Flyer-2.png
END:VEVENT
END:VCALENDAR