BEGIN:VCALENDAR
VERSION:2.0
PRODID:-//Arizona Dance Coalition - ECPv6.8.3//NONSGML v1.0//EN
CALSCALE:GREGORIAN
METHOD:PUBLISH
X-WR-CALNAME:Arizona Dance Coalition
X-ORIGINAL-URL:https://www.azdancecoalition.org
X-WR-CALDESC:Events for Arizona Dance Coalition
REFRESH-INTERVAL;VALUE=DURATION:PT1H
X-Robots-Tag:noindex
X-PUBLISHED-TTL:PT1H
BEGIN:VTIMEZONE
TZID:America/Phoenix
BEGIN:STANDARD
TZOFFSETFROM:-0700
TZOFFSETTO:-0700
TZNAME:MST
DTSTART:20240101T000000
END:STANDARD
END:VTIMEZONE
BEGIN:VEVENT
DTSTART;VALUE=DATE:20241001
DTEND;VALUE=DATE:20241116
DTSTAMP:20260423T011727
CREATED:20240930T230534Z
LAST-MODIFIED:20241109T192005Z
UID:25769-1727740800-1731715199@www.azdancecoalition.org
SUMMARY:SCC Dance's Creative Connections (C2) Choreography Competition
DESCRIPTION:To all choreographers at the high school and professional level — consider submitting your work-in-progress or completed work to SCC Dance’s Creative Connections Choreography Competition!\nOne high school dance program will be chosen to: \n\nHave a $300 scholarship reserved at SCC for a designated graduate from their program\nPerform the winning selection in the SCC Images in Motion dance concert*\n\nOne professional dance company will be chosen to: \n\nReceive a $800 award\nPerform the winning selection in the SCC Images in Motion dance concert*\n\nClick here for more information\, eligibility\, and to apply.  Application is due November 15th at 11:59pm. \n*The SCC Images in Motion dance concert is Friday\, December 6th & Saturday\, December 7th\, 2024.
URL:https://www.azdancecoalition.org/event/scc-dances-creative-connections-c2-choreography-competition/
LOCATION:Scottsdale Community College Performing Arts Center\, 9000 E. Chaparral Rd.\, Scottsdale\, AZ\, 85256\, United States
CATEGORIES:Call for Choreographers,CONTEST
ATTACH;FMTTYPE=image/png:https://www.azdancecoalition.org/wp-content/uploads/2024/09/C2-Choreography-Comp-Fall-2024.png
END:VEVENT
BEGIN:VEVENT
DTSTART;TZID=America/Phoenix:20241001T080000
DTEND;TZID=America/Phoenix:20241031T170000
DTSTAMP:20260423T011727
CREATED:20240913T192027Z
LAST-MODIFIED:20240926T231033Z
UID:25641-1727769600-1730394000@www.azdancecoalition.org
SUMMARY:Free Dance Class at Paradise Valley Community College (Phoenix)
DESCRIPTION:FREE DANCE CLASS AT PARADISE VALLEY COMMUNITY COLLEGE \nJoin us for one free dance class in the month of October at Paradise Valley Community College.   18401 N. 32nd Street\, Phoenix AZ 85032.  Building “F”\, Room F133. \nThe PVCC Dance Program invites you to a free dance class in Ballet\, Modern\, Jazz\, Belly Dance\, Ballroom\, Swing or Latin Dance. \n\nParticipants must be at least 16 years old to participate.\nStudents 16-18 years old must have a parent with them in order to participate.  The parent will sign an assumption of risk form prior to participation.\nAll participants must sign an assumption of risk form prior to participating\nPlease arrive at least 5 minutes prior to the start of the class.\n\nForm more information contact Sonia Valle at 602-787-6808 or at ude.yellavesidarapnull@ellav.ainos. \nFree Dance Class at PVCC
URL:https://www.azdancecoalition.org/event/free-dance-class-at-paradise-valley-community-college-phoenix/
LOCATION:Paradise Valley Community College\, 18401 N 32nd St. \, Phoenix\, AZ\, 85032\, United States
CATEGORIES:Ballet,Belly Dance,Classes,Jazz Dance,Latin Dance / Salsa,Swing Dance
ATTACH;FMTTYPE=application/pdf:https://www.azdancecoalition.org/wp-content/uploads/2024/09/Copy-of-PVCC-Flier-Template-2-1.pdf
END:VEVENT
BEGIN:VEVENT
DTSTART;TZID=America/Phoenix:20241014T160000
DTEND;TZID=America/Phoenix:20241014T170000
DTSTAMP:20260423T011727
CREATED:20240719T162302Z
LAST-MODIFIED:20241007T231341Z
UID:25826-1728921600-1728925200@www.azdancecoalition.org
SUMMARY:Contemporary Modern Fall Classes (Tucson)
DESCRIPTION:This open level class explores modern and postmodern dance in a fun and inviting environment. Drawing from release technique\, floorwork and contemporary dance\, the class offers a dynamic exploration of movement and musicality allowing for personal growth and artistic exploration. Appropriate for movers with some dance experience to more advanced movers\, the class can be modified to your level of dancing.
URL:https://www.azdancecoalition.org/event/contemporary-modern-fall-classes-2024-10-14/
LOCATION:sYnapse Studio Y\, 650 N. 6th Ave. ​\, Tucson\, AZ\, 85705\, United States
ATTACH;FMTTYPE=image/png:https://www.azdancecoalition.org/wp-content/uploads/2024/07/Jamey-Classes-2024-4.png
END:VEVENT
BEGIN:VEVENT
DTSTART;TZID=America/Phoenix:20241014T161500
DTEND;TZID=America/Phoenix:20241014T184500
DTSTAMP:20260423T011727
CREATED:20241004T223903Z
LAST-MODIFIED:20241004T223903Z
UID:25777-1728922500-1728931500@www.azdancecoalition.org
SUMMARY:Indígena: A Latin American Indigenous Celebration (Tempe)
DESCRIPTION:Indígena: A Latin American Indigenous Celebration\n\n\n\n\n\nDate: Monday\, October 14\, 2024\n4:30 p.m. to 6:45 p.m.\nCost: FREE\nTempe Center for the Arts\, 700 W. Rio Salado Parkway\, Tempe\, Arizona 85281 \n\n\n\n\n\n\nPresented by Tempe Center for the Arts\, enjoy an evening celebrating the indigenous peoples of Latin America curated by Cultural Coalition\, Inc. Explore the indígena artistic traditions of dance\, music and storytelling\, ancestral dancers\, and musical sounds from Latin America. Families are invited to participate in this free program with art-making activities throughout the evening. \nMORE INFORMATION AT TEMPECENTERFORTHEARTS.COM \n  \nEnjoy an evening celebrating the indigenous peoples of Latin America\, presented by TCA and curated by Cultural Coalition\, Inc. Explore the indígena artistic traditions of dance\, music and storytelling\, ancestral dancers\, and musical sounds from Latin America. Families are invited to participate in this free program with art-making activities throughout the evening. \nDisfrute de una velada que celebra a los pueblos indígenas de América Latina\, presentada por TCA y curada por Cultural Coalition\, Inc. Explore las tradiciones artísticas indígenas de danza\, música y narración de cuentos\, bailarines ancestrales y sonidos musicales de América Latina. Las familias están invitadas a participar en este programa gratuito con actividades de creación artística durante toda la noche. \nFREE Event: no tickets required\nTime:  4:15 pm – 6:45 pm \nSchedule:\n4:15 – 4:30 pm | Welcome by Zarco Guerrero w/ Flute and Charango music\n4:30 – 5:00 pm | Coatlicue Danza Mexica\n5:00 – 5:30 pm | Los Waukis Andinos\n5:30 – 5:45 pm | Patricia Federico – Traditional Healing Practices Presentation\n5:45 – 6:15 pm | Los Waukis Andinos\n6:15 – 6:45 pm | Coatlicue Danza Mexica \n5:00 – 6:45 pm | Kids Art Activity w/ artist Monica Gisel \n\n \nLos Waukis Andinos is a musical group specializing in the folk and traditional music of the Andes region of South America. “Los Waukis” means “the brothers” in the Quechua language – a phras that reflects the diversity of backgrounds and influences of the band members\, who hail from Peru\, Bolivia\, and Mexico\, yet who are united in their shared love for the music of the Andes.\nhttps://www.instagram.com/loswaukis/ \n  \n \nCoatlicue Danza Mexica consists of families of all ages that have dedicated themselves to preserving the teachings of traditional Danza Azteca through its Jefes\, Jose and Helga Garza. Danza is an agricultural harmonious prayer in motion that involves the acknowledgment of sacred elements while embracing our own energy to maintain balance. These Guerreros de Luz\, warriors of light\, continue to share and teach the community through prayer in motion\, flor y canto\, flowers and song\, the beauty of our ancestors\, land\, and life. \n \nA trusted advisor to leaders\, achievers and people from all walks of life\, Patricia Federico focuses on spiritual comfort and insight\, emotional healing\, and limpias through her traditional teachings. She is also the creator of Madre Tierra Stress-Relief Mist and Nurture Lavender Body Soother\, signature formulas which aid with anxiety and pain through their scent and molecular-nutritive properties. Patricia is a speaker whose compassionate\, humorous teaching style engages\, inspires and uplifts her listeners.
URL:https://www.azdancecoalition.org/event/indigena-a-latin-american-indigenous-celebration-tempe/
LOCATION:Tempe Center for the Arts\, 700 West Rio Salado Parkway\, Tempe\, 85281\, United States
CATEGORIES:Ballet Folklorico,Community Event,Dance Performance,Ethnic,Festival,Indigenous,Indigenous,Native American
ATTACH;FMTTYPE=image/webp:https://www.azdancecoalition.org/wp-content/uploads/2024/10/Indigenasocial-2.webp
END:VEVENT
END:VCALENDAR