BEGIN:VCALENDAR
VERSION:2.0
PRODID:-//Arizona Dance Coalition - ECPv6.8.3//NONSGML v1.0//EN
CALSCALE:GREGORIAN
METHOD:PUBLISH
X-ORIGINAL-URL:https://www.azdancecoalition.org
X-WR-CALDESC:Events for Arizona Dance Coalition
REFRESH-INTERVAL;VALUE=DURATION:PT1H
X-Robots-Tag:noindex
X-PUBLISHED-TTL:PT1H
BEGIN:VTIMEZONE
TZID:America/Phoenix
BEGIN:STANDARD
TZOFFSETFROM:-0700
TZOFFSETTO:-0700
TZNAME:MST
DTSTART:20240101T000000
END:STANDARD
END:VTIMEZONE
BEGIN:VEVENT
DTSTART;TZID=America/Phoenix:20241214T100000
DTEND;TZID=America/Phoenix:20241214T114500
DTSTAMP:20260422T014859
CREATED:20241007T232235Z
LAST-MODIFIED:20241112T181146Z
UID:25878-1734170400-1734176700@www.azdancecoalition.org
SUMMARY:Solstice Community Workshop (Tucson)
DESCRIPTION:Performers of all ages and experiences are invited to participate in this 4 week workshop that combines dance and literary art. Please read the important dates below. All questions can be sent to moc.liamgnull@erehpsizuz \nWORKSHOP CLASSES \nNovember 23-December 14 \nSaturdays 10-11:30 AM \nTECH/DRESS REHEARSAL \nWednesday\, December 18th \nThursday\, Decemeber 19th \n4-10pm \nPERFORMANCES \nFriday\, December 20th \nCall: 5 PM \nShow Curtain: 7:30 PM \nSaturday\, December 21th \nCall: 12:30 PM \nMatinee: 2 PM \nEvening Curtain: 7:30 PM \nWORKSHOP COST \n$120
URL:https://www.azdancecoalition.org/event/solstice-community-workshop-2024-12-14/
LOCATION:sYnapse Studio Y\, 650 N. 6th Ave. ​\, Tucson\, AZ\, 85705\, United States
ATTACH;FMTTYPE=image/png:https://www.azdancecoalition.org/wp-content/uploads/2024/10/Solstice-Community-Workshop-Flyer-2.png
END:VEVENT
BEGIN:VEVENT
DTSTART;TZID=America/Phoenix:20241214T140000
DTEND;TZID=America/Phoenix:20241214T160000
DTSTAMP:20260422T014859
CREATED:20241018T223357Z
LAST-MODIFIED:20241204T222359Z
UID:26551-1734184800-1734192000@www.azdancecoalition.org
SUMMARY:Convergence Ballet Presents The Nutcracker (Phoenix)
DESCRIPTION:Experience the magic of The Nutcracker with Convergence Ballet at the historic Herberger Theater Center Dec. 14th and 15th. An enchanting production for all that features students from The Ballet Theatre of Phoenix. Tickets on sale now! \nDec. 14th\, 2:00pm & 7:00pm \nDec. 15th\, 11:00am & 3:00pm
URL:https://www.azdancecoalition.org/event/convergence-ballet-presents-the-nutcracker-phoenix-3/
LOCATION:Herberger Theater Center\, 222 E Monroe St\, Phoenix\, AZ\, United States
CATEGORIES:Ballet,Community Event,DANCE HOLIDAY,Dance Performance,Performance Art
ATTACH;FMTTYPE=image/jpeg:https://www.azdancecoalition.org/wp-content/uploads/2023/10/Convergence-Ballet-scaled.jpg
ORGANIZER;CN="Convergence Ballet Company":MAILTO:info@convergenceballet.org
END:VEVENT
BEGIN:VEVENT
DTSTART;TZID=America/Phoenix:20241214T140000
DTEND;TZID=America/Phoenix:20241214T160000
DTSTAMP:20260422T014859
CREATED:20241112T214554Z
LAST-MODIFIED:20241112T214554Z
UID:26671-1734184800-1734192000@www.azdancecoalition.org
SUMMARY:Ballet Arizona presents The Nutcracker (Phoenix)
DESCRIPTION:The Nutcracker\n\n\n\nwith live music by The Phoenix Symphony \n\n\n\n\n\n\nDecember 6 – 24\, 2024 \nSymphony Hall \n\n\n\n\n\n\n\nChoreography: Ib Andersen \nMusic: Pyotr Ilyich Tchaikovsky \nBallet Arizona returns to Symphony Hall in grand fashion with this holiday classic. Celebrate the joy and wonder of the season with Ib Andersen’s The Nutcracker as Tchaikovsky’s cherished score is masterfully performed by The Phoenix Symphony. Follow Clara’s wintry adventures as she battles mischievous mice and charms the Sugar Plum Fairy. Whether this is your first Nutcracker or your 101st\, this heartwarming tradition never fails to enchant and draw smiles from all! \nPerformances
URL:https://www.azdancecoalition.org/event/ballet-arizona-presents-the-nutcracker-2024-12-14/
LOCATION:Phoenix Symphony Hall\, 100 N. 3rd Street\, Phoenix\, AZ\, 85004\, United States
CATEGORIES:Ballet,Dance Performance
ATTACH;FMTTYPE=image/png:https://www.azdancecoalition.org/wp-content/uploads/2024/11/464919999_1080486696777497_3984601274290245833_n.png
END:VEVENT
BEGIN:VEVENT
DTSTART;TZID=America/Phoenix:20241214T140000
DTEND;TZID=America/Phoenix:20241214T160000
DTSTAMP:20260422T014859
CREATED:20241205T004500Z
LAST-MODIFIED:20241205T011752Z
UID:26631-1734184800-1734192000@www.azdancecoalition.org
SUMMARY:Ballet Etudes present The Nutcracker (Mesa)
DESCRIPTION:Ballet Etudes present The Nutcracker\nJoin Ballet Etudes for our 38th annual production of The Nutcracker! Let Clara’s magical journey surround you as she encounters life-size mice\, swirling snowflakes\, dancing confections and the Sugar Plum Fairy. A feast for the eyes and ears with colorful costumes paired with Tchaikovsky’s original score\, Ballet Etudes’ Nutcracker is the perfect way to celebrate the holiday season with the entire family. \nCHANDLER CENTER FOR THE ARTS \nFriday\, November 29 at 7 pm \nSaturday\, November 30 at 2 pm and 7 pm \nSunday\, December 1 at 3 pm \nFriday\, December 6 at 7 pm \nSaturday\, December 7 at 1 pm and 4:30 pm \nSunday\, December 8 at 3:00 pm \n\n\nMESA ARTS CENTER \nSaturday\, December 14 at 2 pm and 7 pm \nSunday\, December 15 at 3 pm \nSaturday\, December 21 at 2 pm and 7 pm \nSunday\, December 22 at 3 pm
URL:https://www.azdancecoalition.org/event/ballet-etudes-present-the-nutcracker-mesa/
LOCATION:Mesa Arts Center\, One East Main Street\, Mesa\, AZ\, 85201\, United States
CATEGORIES:Ballet,Dance Performance
ATTACH;FMTTYPE=image/jpeg:https://www.azdancecoalition.org/wp-content/uploads/2024/12/462596169_1038651928268665_1059217674883311_n.jpg
ORGANIZER;CN="Ballet Etudes":MAILTO:info@balletetudes.net
END:VEVENT
BEGIN:VEVENT
DTSTART;TZID=America/Phoenix:20241214T140000
DTEND;TZID=America/Phoenix:20241214T160000
DTSTAMP:20260422T014859
CREATED:20241205T213002Z
LAST-MODIFIED:20241205T213217Z
UID:26705-1734184800-1734192000@www.azdancecoalition.org
SUMMARY:CaZo's Adventures of Frosty's Missing Hat (Tempe)
DESCRIPTION:Our Annual Winter show is NEXT SATURDAY AT Tempe Center for the Arts at 2pm and 7pm! Our students and professionals would love your support and fill your heart with warmth and cheer this holiday season! \n\n\n\nGet ready for a heartwarming holiday adventure like no other! The Adventures of Frosty’s Missing Hat\, an original narrated story by Bridgette Borzillo and Bryan Caron\, brings together beloved characters from classic Christmas tales like How the Grinch Stole Christmas\, Frosty the Snowman\, The Year Without a Santa Claus\, Rudolph and the Land of Misfit Toys\, and The Nightmare Before Christmas. This fresh\, fun twist will have you hooked from the start! \nFrosty’s magical hat has gone missing\, leaving him frozen solid. It’s up to his best friend\, Karen\, to find it and bring it back. She’s not alone though—she gathers a team of familiar friends\, including Professor Hinkle\, Cindy Lou Who\, the Grinch\, and Sally\, to embark on this festive mission. Along the way\, they face obstacles\, build new friendships\, and discover the true meaning of love and joy. \nJoin the talented students of CaZo Dance Center and CaZo Dance Theatre Professionals as they dazzle and inspire you through this heartfelt journey of friendship and self-love. Don’t miss out on this enchanting holiday experience! \n\nhttps://www.tempecenterforthearts.com/Home/Components/Calendar/Event/78711/5071
URL:https://www.azdancecoalition.org/event/cazos-adventures-of-frostys-missing-hat-tempe/
LOCATION:Tempe Center for the Arts Studio\, 700 West Rio Salado Parkway\, Tempe\, AZ\, United States
CATEGORIES:Dance Performance,Modern Contemporary
ATTACH;FMTTYPE=image/jpeg:https://www.azdancecoalition.org/wp-content/uploads/2024/12/469212747_1157685453032016_7217420090724250041_n.jpg
ORGANIZER;CN="CaZo Dance Theatre":MAILTO:cazodancecompany@gmail.com
END:VEVENT
BEGIN:VEVENT
DTSTART;TZID=America/Phoenix:20241214T150000
DTEND;TZID=America/Phoenix:20241214T170000
DTSTAMP:20260422T014859
CREATED:20241205T203631Z
LAST-MODIFIED:20241205T204029Z
UID:26685-1734188400-1734195600@www.azdancecoalition.org
SUMMARY:Ballet Yuma's 30th Year of The Nutcracker
DESCRIPTION:Step into a world of enchantment and wonder as Ballet Yuma dancers present their magical rendition of “The Nutcracker.” Ballet Yuma is excited to announce this much-anticipated performance for 2024. This timeless holiday ballet will be showcased at Snider Auditorium\, located at 400 S. 6th Ave. \n\nAs the longest-running ballet company in Yuma\, Ballet Yuma has been a beacon of artistic excellence\, captivating audiences with their grace\, precision\, and passion for dance. This year\, the company celebrates three decades of bringing joy and beauty to the community. \nPerformance Schedule: \n● December 13th at 7 PM \n● December 14th at 3 PM \n● December 15th at 1 PM \nJoin us for an unforgettable evening (or afternoon) filled with dance\, music\, and holiday spirit. Experience the magic as Clara and her Nutcracker Prince embark on a whimsical journey through the Land of Snow and the Land of Sweets\, accompanied by Tchaikovsky’s iconic score. \nTickets are available for purchase at www.balletyuma.org. Be sure to secure your seats early\, as this event is expected to sell out quickly. We look forward to celebrating the holiday season with you and your loved ones! \n\nBallet Yuma will have 5 guest artists dancing with them in this 30th year Nutcracker celebration. Dancing the role of the Snow Queen is Ballet Yuma alumna\, @lily.cong now dancing professionally with St. Louis Dance Theatre @stldancetheatre Tickets are going quickly so don’t delay. Visit www.balletyuma.org/ballet-yuma to purchase online.
URL:https://www.azdancecoalition.org/event/ballet-yuma-presents-its-30th-year-of-the-nutcracker-2024-12-14/
LOCATION:Snider Auditorium\, 400 S 6th Ave\, Yuma\, AZ\, United States
CATEGORIES:Ballet,Dance Performance
ATTACH;FMTTYPE=image/jpeg:https://www.azdancecoalition.org/wp-content/uploads/2024/12/dddz0qkc3sgt81qkxcwr.jpg
ORGANIZER;CN="Ballet Yuma":MAILTO:balletyuma1@gmail.com
END:VEVENT
BEGIN:VEVENT
DTSTART;TZID=America/Phoenix:20241214T160000
DTEND;TZID=America/Phoenix:20241214T170000
DTSTAMP:20260422T014859
CREATED:20241205T205303Z
LAST-MODIFIED:20241205T225632Z
UID:26700-1734192000-1734195600@www.azdancecoalition.org
SUMMARY:Sedona Dance Academy presents The Nutcracker
DESCRIPTION:Join us for a magical celebration of a contemporary twist on the classic The Nutcracker\, brought to life by the talented students of Sedona Dance Academy. Enjoy special performances with guests from the Sedona Dance Project and the Sedona Community & Youth Orchestra. Don’t miss guest artist Eastlyn Jensen from Ballet Arizona as the Sugar Plum Fairy in Act 2. This enchanting story and breathtaking performances that will delight audiences of all ages!
URL:https://www.azdancecoalition.org/event/sedona-dance-academy-presents-the-nutcracker/
LOCATION:Sedona Performing Arts Center\, 995 Upper Red Rock Loop Rd\, Sedona\, AZ\, 86336\, United States
CATEGORIES:Ballet,Dance Performance
ATTACH;FMTTYPE=image/jpeg:https://www.azdancecoalition.org/wp-content/uploads/2024/12/464472985_987614620046400_1113313919091438196_n.jpg
ORGANIZER;CN="Sedona Dance Academy":MAILTO:Jessica@sedonadanceacademy.org
END:VEVENT
BEGIN:VEVENT
DTSTART;TZID=America/Phoenix:20241214T193000
DTEND;TZID=America/Phoenix:20241214T213000
DTSTAMP:20260422T014859
CREATED:20241112T214554Z
LAST-MODIFIED:20241112T214554Z
UID:26672-1734204600-1734211800@www.azdancecoalition.org
SUMMARY:Ballet Arizona presents The Nutcracker (Phoenix)
DESCRIPTION:The Nutcracker\n\n\n\nwith live music by The Phoenix Symphony \n\n\n\n\n\n\nDecember 6 – 24\, 2024 \nSymphony Hall \n\n\n\n\n\n\n\nChoreography: Ib Andersen \nMusic: Pyotr Ilyich Tchaikovsky \nBallet Arizona returns to Symphony Hall in grand fashion with this holiday classic. Celebrate the joy and wonder of the season with Ib Andersen’s The Nutcracker as Tchaikovsky’s cherished score is masterfully performed by The Phoenix Symphony. Follow Clara’s wintry adventures as she battles mischievous mice and charms the Sugar Plum Fairy. Whether this is your first Nutcracker or your 101st\, this heartwarming tradition never fails to enchant and draw smiles from all! \nPerformances
URL:https://www.azdancecoalition.org/event/ballet-arizona-presents-the-nutcracker-2024-12-14-2/
LOCATION:Phoenix Symphony Hall\, 100 N. 3rd Street\, Phoenix\, AZ\, 85004\, United States
CATEGORIES:Ballet,Dance Performance
ATTACH;FMTTYPE=image/png:https://www.azdancecoalition.org/wp-content/uploads/2024/11/464919999_1080486696777497_3984601274290245833_n.png
END:VEVENT
END:VCALENDAR