BEGIN:VCALENDAR
VERSION:2.0
PRODID:-//Arizona Dance Coalition - ECPv6.8.3//NONSGML v1.0//EN
CALSCALE:GREGORIAN
METHOD:PUBLISH
X-WR-CALNAME:Arizona Dance Coalition
X-ORIGINAL-URL:https://www.azdancecoalition.org
X-WR-CALDESC:Events for Arizona Dance Coalition
REFRESH-INTERVAL;VALUE=DURATION:PT1H
X-Robots-Tag:noindex
X-PUBLISHED-TTL:PT1H
BEGIN:VTIMEZONE
TZID:America/Phoenix
BEGIN:STANDARD
TZOFFSETFROM:-0700
TZOFFSETTO:-0700
TZNAME:MST
DTSTART:20250101T000000
END:STANDARD
END:VTIMEZONE
BEGIN:VEVENT
DTSTART;TZID=America/Phoenix:20250201T100000
DTEND;TZID=America/Phoenix:20250201T113000
DTSTAMP:20260420T011745
CREATED:20241127T041813Z
LAST-MODIFIED:20250115T221938Z
UID:26498-1738404000-1738409400@www.azdancecoalition.org
SUMMARY:Skinner Releasing Workshop (Tucson)
DESCRIPTION:Men and women of all ages (professional dancers\, mature movers\, inexperienced dancers\, and folks that love to move in a meditative and spontaneous way) are invited to participate in this class. The use of playful and deep imagery and improvisation is incorporated and the classes build on each other. \nYour commitment to the series is a large part of the experience. \nSRT reveals the natural grace in every human being and taps into transforming states of  consciousness which awakens the Dance within and guides us in the practice of letting go; letting go of stress\, letting go of unnecessary holding in our body\, letting go of preconceptions about what is supposed to happen\, letting go of fear of awkwardness\, letting go of the belief that we somehow don’t have the “right body”. \nTactile exercises are used to give the imagery immediate physical effect in the movements of participants. \nTwo class sessions will be offered on Friday evenings from 4:30-6pm and Saturday mornings from 10-11:30am at the sYnapse at Studio Y. Session 1: January 10-February 1. Session 2: February 7-28. $120 per session or $220 for all 8 weeks.
URL:https://www.azdancecoalition.org/event/skinner-releasing-workshop-2025-02-01/
LOCATION:sYnapse Studio Y\, 650 N. 6th Ave. ​\, Tucson\, AZ\, 85705\, United States
ATTACH;FMTTYPE=image/jpeg:https://www.azdancecoalition.org/wp-content/uploads/2024/11/Skinner-Releasing-Workshop-Jan-2025.jpg
END:VEVENT
BEGIN:VEVENT
DTSTART;TZID=America/Phoenix:20250201T100000
DTEND;TZID=America/Phoenix:20250201T130000
DTSTAMP:20260420T011745
CREATED:20250109T173604Z
LAST-MODIFIED:20250115T221816Z
UID:26879-1738404000-1738414800@www.azdancecoalition.org
SUMMARY:Flamenco Class - Spring Semester (Chander/Phoenix)
DESCRIPTION:The start of a new year is the perfect time to embrace change\, to challenge yourself\, and to dance through life with passion. This year\, why not step into something bold\, beautiful\, and transformative? Flamenco is more than just a dance—it’s an expression of the soul\, a celebration of culture\, and a way to connect with your deepest emotions. \nFor registrations or any questions\, please email moc.asoralimuynull@imuy
URL:https://www.azdancecoalition.org/event/flamenco-class-spring-semester-2025-02-01/
LOCATION:AZ
ATTACH;FMTTYPE=image/jpeg:https://www.azdancecoalition.org/wp-content/uploads/2025/01/IMG_2854.jpeg
END:VEVENT
BEGIN:VEVENT
DTSTART;TZID=America/Phoenix:20250201T170000
DTEND;TZID=America/Phoenix:20250201T183000
DTSTAMP:20260420T011745
CREATED:20250107T172850Z
LAST-MODIFIED:20250107T172850Z
UID:26829-1738429200-1738434600@www.azdancecoalition.org
SUMMARY:Movement Source presents Arizona Trolley Dances
DESCRIPTION:Movement Source Dance Company Catches a Wave at Arizona Trolley Dances \nJoin us February 1st and 2nd for Arizona Trolley Dances presented by\nMovement Source Dance Company. This entertaining tour begins at the historic Cosanti Studios\, moves to the\n“Industrial Pipe Wave” Scottsdale Public Art site\, then on to the creative spaces at Cattle Track Arts\nCompound. Experience new site-specific dance performances\, view local visual art\, and enjoy live music at the\nend by the Dusty Ramblers! \nBring a friend and soak in some of Scottsdale’s best kept secrets together—from beautiful bells to sky-\nreaching sculptures to dancers in a wild\, western habitat—all combined in a creative trolley tour just for you.\nMovement Source will surprise and delight you with boundless energy\, creativity and love for our local artistic\ncommunity and natural environment. \nGet your tickets today!\nWhen: Saturday\, February 1st\, 5pm; Sunday\, February 2nd\, 2pm\nWhere: Cosanti\, 6433 E Doubletree Ranch Rd\, Paradise Valley\, AZ 85253\nParking: Park at Cosanti\, then ride the trolley to the other two sites and back to Cosanti at the end.\nTicket price: $30 general admission \nShow runs approximately 90 minutes and is appropriate for all ages.\nLimited seating—get your tickets ASAP! \nTickets on sale December 1st\, 2024 at: www.MovementSourceDanceCompany.org\nSupported in part by Scottsdale Arts | Photography: Laura VanNess Bolstad \nAbout Movement Source\nMovement Source Inc.\, dba Movement Source Dance Company\, a non-profit 501c3 performing arts\norganization\, was founded in 1988. Its mission is to expand the audience for modern dance by making it more\naccessible through culturally diverse artistic collaborations and performances. Movement Source is supported\,\nin part\, by the Arizona Commission on the Arts\, City of Tempe\, Phoenix Office of Arts and Culture\, Scottsdale\nArts and members of the Arizona Dance Arts Coalition. In addition\, Movement Source is a member of Local\nFirst AZ. \nTo learn more about Movement Source\, visit www.movementsourcedancecompany.org.\nLike us on Facebook at: https://www.facebook.com/movementsource/ or Follow us on Instagram @movementsource
URL:https://www.azdancecoalition.org/event/movement-source-presents-arizona-trolley-dances/
LOCATION:Cosanti\, 6433 E Doubletree Ranch Rd\, Paradise Valley\, 85253\, United States
CATEGORIES:Dance Performance,Modern Contemporary
ATTACH;FMTTYPE=image/jpeg:https://www.azdancecoalition.org/wp-content/uploads/2025/01/unnamed-1.jpg
ORGANIZER;CN="Movement Source Dance Company":MAILTO:movementsource@gmail.com
END:VEVENT
BEGIN:VEVENT
DTSTART;TZID=America/Phoenix:20250201T200000
DTEND;TZID=America/Phoenix:20250201T210000
DTSTAMP:20260420T011745
CREATED:20240502T172830Z
LAST-MODIFIED:20250115T222549Z
UID:24808-1738440000-1738443600@www.azdancecoalition.org
SUMMARY:Alonzo King LINES Ballet (Scottsdale)
DESCRIPTION:“Deep River soars along a highway to the heavens\, taking us on a journey from chaos and despair to revelation and deliverance.” — See Chicago Dance  \nGrounded on more than 40 years of thought-provoking dance\, master choreographer Alonzo King’s unique artistic vision honors and advances the classical form—the linear\, mathematical\, and geometrical principles deeply rooted in the East-West continuum. Witness King’s genius in his sought-after work\, Deep River\, a collaboration with MacArthur Fellow composer Jason Moran and Grammy®-winning vocalist Lisa Fischer.   \nDeep River is a call to keep hope\, to make the lotus bloom in the mud\, and to look at each other as a family of souls. Created over three years and throughout the pandemic\, Deep River is a piece written with the heart\, a love letter to a world writhing in pain\, served by exceptional dancers.  \nAlonzo King LINES Ballet Company  \nAlonzo King LINES Ballet is a celebrated contemporary ballet company that has been guided since 1982 by the artistic vision of acclaimed choreographer Alonzo King. Collaborating with extraordinary composers\, musicians\, writers\, and visual artists from around the world\, King draws on a diverse set of deeply rooted cultural traditions\, imbuing classical ballet with new expressive potential. He has been heralded as a visionary and thought leader on topics that reach far beyond dance\, receiving numerous accolades\, such as a 2020 Dance Magazine Award. The company brings new works of illuminating beauty to Bay Area audiences in biannual home seasons\, alongside touring nationally and internationally   \nLINES Ballet is dedicated to training the next generation of artists through its pre-professional summer program\, training program\, and bachelor of fine arts program with Dominican University of California. LINES makes dance accessible to Bay Area adults and youth through world-class\, affordable classes open to the community and free in-school education programs. The company also produced a new film series\, There Is No Standing Still\, which The New York Times and The Guardian included in their respective “Best Dance of 2020” lists.  \nAlonzo King  \nAlonzo King\, founder and artistic director of Alonzo King LINES Ballet\, has been called a visionary choreographer\, who is altering the way we look and think about movement. Named as a choreographer with “astonishing originality” by The New York Times\, King has created works for Ballett Frankfurt\, Alvin Ailey\, Les Ballets de Monte-Carlo\, Maurice Béjart\, Hong Kong Ballet\, Hubbard Street Dance Chicago\, Joffrey Ballet\, Royal Swedish Ballet\, San Francisco Ballet\, American Ballet Theater\, Rambert Dance Company\, National Ballet of Canada\, and many others.  \nNamed a Master of Choreography by the Kennedy Center in 2005\, King is the recipient of the NEA Choreographer’s Fellowship\, the Jacob’s Pillow Creativity Award\, the United States Artist Award in Dance\, the Bessie Award\, and the National Dance Project’s Residency and Touring Awards. In 2015\, he received the Doris Duke Artist Award for his contributions to contemporary dance advancement. Joining historic icons in the field\, King was named one of America’s “Irreplaceable Dance Treasures” by the Dance Heritage Coalition. He is a recipient of the San Francisco Arts Medallion Award\, and has been inducted into the California Hall of Fame. King holds honorary doctorates from Dominican University\, California Institute of the Arts\, and The Juilliard School. 
URL:https://www.azdancecoalition.org/event/alonzo-king-lines-ballet-2/
LOCATION:Scottsdale Center for the Performing Arts\, 7380 E Second St\, Scottsdale\, 85251\, United States
CATEGORIES:Ballet,Dance Performance
ATTACH;FMTTYPE=image/jpeg:https://www.azdancecoalition.org/wp-content/uploads/2024/05/2024-02-23_LCP_JALC_Rose_AlonzoKing_LINES_BalletsDeepRiver_RichardTermine-010-1-scaled.jpg
END:VEVENT
END:VCALENDAR