BEGIN:VCALENDAR
VERSION:2.0
PRODID:-//Arizona Dance Coalition - ECPv6.8.3//NONSGML v1.0//EN
CALSCALE:GREGORIAN
METHOD:PUBLISH
X-WR-CALNAME:Arizona Dance Coalition
X-ORIGINAL-URL:https://www.azdancecoalition.org
X-WR-CALDESC:Events for Arizona Dance Coalition
REFRESH-INTERVAL;VALUE=DURATION:PT1H
X-Robots-Tag:noindex
X-PUBLISHED-TTL:PT1H
BEGIN:VTIMEZONE
TZID:America/Phoenix
BEGIN:STANDARD
TZOFFSETFROM:-0700
TZOFFSETTO:-0700
TZNAME:MST
DTSTART:20250101T000000
END:STANDARD
END:VTIMEZONE
BEGIN:VEVENT
DTSTART;TZID=America/Phoenix:20250305T093000
DTEND;TZID=America/Phoenix:20250305T103000
DTSTAMP:20260420T044040
CREATED:20250109T232311Z
LAST-MODIFIED:20250115T222442Z
UID:26976-1741167000-1741170600@www.azdancecoalition.org
SUMMARY:Morning Modern (Tucson)
DESCRIPTION:Begin your morning with movement! Join Nanette Robinson to explore the freedom and creativity of movement in this drop in modern dance class series. Blending technique\, improvisation\, and self-expression\, this class is designed for dancers of all levels. Classes run Wednesdays from 9:30-10:30am at the sYnapse at Studio Y. January 22-March 19. Suggested donation: $10. No one will be denied participation due to lack of funds.
URL:https://www.azdancecoalition.org/event/morning-modern-2025-03-05/
LOCATION:sYnapse Studio Y\, 650 N. 6th Ave. ​\, Tucson\, AZ\, 85705\, United States
ATTACH;FMTTYPE=image/png:https://www.azdancecoalition.org/wp-content/uploads/2025/01/Wednesday-Modern-S2025-1.png
END:VEVENT
BEGIN:VEVENT
DTSTART;TZID=America/Phoenix:20250305T160000
DTEND;TZID=America/Phoenix:20250305T171500
DTSTAMP:20260420T044040
CREATED:20241226T153602Z
LAST-MODIFIED:20250115T222056Z
UID:26770-1741190400-1741194900@www.azdancecoalition.org
SUMMARY:Youth Aerial Trapeze Dance (Tucson)
DESCRIPTION:These class sessions blend the elegance of dance with the exhilaration of aerial trapeze. Designed for youth ages 7-11\, students will discover the magic of flight\, develop a joy for movement\, and build a community of new friends. No prior experience necessary. Two class sessions will be offered on Wednesday nights from 4-5:15pm at the sYnapse at Studio Y. Session 1: January 15-March 5. Session 2: March 19-May 7. $250 per session.
URL:https://www.azdancecoalition.org/event/youth-aerial-trapeze-dance-2-2025-03-05/
LOCATION:sYnapse Studio Y\, 650 N. 6th Ave. ​\, Tucson\, AZ\, 85705\, United States
ATTACH;FMTTYPE=image/png:https://www.azdancecoalition.org/wp-content/uploads/2024/12/Youth-Aerial-Trapeze-w-Kiona-1.png
END:VEVENT
BEGIN:VEVENT
DTSTART;TZID=America/Phoenix:20250305T173000
DTEND;TZID=America/Phoenix:20250305T183000
DTSTAMP:20260420T044040
CREATED:20250109T173604Z
LAST-MODIFIED:20250115T221818Z
UID:26903-1741195800-1741199400@www.azdancecoalition.org
SUMMARY:Flamenco Class - Spring Semester (Chander/Phoenix)
DESCRIPTION:The start of a new year is the perfect time to embrace change\, to challenge yourself\, and to dance through life with passion. This year\, why not step into something bold\, beautiful\, and transformative? Flamenco is more than just a dance—it’s an expression of the soul\, a celebration of culture\, and a way to connect with your deepest emotions. \nFor registrations or any questions\, please email moc.asoralimuynull@imuy
URL:https://www.azdancecoalition.org/event/flamenco-class-spring-semester-2025-03-05/
LOCATION:AZ
ATTACH;FMTTYPE=image/jpeg:https://www.azdancecoalition.org/wp-content/uploads/2025/01/IMG_2854.jpeg
END:VEVENT
BEGIN:VEVENT
DTSTART;TZID=America/Phoenix:20250305T173000
DTEND;TZID=America/Phoenix:20250305T190000
DTSTAMP:20260420T044040
CREATED:20241226T154150Z
LAST-MODIFIED:20250115T222220Z
UID:26788-1741195800-1741201200@www.azdancecoalition.org
SUMMARY:Adult Aerial Trapeze Dance (Tucson)
DESCRIPTION:These class sessions offer individuals a unique blend of strength\, flexibility\, and artistry through the art of aerial trapeze. Discover a passion for flight and unleash your inner acrobat in a safe and supportive environment. No prior experience necessary. Two class sessions will be offered on Wednesday nights from 5:30-7pm at the sYnapse at Studio Y. Session 1: January 15-March 5. Session 2: March 19-May 7. $250 per session.
URL:https://www.azdancecoalition.org/event/adult-aerial-trapeze-dance-2-2025-03-05/
LOCATION:sYnapse Studio Y\, 650 N. 6th Ave. ​\, Tucson\, AZ\, 85705\, United States
ATTACH;FMTTYPE=image/png:https://www.azdancecoalition.org/wp-content/uploads/2024/12/Adult-Aerial-Trapeze-w-Kiona-1.png
END:VEVENT
BEGIN:VEVENT
DTSTART;TZID=America/Phoenix:20250305T190000
DTEND;TZID=America/Phoenix:20250305T210000
DTSTAMP:20260420T044040
CREATED:20250220T175952Z
LAST-MODIFIED:20250220T181814Z
UID:27673-1741201200-1741208400@www.azdancecoalition.org
SUMMARY:World Ballet Company’s “The Great Gatsby" (Mesa)
DESCRIPTION:THE GREAT GATSBY BALLET BY WORLD BALLET COMPANY\n\n\n\n\n\n\n\n\n\n\nMARCH 5\, 2025 \nWEDNESDAY 7PM \nIKEDA THEATER \n$50 – $125 \nPurchase Tickets \n\n\n\n\n\n\n\n\n  \n  \n  \n  \n  \n  \nPresented by Gorskaya-Hartwick Productions \nSomething Great is coming to Mesa this Spring! \nJoin us for the World Premiere of the Great Gatsby Ballet! \nStep into the jazzy world of the Roaring Twenties with this new production of the World Ballet Company. See the glitz\, glamor\, and tragic romance of F. Scott Fitzgerald’s timeless novel LIVE on stage\, featuring a multinational cast of 40 professional ballet dancers\, all-star creative team\, lustrous hand-crafted costumes and lavish groundbreaking sets. The original score evokes the energy and atmosphere of the 1920s. \nWorld Ballet Company’s “The Great Gatsby’ is a must-see feast for the eyes. Get your tickets today and be among the first to experience this lavish new production! \n*The Creative Team of The Great Gatsby: Renowned choreographer Ilya Zhivoy captures the passion of the central love story with a sensual\, dynamic style. Celebrated LA-based film and TV composer Anna Drubich\, whose work includes the music for the 2023 Oscar-winning Navalny documentary\, makes her ballet debut with a rich\, lively score that embraces the sounds of the Jazz Age. Theatrical costume designs by Sonya Vartanyan complete the production with sumptuousness and fling. \n**About the Company: Based in Los Angeles\, and led by Sasha Gorskaya and Gulya Hartwick\, the World Ballet Company presents the most beloved and iconic ballets of our time in cities nationwide. Driven by the belief that ballet is for everyone\, performances appeal to newcomers and seasoned ballet goers alike. The company attracts many international artists and comprises renowned professional dancers representing over ten countries. \nTo date\, World Ballet Company has traveled to more than 300 cities\, reaching an audience of more than 450\,000\, many of whom are first-time attendees to a ballet. \n  \nDuration: 2 hours (including 20-minute intermission) \n  \nAudience: For ages 8 & over  \n  \nLink to the website: https://worldballetcompany.com \n  \nGroup discount for 10 or more: 10% off; 20 or more: 15% off
URL:https://www.azdancecoalition.org/event/world-ballet-companys-the-great-gatsby/
LOCATION:Mesa Arts Center\, One East Main Street\, Mesa\, AZ\, 85201\, United States
CATEGORIES:Ballet,Dance Performance
ATTACH;FMTTYPE=image/jpeg:https://www.azdancecoalition.org/wp-content/uploads/2025/02/media-box-image-shows-other-presenters-the-great-gatsby-ballet-by-world-ballet-company-media-box-35983-image.jpg
END:VEVENT
END:VCALENDAR