BEGIN:VCALENDAR
VERSION:2.0
PRODID:-//Arizona Dance Coalition - ECPv6.8.3//NONSGML v1.0//EN
CALSCALE:GREGORIAN
METHOD:PUBLISH
X-ORIGINAL-URL:https://www.azdancecoalition.org
X-WR-CALDESC:Events for Arizona Dance Coalition
REFRESH-INTERVAL;VALUE=DURATION:PT1H
X-Robots-Tag:noindex
X-PUBLISHED-TTL:PT1H
BEGIN:VTIMEZONE
TZID:America/Phoenix
BEGIN:STANDARD
TZOFFSETFROM:-0700
TZOFFSETTO:-0700
TZNAME:MST
DTSTART:20250101T000000
END:STANDARD
END:VTIMEZONE
BEGIN:VEVENT
DTSTART;VALUE=DATE:20250403
DTEND;VALUE=DATE:20250528
DTSTAMP:20260422T122512
CREATED:20250402T202007Z
LAST-MODIFIED:20250402T202007Z
UID:28031-1743638400-1748390399@www.azdancecoalition.org
SUMMARY:Register Now for SCC Dance's Summer Conservatory
DESCRIPTION:SCC Dance is offering our full conservatory again this summer!  Sign up to dance for 5 weeks\, 4 days per week.  Options are available for partial conservatory attendance\, and we also have night classes as well.  Details about the conservatory are below: \n\nMay 27th through June 26th\nMonday through Thursday\, 8:30am-3:30pm\nClasses in somatics\, ballet\, modern\, jazz\, hip hop\, repertory\n$291 tuition for Maricopa County residents\nRegister for DAN290AC (10874)\n\nIf you have questions\, or for information about partial conservatory options and evening classes\, email ude.cceladsttocsnull@ecnadccs.
URL:https://www.azdancecoalition.org/event/register-now-for-scc-dances-summer-conservatory-2/
LOCATION:Scottsdale Community College\, PE Building\, Rm 135\, 9000 E. Chaparral Rd.\, Scottsdale\, AZ\, 85256\, United States
CATEGORIES:Ballet,Classes,Contemporary / Modern,Hip Hop,Jazz Dance,Somatic Practices
ATTACH;FMTTYPE=image/png:https://www.azdancecoalition.org/wp-content/uploads/2025/04/Summer-Conservatory-2025-1.png
END:VEVENT
BEGIN:VEVENT
DTSTART;VALUE=DATE:20250419
DTEND;VALUE=DATE:20250603
DTSTAMP:20260422T122512
CREATED:20250419T174618Z
LAST-MODIFIED:20250419T181458Z
UID:28182-1745020800-1748908799@www.azdancecoalition.org
SUMMARY:Registration Open for Dance Theater West SUMMER Workshops (Phoenix)
DESCRIPTION:SUMMER WORKSHOPS at DANCE THEATER WEST \nhttps://dancetheaterwest.com/ \nSwan Lake With A Splash\n\nAges 11-18 \nJune 2nd-6th\, 10:00-2:30 \nClassical Ballet Intensive \nVariations\, partnering\, choreography\, guest artists \nPerformance on Friday\, early release \n2+ years of classical ballet experience required. \nTuition: $250 \n\nRegister \n\n\nA Splash of Magic\n\nAges 6-10 \nJune 2nd-6th\, 10:00-12:00 \nOne creative ballet workshop a day ending with a mini-performance. \nMonday: Barbie Ballet \nTuesday: Cinderella \nWednesday: Sleeping Beauty \nThursday: Little Mermaid \nFriday: Swan Lake \nTuition: $25 per day \n\nRegister \n\n\n\nA Splash of Broadway\n\nAges 10-18 \nJune 9-13th\, 10:00-2:30 \nOne musical theater workshop a day\, ending with a mini-performance. Ballet\, jazz\, modern\, sign language\, and singing. \nMonday: A Chorus Line \nTuesday: Newsies \nWednesday: La La Land \nThursday: Little Shop of Horrors \nFriday: Hairspray \nTuition: $50 per day \n\nRegister
URL:https://www.azdancecoalition.org/event/registration-open-for-dance-theater-west-summer-workshops/
LOCATION:Dance Theater West\, 3925 East Indian School Road\, Phoenix\, 85018\, United States
CATEGORIES:Ballet,Ballet,Classes,Creative Movement,Musical Theater,Musical Theater,Workshop
ATTACH;FMTTYPE=image/jpeg:https://www.azdancecoalition.org/wp-content/uploads/2025/04/0-1.jpg
END:VEVENT
BEGIN:VEVENT
DTSTART;TZID=America/Phoenix:20250419T100000
DTEND;TZID=America/Phoenix:20250419T111500
DTSTAMP:20260422T122512
CREATED:20250322T204636Z
LAST-MODIFIED:20250327T143152Z
UID:27906-1745056800-1745061300@www.azdancecoalition.org
SUMMARY:Zuzi! Morning Modern (Tucson)
DESCRIPTION:Begin your morning with movement! Join Nanette Robinson to explore the freedom and creativity of movement in this drop in contemporary modern dance class series. Blending technique\, improvisation\, and self-expression\, this class is designed for dancers of all levels. Classes run Saturdays from 10-11:15am at the sYnapse at Studio Y. April 5-April 26. Suggested donation: $10. No one will be denied participation due to lack of funds.
URL:https://www.azdancecoalition.org/event/morning-modern-4-2025-04-19/
LOCATION:sYnapse Studio Y\, 650 N. 6th Ave. ​\, Tucson\, AZ\, 85705\, United States
ATTACH;FMTTYPE=image/png:https://www.azdancecoalition.org/wp-content/uploads/2025/03/Modern-1.png
END:VEVENT
BEGIN:VEVENT
DTSTART;TZID=America/Phoenix:20250419T100000
DTEND;TZID=America/Phoenix:20250419T130000
DTSTAMP:20260422T122512
CREATED:20250109T173604Z
LAST-MODIFIED:20250115T221822Z
UID:26934-1745056800-1745067600@www.azdancecoalition.org
SUMMARY:Flamenco Class - Spring Semester (Chander/Phoenix)
DESCRIPTION:The start of a new year is the perfect time to embrace change\, to challenge yourself\, and to dance through life with passion. This year\, why not step into something bold\, beautiful\, and transformative? Flamenco is more than just a dance—it’s an expression of the soul\, a celebration of culture\, and a way to connect with your deepest emotions. \nFor registrations or any questions\, please email moc.asoralimuynull@imuy
URL:https://www.azdancecoalition.org/event/flamenco-class-spring-semester-2025-04-19/
LOCATION:AZ
ATTACH;FMTTYPE=image/jpeg:https://www.azdancecoalition.org/wp-content/uploads/2025/01/IMG_2854.jpeg
END:VEVENT
BEGIN:VEVENT
DTSTART;TZID=America/Phoenix:20250419T133000
DTEND;TZID=America/Phoenix:20250419T150000
DTSTAMP:20260422T122512
CREATED:20241029T212722Z
LAST-MODIFIED:20250312T175744Z
UID:27824-1745069400-1745074800@www.azdancecoalition.org
SUMMARY:UA Dance Springs Eternal (Tucson)
DESCRIPTION:Get ready for an electrifying spring performance with our spring mainstage production\, “Dance Springs Eternal.” This concert features dynamic new works by our talented faculty and guest choreographers\, showcasing a variety of dance styles that will invigorate and inspire. Experience the energy and passion of our dancers as they bring innovative choreography to life on the stage of the Stevie Eller Dance Theatre. Don’t miss this exciting opportunity to see fresh\, cutting-edge performances that highlight the skill and artistry of U of A Dancers. \n  \nTICKETS: Adult $38 / Senior\, Military\, U of A Employee $33 / Student $15\nIncluded in Season Subscription \n\nThursday\, April 10\, 7:30pm\nFriday\, April 11\, 7:30pm\nSaturday\, April 12\, 1:30pm\nSaturday\, April 12\, 7:30pm\nSunday\, April 13\, 1:30pm\nThursday\, April 17\, 7:30pm\nFriday\, April 18\, 7:30pm\nSaturday\, April 19\, 1:30pm\nSaturday\, April 19\, 7:30pm\nSunday\, April 20\, 1:30pm
URL:https://www.azdancecoalition.org/event/dance-springs-eternal-2025-04-19/
LOCATION:Stevie Eller Dance Theatre / University of Arizona\, 1713 E University Blvd\, Tucson\, 85721\, United States
CATEGORIES:Ballet,Dance Performance,Interdisciplinary/Multidisciplinary,Jazz Dance,Modern Contemporary
ATTACH;FMTTYPE=image/png:https://www.azdancecoalition.org/wp-content/uploads/2024/10/Dance-Springs-Eternal.png
ORGANIZER;CN="Arizona Arts Box Office":MAILTO:boxoffice@arizona.edu
END:VEVENT
BEGIN:VEVENT
DTSTART;TZID=America/Phoenix:20250419T140000
DTEND;TZID=America/Phoenix:20250419T160000
DTSTAMP:20260422T122512
CREATED:20250419T013257Z
LAST-MODIFIED:20250419T153038Z
UID:28132-1745071200-1745078400@www.azdancecoalition.org
SUMMARY:ASU Dance presents Spring Dance Fest (Tempe)
DESCRIPTION:Spring Dance Fest showcases the creativity in the ASU dance program\, featuring student performers in original choreography by students\, faculty and guest artists. This performance includes some of the most innovative work of the 2024-25 season. \nSpring Dance Fest highlights the range of dance forms and aesthetics in the ASU Dance program. This year’s concert features original works by guest artists Gerald Casel and Stefanie Batten Bland. \nApril 18-19 (Friday 7:30pm\, Saturday 2pm & 7:30pm) \nASU Paul V Galvin Playhouse\, 51 E 10th St\, Tempe \nTickets must be purchased in advance at the Herberger Institute Box Office. There will be no in-person sales at the event. Guests who do not have a ticket at the door will be directed to purchase them online. \nNotice to Herberger Institute Faculty\, Staff\, Students and Mirabella Residents: \nEligible HIDA faculty\, staff and students may redeem their complimentary ticket(s) through the box office website. Students are eligible for one complimentary ticket; faculty and staff are eligible for two tickets. Click the ‘Buy Tickets’ button\, select the desired number of tickets\, then enter and apply your 10-digit ASU ID as the promo code at checkout. For assistance\, email ude.usanull@eciffoxobih. \nFor a full listing of all School of Music\, Dance and Theatre events visit https://musicdancetheatre.asu.edu/events \nEvent contact: ude.usanull@eciffoxobih
URL:https://www.azdancecoalition.org/event/asu-dance-presents-spring-dance-fest-tempe-3/
LOCATION:ASU Paul V Galvin Playhouse\, 51 E 10th St\, Tempe\, AZ\, 85287
CATEGORIES:Dance Performance,Interdisciplinary/Multidisciplinary,Modern Contemporary,Various Dance Genres
ATTACH;FMTTYPE=image/jpeg:https://www.azdancecoalition.org/wp-content/uploads/2025/04/Spring-Dance-Fest-Placeholder.jpg
ORGANIZER;CN="ASU School of Music%2C Dance%2C Theatre":MAILTO:Music@asu.edu
END:VEVENT
BEGIN:VEVENT
DTSTART;TZID=America/Phoenix:20250419T193000
DTEND;TZID=America/Phoenix:20250419T210000
DTSTAMP:20260422T122512
CREATED:20241029T212722Z
LAST-MODIFIED:20250312T175745Z
UID:27825-1745091000-1745096400@www.azdancecoalition.org
SUMMARY:UA Dance Springs Eternal (Tucson)
DESCRIPTION:Get ready for an electrifying spring performance with our spring mainstage production\, “Dance Springs Eternal.” This concert features dynamic new works by our talented faculty and guest choreographers\, showcasing a variety of dance styles that will invigorate and inspire. Experience the energy and passion of our dancers as they bring innovative choreography to life on the stage of the Stevie Eller Dance Theatre. Don’t miss this exciting opportunity to see fresh\, cutting-edge performances that highlight the skill and artistry of U of A Dancers. \n  \nTICKETS: Adult $38 / Senior\, Military\, U of A Employee $33 / Student $15\nIncluded in Season Subscription \n\nThursday\, April 10\, 7:30pm\nFriday\, April 11\, 7:30pm\nSaturday\, April 12\, 1:30pm\nSaturday\, April 12\, 7:30pm\nSunday\, April 13\, 1:30pm\nThursday\, April 17\, 7:30pm\nFriday\, April 18\, 7:30pm\nSaturday\, April 19\, 1:30pm\nSaturday\, April 19\, 7:30pm\nSunday\, April 20\, 1:30pm
URL:https://www.azdancecoalition.org/event/dance-springs-eternal-2025-04-19-2/
LOCATION:Stevie Eller Dance Theatre / University of Arizona\, 1713 E University Blvd\, Tucson\, 85721\, United States
CATEGORIES:Ballet,Dance Performance,Interdisciplinary/Multidisciplinary,Jazz Dance,Modern Contemporary
ATTACH;FMTTYPE=image/png:https://www.azdancecoalition.org/wp-content/uploads/2024/10/Dance-Springs-Eternal.png
ORGANIZER;CN="Arizona Arts Box Office":MAILTO:boxoffice@arizona.edu
END:VEVENT
BEGIN:VEVENT
DTSTART;TZID=America/Phoenix:20250419T193000
DTEND;TZID=America/Phoenix:20250419T213000
DTSTAMP:20260422T122512
CREATED:20250419T013257Z
LAST-MODIFIED:20250419T153159Z
UID:28130-1745091000-1745098200@www.azdancecoalition.org
SUMMARY:ASU Dance presents Spring Dance Fest (Tempe)
DESCRIPTION:Spring Dance Fest showcases the creativity in the ASU dance program\, featuring student performers in original choreography by students\, faculty and guest artists. This performance includes some of the most innovative work of the 2024-25 season. \nSpring Dance Fest highlights the range of dance forms and aesthetics in the ASU Dance program. This year’s concert features original works by guest artists Gerald Casel and Stefanie Batten Bland. \nApril 18-19 (Friday 7:30pm\, Saturday 2pm & 7:30pm) \nASU Paul V Galvin Playhouse\, 51 E 10th St\, Tempe \nTickets must be purchased in advance at the Herberger Institute Box Office. There will be no in-person sales at the event. Guests who do not have a ticket at the door will be directed to purchase them online. \nNotice to Herberger Institute Faculty\, Staff\, Students and Mirabella Residents: \nEligible HIDA faculty\, staff and students may redeem their complimentary ticket(s) through the box office website. Students are eligible for one complimentary ticket; faculty and staff are eligible for two tickets. Click the ‘Buy Tickets’ button\, select the desired number of tickets\, then enter and apply your 10-digit ASU ID as the promo code at checkout. For assistance\, email ude.usanull@eciffoxobih. \nFor a full listing of all School of Music\, Dance and Theatre events visit https://musicdancetheatre.asu.edu/events \nEvent contact: ude.usanull@eciffoxobih
URL:https://www.azdancecoalition.org/event/asu-dance-presents-spring-dance-fest-tempe-2/
LOCATION:ASU Paul V Galvin Playhouse\, 51 E 10th St\, Tempe\, AZ\, 85287
CATEGORIES:Dance Performance,Interdisciplinary/Multidisciplinary,Modern Contemporary,Various Dance Genres
ATTACH;FMTTYPE=image/jpeg:https://www.azdancecoalition.org/wp-content/uploads/2025/04/Spring-Dance-Fest-Placeholder.jpg
ORGANIZER;CN="ASU School of Music%2C Dance%2C Theatre":MAILTO:Music@asu.edu
END:VEVENT
BEGIN:VEVENT
DTSTART;TZID=America/Phoenix:20250419T200000
DTEND;TZID=America/Phoenix:20250419T213000
DTSTAMP:20260422T122512
CREATED:20250312T183357Z
LAST-MODIFIED:20250312T183357Z
UID:27850-1745092800-1745098200@www.azdancecoalition.org
SUMMARY:Alvin Ailey American Dance Theater (Mesa)
DESCRIPTION:Apr 18-19 | 8:00 PMIkeda TheaterGet tickets  mesaartscenter.com/alvinailey \nCelebrating over 60 years of unparalleled artistry\, Alvin Ailey American Dance Theater never fails to remind us of the power of dance to bring people together. These dancers dazzle with their trademark technical brilliance and passionate energy and bring audiences to their feet at every performance. The ground-breaking\, forward-thinking company returns with new and classic works\, including founder Alvin Ailey’s masterpiece Revelations\, the “Ailey gift that somehow keeps on giving” (The New York Times)
URL:https://www.azdancecoalition.org/event/alvin-ailey-american-dance-theater-mesa-3-2025-04-19/
LOCATION:Mesa Arts Center\, One East Main Street\, Mesa\, AZ\, 85201\, United States
CATEGORIES:Ballet,Dance Performance,Modern Contemporary
ATTACH;FMTTYPE=image/jpeg:https://www.azdancecoalition.org/wp-content/uploads/2025/03/MAC-Ailey.jpg
END:VEVENT
END:VCALENDAR