BEGIN:VCALENDAR
VERSION:2.0
PRODID:-//Arizona Dance Coalition - ECPv6.8.3//NONSGML v1.0//EN
CALSCALE:GREGORIAN
METHOD:PUBLISH
X-WR-CALNAME:Arizona Dance Coalition
X-ORIGINAL-URL:https://www.azdancecoalition.org
X-WR-CALDESC:Events for Arizona Dance Coalition
REFRESH-INTERVAL;VALUE=DURATION:PT1H
X-Robots-Tag:noindex
X-PUBLISHED-TTL:PT1H
BEGIN:VTIMEZONE
TZID:America/Phoenix
BEGIN:STANDARD
TZOFFSETFROM:-0700
TZOFFSETTO:-0700
TZNAME:MST
DTSTART:20250101T000000
END:STANDARD
END:VTIMEZONE
BEGIN:VEVENT
DTSTART;VALUE=DATE:20250403
DTEND;VALUE=DATE:20250528
DTSTAMP:20260424T062253
CREATED:20250402T202007Z
LAST-MODIFIED:20250402T202007Z
UID:28031-1743638400-1748390399@www.azdancecoalition.org
SUMMARY:Register Now for SCC Dance's Summer Conservatory
DESCRIPTION:SCC Dance is offering our full conservatory again this summer!  Sign up to dance for 5 weeks\, 4 days per week.  Options are available for partial conservatory attendance\, and we also have night classes as well.  Details about the conservatory are below: \n\nMay 27th through June 26th\nMonday through Thursday\, 8:30am-3:30pm\nClasses in somatics\, ballet\, modern\, jazz\, hip hop\, repertory\n$291 tuition for Maricopa County residents\nRegister for DAN290AC (10874)\n\nIf you have questions\, or for information about partial conservatory options and evening classes\, email ude.cceladsttocsnull@ecnadccs.
URL:https://www.azdancecoalition.org/event/register-now-for-scc-dances-summer-conservatory-2/
LOCATION:Scottsdale Community College\, PE Building\, Rm 135\, 9000 E. Chaparral Rd.\, Scottsdale\, AZ\, 85256\, United States
CATEGORIES:Ballet,Classes,Contemporary / Modern,Hip Hop,Jazz Dance,Somatic Practices
ATTACH;FMTTYPE=image/png:https://www.azdancecoalition.org/wp-content/uploads/2025/04/Summer-Conservatory-2025-1.png
END:VEVENT
BEGIN:VEVENT
DTSTART;VALUE=DATE:20250419
DTEND;VALUE=DATE:20250603
DTSTAMP:20260424T062253
CREATED:20250419T174618Z
LAST-MODIFIED:20250419T181458Z
UID:28182-1745020800-1748908799@www.azdancecoalition.org
SUMMARY:Registration Open for Dance Theater West SUMMER Workshops (Phoenix)
DESCRIPTION:SUMMER WORKSHOPS at DANCE THEATER WEST \nhttps://dancetheaterwest.com/ \nSwan Lake With A Splash\n\nAges 11-18 \nJune 2nd-6th\, 10:00-2:30 \nClassical Ballet Intensive \nVariations\, partnering\, choreography\, guest artists \nPerformance on Friday\, early release \n2+ years of classical ballet experience required. \nTuition: $250 \n\nRegister \n\n\nA Splash of Magic\n\nAges 6-10 \nJune 2nd-6th\, 10:00-12:00 \nOne creative ballet workshop a day ending with a mini-performance. \nMonday: Barbie Ballet \nTuesday: Cinderella \nWednesday: Sleeping Beauty \nThursday: Little Mermaid \nFriday: Swan Lake \nTuition: $25 per day \n\nRegister \n\n\n\nA Splash of Broadway\n\nAges 10-18 \nJune 9-13th\, 10:00-2:30 \nOne musical theater workshop a day\, ending with a mini-performance. Ballet\, jazz\, modern\, sign language\, and singing. \nMonday: A Chorus Line \nTuesday: Newsies \nWednesday: La La Land \nThursday: Little Shop of Horrors \nFriday: Hairspray \nTuition: $50 per day \n\nRegister
URL:https://www.azdancecoalition.org/event/registration-open-for-dance-theater-west-summer-workshops/
LOCATION:Dance Theater West\, 3925 East Indian School Road\, Phoenix\, 85018\, United States
CATEGORIES:Ballet,Ballet,Classes,Creative Movement,Musical Theater,Musical Theater,Workshop
ATTACH;FMTTYPE=image/jpeg:https://www.azdancecoalition.org/wp-content/uploads/2025/04/0-1.jpg
END:VEVENT
BEGIN:VEVENT
DTSTART;TZID=America/Phoenix:20250430T093000
DTEND;TZID=America/Phoenix:20250430T104500
DTSTAMP:20260424T062253
CREATED:20250321T210009Z
LAST-MODIFIED:20250327T143026Z
UID:27890-1746005400-1746009900@www.azdancecoalition.org
SUMMARY:Zuzi! Morning Modern (Tucson)
DESCRIPTION:Begin your morning with movement! Join Nanette Robinson & Jamey Garner Powers to explore the freedom and creativity of movement in this drop in modern dance class series. Blending technique\, improvisation\, and self-expression\, this class is designed for dancers of all levels. Classes run Wednesdays from 9:30-10:45am at the sYnapse at Studio Y. March 26-July 30. Suggested donation: $10. No one will be denied participation due to lack of funds. \nNO CLASS: June 4 & June 11
URL:https://www.azdancecoalition.org/event/morning-modern-2-2025-04-30/
LOCATION:sYnapse Studio Y\, 650 N. 6th Ave. ​\, Tucson\, AZ\, 85705\, United States
ATTACH;FMTTYPE=image/png:https://www.azdancecoalition.org/wp-content/uploads/2025/03/Wednesday-Modern-S2025-3.png
END:VEVENT
BEGIN:VEVENT
DTSTART;TZID=America/Phoenix:20250430T160000
DTEND;TZID=America/Phoenix:20250430T171500
DTSTAMP:20260424T062253
CREATED:20241226T153817Z
LAST-MODIFIED:20250308T131531Z
UID:26777-1746028800-1746033300@www.azdancecoalition.org
SUMMARY:Youth Aerial Trapeze Dance (Tucson)
DESCRIPTION:These class sessions blend the elegance of dance with the exhilaration of aerial trapeze. Designed for youth ages 7-11\, students will discover the magic of flight\, develop a joy for movement\, and build a community of new friends. No prior experience necessary. Two class sessions will be offered on Wednesday nights from 4-5:15pm at the sYnapse at Studio Y. Session 1: January 15-March 5. Session 2: March 19-May 7. $250 per session.
URL:https://www.azdancecoalition.org/event/youth-aerial-trapeze-dance-3-2025-04-30/
LOCATION:sYnapse Studio Y\, 650 N. 6th Ave. ​\, Tucson\, AZ\, 85705\, United States
ATTACH;FMTTYPE=image/png:https://www.azdancecoalition.org/wp-content/uploads/2024/12/Youth-Aerial-Trapeze-w-Kiona-1.png
END:VEVENT
BEGIN:VEVENT
DTSTART;TZID=America/Phoenix:20250430T173000
DTEND;TZID=America/Phoenix:20250430T183000
DTSTAMP:20260424T062253
CREATED:20250109T173604Z
LAST-MODIFIED:20250115T221822Z
UID:26943-1746034200-1746037800@www.azdancecoalition.org
SUMMARY:Flamenco Class - Spring Semester (Chander/Phoenix)
DESCRIPTION:The start of a new year is the perfect time to embrace change\, to challenge yourself\, and to dance through life with passion. This year\, why not step into something bold\, beautiful\, and transformative? Flamenco is more than just a dance—it’s an expression of the soul\, a celebration of culture\, and a way to connect with your deepest emotions. \nFor registrations or any questions\, please email moc.asoralimuynull@imuy
URL:https://www.azdancecoalition.org/event/flamenco-class-spring-semester-2025-04-30/
LOCATION:AZ
ATTACH;FMTTYPE=image/jpeg:https://www.azdancecoalition.org/wp-content/uploads/2025/01/IMG_2854.jpeg
END:VEVENT
BEGIN:VEVENT
DTSTART;TZID=America/Phoenix:20250430T173000
DTEND;TZID=America/Phoenix:20250430T190000
DTSTAMP:20260424T062253
CREATED:20241226T154324Z
LAST-MODIFIED:20250308T131304Z
UID:26796-1746034200-1746039600@www.azdancecoalition.org
SUMMARY:Adult Aerial Trapeze Dance (Tucson)
DESCRIPTION:These class sessions offer individuals a unique blend of strength\, flexibility\, and artistry through the art of aerial trapeze. Discover a passion for flight and unleash your inner acrobat in a safe and supportive environment. No prior experience necessary. Two class sessions will be offered on Wednesday nights from 5:30-7pm at the sYnapse at Studio Y. Session 1: January 15-March 5. Session 2: March 19-May 7. $250 per session.
URL:https://www.azdancecoalition.org/event/adult-aerial-trapeze-dance-3-2025-04-30/
LOCATION:sYnapse Studio Y\, 650 N. 6th Ave. ​\, Tucson\, AZ\, 85705\, United States
ATTACH;FMTTYPE=image/png:https://www.azdancecoalition.org/wp-content/uploads/2024/12/Adult-Aerial-Trapeze-w-Kiona-1.png
END:VEVENT
END:VCALENDAR