BEGIN:VCALENDAR
VERSION:2.0
PRODID:-//Arizona Dance Coalition - ECPv6.8.3//NONSGML v1.0//EN
CALSCALE:GREGORIAN
METHOD:PUBLISH
X-ORIGINAL-URL:https://www.azdancecoalition.org
X-WR-CALDESC:Events for Arizona Dance Coalition
REFRESH-INTERVAL;VALUE=DURATION:PT1H
X-Robots-Tag:noindex
X-PUBLISHED-TTL:PT1H
BEGIN:VTIMEZONE
TZID:America/Phoenix
BEGIN:STANDARD
TZOFFSETFROM:-0700
TZOFFSETTO:-0700
TZNAME:MST
DTSTART:20220101T000000
END:STANDARD
END:VTIMEZONE
BEGIN:VEVENT
DTSTART;VALUE=DATE:20220910
DTEND;VALUE=DATE:20220911
DTSTAMP:20260419T142913
CREATED:20220823T165006Z
LAST-MODIFIED:20220823T185026Z
UID:21892-1662768000-1662854399@www.azdancecoalition.org
SUMMARY:Ballet Tucson's Open Children Auditions for The Nutcracker
DESCRIPTION:Be a part of the magic of The Nutcracker!\nAnnouncing open children’s auditions for our award-winning production of The Nutcracker\, now in partnership with the Tucson Symphony Orchestra!\nAll young dancers of Southern Arizona are invited to be a part of this enchanting holiday tradition at the Linda Ronstadt Music Hall (formerly the Tucson Music Hall). ⁣ \n𝘉𝘢𝘭𝘭𝘦𝘵 𝘛𝘶𝘤𝘴𝘰𝘯’𝘴 𝘱𝘢𝘳𝘵𝘯𝘦𝘳𝘴𝘩𝘪𝘱 𝘸𝘪𝘵𝘩 𝘵𝘩𝘦 𝘛𝘶𝘤𝘴𝘰𝘯 𝘚𝘺𝘮𝘱𝘩𝘰𝘯𝘺 𝘖𝘳𝘤𝘩𝘦𝘴𝘵𝘳𝘢 𝘪𝘴 𝘨𝘦𝘯𝘦𝘳𝘰𝘶𝘴𝘭𝘺 𝘶𝘯𝘥𝘦𝘳𝘸𝘳𝘪𝘵𝘵𝘦𝘯 𝘣𝘺 𝘛𝘩𝘦 𝘑𝘢𝘮𝘦𝘴 𝘏. 𝘢𝘯𝘥 𝘍𝘳𝘢𝘯𝘤𝘦𝘴 𝘙. 𝘈𝘭𝘭𝘦𝘯 𝘍𝘢𝘮𝘪𝘭𝘺 𝘍𝘰𝘶𝘯𝘥𝘢𝘵𝘪𝘰𝘯 𝘪𝘯 𝘭𝘰𝘷𝘪𝘯𝘨 𝘮𝘦𝘮𝘰𝘳𝘺 𝘰𝘧 𝘒𝘪𝘮𝘣𝘦𝘳𝘭𝘦𝘦 𝘈𝘭𝘭𝘦𝘯⁣ \nAudition Details\nSaturdays\, August 27th\, September 3rd\, and September 10th at the Ballet Tucson Studios⁣\n200 S. Tucson Blvd\, Tucson\, AZ 85716⁣\n⁣\n𝗣𝗿𝗲-𝗿𝗲𝗴𝗶𝘀𝘁𝗿𝗮𝘁𝗶𝗼𝗻 𝗶𝘀 𝗿𝗲𝗾𝘂𝗶𝗿𝗲𝗱⁣\nFor more information and to register\, call (520)623-3373 or email gro.noscuttellabnull@loohcs⁣\n⁣\n𝘊𝘩𝘪𝘭𝘥𝘳𝘦𝘯 𝘮𝘶𝘴𝘵 𝘩𝘢𝘷𝘦 𝘥𝘢𝘯𝘤𝘦 𝘦𝘹𝘱𝘦𝘳𝘪𝘦𝘯𝘤𝘦 𝘢𝘯𝘥 𝘮𝘶𝘴𝘵 𝘣𝘦 𝘢𝘵 𝘭𝘦𝘢𝘴𝘵 𝟻 𝘺𝘦𝘢𝘳𝘴 𝘰𝘧 𝘢𝘨𝘦 𝘢𝘯𝘥 𝘪𝘯 𝘬𝘪𝘯𝘥𝘦𝘳𝘨𝘢𝘳𝘵𝘦𝘯 𝘵𝘰 𝘱𝘢𝘳𝘵𝘪𝘤𝘪𝘱𝘢𝘵𝘦
URL:https://www.azdancecoalition.org/event/ballet-tucsons-open-children-auditions-for-the-nutcracker-3/
LOCATION:Ballet Tucson\, 200 S Tucson Blvd\, Tucson\, AZ\, 85716\, United States
CATEGORIES:Audition
ATTACH;FMTTYPE=image/jpeg:https://www.azdancecoalition.org/wp-content/uploads/2022/08/298209775_10160240653899254_2162642442462446540_n.jpeg
END:VEVENT
END:VCALENDAR