BEGIN:VCALENDAR
VERSION:2.0
PRODID:-//Arizona Dance Coalition - ECPv6.8.3//NONSGML v1.0//EN
CALSCALE:GREGORIAN
METHOD:PUBLISH
X-WR-CALNAME:Arizona Dance Coalition
X-ORIGINAL-URL:https://www.azdancecoalition.org
X-WR-CALDESC:Events for Arizona Dance Coalition
REFRESH-INTERVAL;VALUE=DURATION:PT1H
X-Robots-Tag:noindex
X-PUBLISHED-TTL:PT1H
BEGIN:VTIMEZONE
TZID:America/Phoenix
BEGIN:STANDARD
TZOFFSETFROM:-0700
TZOFFSETTO:-0700
TZNAME:MST
DTSTART:20250101T000000
END:STANDARD
END:VTIMEZONE
BEGIN:VEVENT
DTSTART;VALUE=DATE:20250728
DTEND;VALUE=DATE:20250729
DTSTAMP:20260421T231521
CREATED:20250620T205946Z
LAST-MODIFIED:20250722T181151Z
UID:28477-1753660800-1753747199@www.azdancecoalition.org
SUMMARY:ARIZONA DANCE FESTIVAL 2025 - Submission Deadline (Extended)
DESCRIPTION:ARIZONA DANCE FESTIVAL 2025Presented by Desert Dance TheatreCo-sponsored by Arizona Dance Coalition \nPerformance Dates: Thursday-Saturday\, September 18-20\, 2025Performance Venue: Tempe Center for the Arts – Studio & East Breezeway (Outdoor Space) \nAPPLICATION DEADLINE: July 28\, 2025Notification: August 1\, 2025Contract\, Promo\, Participation Fees Deadline: August 8\, 2025 \nApplication Link: https://forms.gle/7mYRLVCnPqS8tCo89 \nIf submitting multiple pieces\, please fill out a separate application for each piece. \nThe Arizona Dance Festival (ADF) is open to emerging dance artist and groups as well as professional dancers and companies from all genres and styles of dance. \nADF will showcase an eclectic variety of choreography in dance performances and dance films from Arizona\, the Southwest\, and beyond. This unique setting will give audiences a taste of what is happening in Arizona’s dance scene. It is a perfect platform for dance companies to get exposure and promote their work\, to have a performance opportunity without having to incur the costs of producing a full concert\, to experiment with new work\, and to connect with others in the dance community._____________________________________________________________________________________ \nWHO CAN APPLY? – The Arizona Dance Festival is open to emerging dance artists and groups\, dance film makers\, pre-professional dance ensembles as well as professional dancers and companies from all genres and styles of dance. Applications are accepted from anyone from around the world\, but priority is given to Arizona dance artists and companies first. \nGUIDELINES – Dance works and films will be chosen through an unbiased adjudication process\, with attention given to artistry\, professionalism\, diversity\, creativity and dynamic performance. The performance is limited up to 10 minutes or less per dance. Dance works must not have been performed within a 30 mile radius from the event venue and not less than one month prior to the festival dates. THIS FESTIVAL IS A FAMILY FRIENDLY EVENT WHICH APPEALS TO A WIDE AUDIENCE. DANCE WORKS MUST BE APPROPRIATE FOR ALL AGES. \nWe are looking forward to seeing new and vital work that you have to offer! \nQuestions? Contact Lisa R. Chow at gro.ertaehTecnaDtreseDnull@asiL or Cell 602-740-9616. http://www.desertdancetheatre.org/
URL:https://www.azdancecoalition.org/event/arizona-dance-festival-2025-submission-deadline/
LOCATION:AZ
CATEGORIES:Audition,Dance Performance,Festival,Various Dance Genres
ATTACH;FMTTYPE=image/jpeg:https://www.azdancecoalition.org/wp-content/uploads/2025/06/ADF-2025-Promo-2023-Photos-copy-scaled.jpg
END:VEVENT
END:VCALENDAR