BEGIN:VCALENDAR
VERSION:2.0
PRODID:-//Arizona Dance Coalition - ECPv6.8.3//NONSGML v1.0//EN
CALSCALE:GREGORIAN
METHOD:PUBLISH
X-ORIGINAL-URL:https://www.azdancecoalition.org
X-WR-CALDESC:Events for Arizona Dance Coalition
REFRESH-INTERVAL;VALUE=DURATION:PT1H
X-Robots-Tag:noindex
X-PUBLISHED-TTL:PT1H
BEGIN:VTIMEZONE
TZID:America/Phoenix
BEGIN:STANDARD
TZOFFSETFROM:-0700
TZOFFSETTO:-0700
TZNAME:MST
DTSTART:20250101T000000
END:STANDARD
END:VTIMEZONE
BEGIN:VEVENT
DTSTART;TZID=America/Phoenix:20250818T123000
DTEND;TZID=America/Phoenix:20250818T160000
DTSTAMP:20260421T031016
CREATED:20250719T225455Z
LAST-MODIFIED:20250719T225455Z
UID:28508-1755520200-1755532800@www.azdancecoalition.org
SUMMARY:SCC Dance Auditions
DESCRIPTION:If you are interested in performing with Fusion Dance Ensemble\, looking for a scholarship to study dance at SCC\, or simply want to know your level placement in technique classes\, join us at our August audition!  The audition will consist of a ballet barre and center\, and modern\, jazz and hip hop center and across the floor work.  No prepared material is needed\, but please register for the audition here. \nQuestions?  Email ude.cceladsttocsnull@ecnadccs.
URL:https://www.azdancecoalition.org/event/scc-dance-auditions-4/
LOCATION:Scottsdale Community College\, PE Building\, Rm 135\, 9000 E. Chaparral Rd.\, Scottsdale\, AZ\, 85256\, United States
CATEGORIES:Audition
ATTACH;FMTTYPE=image/png:https://www.azdancecoalition.org/wp-content/uploads/2025/07/Fall-2025-Auditions-Print.png
END:VEVENT
END:VCALENDAR