BEGIN:VCALENDAR
VERSION:2.0
PRODID:-//Arizona Dance Coalition - ECPv6.8.3//NONSGML v1.0//EN
CALSCALE:GREGORIAN
METHOD:PUBLISH
X-WR-CALNAME:Arizona Dance Coalition
X-ORIGINAL-URL:https://www.azdancecoalition.org
X-WR-CALDESC:Events for Arizona Dance Coalition
REFRESH-INTERVAL;VALUE=DURATION:PT1H
X-Robots-Tag:noindex
X-PUBLISHED-TTL:PT1H
BEGIN:VTIMEZONE
TZID:America/Phoenix
BEGIN:STANDARD
TZOFFSETFROM:-0700
TZOFFSETTO:-0700
TZNAME:MST
DTSTART:20240101T000000
END:STANDARD
END:VTIMEZONE
BEGIN:VEVENT
DTSTART;TZID=America/Phoenix:20241001T080000
DTEND;TZID=America/Phoenix:20241031T170000
DTSTAMP:20260419T232731
CREATED:20240913T192027Z
LAST-MODIFIED:20240926T231033Z
UID:25641-1727769600-1730394000@www.azdancecoalition.org
SUMMARY:Free Dance Class at Paradise Valley Community College (Phoenix)
DESCRIPTION:FREE DANCE CLASS AT PARADISE VALLEY COMMUNITY COLLEGE \nJoin us for one free dance class in the month of October at Paradise Valley Community College.   18401 N. 32nd Street\, Phoenix AZ 85032.  Building “F”\, Room F133. \nThe PVCC Dance Program invites you to a free dance class in Ballet\, Modern\, Jazz\, Belly Dance\, Ballroom\, Swing or Latin Dance. \n\nParticipants must be at least 16 years old to participate.\nStudents 16-18 years old must have a parent with them in order to participate.  The parent will sign an assumption of risk form prior to participation.\nAll participants must sign an assumption of risk form prior to participating\nPlease arrive at least 5 minutes prior to the start of the class.\n\nForm more information contact Sonia Valle at 602-787-6808 or at ude.yellavesidarapnull@ellav.ainos. \nFree Dance Class at PVCC
URL:https://www.azdancecoalition.org/event/free-dance-class-at-paradise-valley-community-college-phoenix/
LOCATION:Paradise Valley Community College\, 18401 N 32nd St. \, Phoenix\, AZ\, 85032\, United States
CATEGORIES:Ballet,Belly Dance,Classes,Jazz Dance,Latin Dance / Salsa,Swing Dance
ATTACH;FMTTYPE=application/pdf:https://www.azdancecoalition.org/wp-content/uploads/2024/09/Copy-of-PVCC-Flier-Template-2-1.pdf
END:VEVENT
END:VCALENDAR