BEGIN:VCALENDAR
VERSION:2.0
PRODID:-//Arizona Dance Coalition - ECPv6.8.3//NONSGML v1.0//EN
CALSCALE:GREGORIAN
METHOD:PUBLISH
X-ORIGINAL-URL:https://www.azdancecoalition.org
X-WR-CALDESC:Events for Arizona Dance Coalition
REFRESH-INTERVAL;VALUE=DURATION:PT1H
X-Robots-Tag:noindex
X-PUBLISHED-TTL:PT1H
BEGIN:VTIMEZONE
TZID:America/Phoenix
BEGIN:STANDARD
TZOFFSETFROM:-0700
TZOFFSETTO:-0700
TZNAME:MST
DTSTART:20250101T000000
END:STANDARD
END:VTIMEZONE
BEGIN:VEVENT
DTSTART;TZID=America/Phoenix:20251210T093000
DTEND;TZID=America/Phoenix:20251210T104500
DTSTAMP:20260420T042901
CREATED:20251205T172911Z
LAST-MODIFIED:20251205T173400Z
UID:28913-1765359000-1765363500@www.azdancecoalition.org
SUMMARY:Zuzi! Wednesday Modern (Tucson)
DESCRIPTION:Wednesday Modern \nDec 10\, 2025\, 9:30 AM – 10:45 AM \nThe sYnapse at Studio Y\, 650 N 6th Ave\, Tucson\, AZ 85705\, USA \nA donation based morning modern drop in class with Nanette Robinson!
URL:https://www.azdancecoalition.org/event/zuzi-wednesday-modern-tucson/
LOCATION:sYnapse Studio Y\, 650 N. 6th Ave. ​\, Tucson\, AZ\, 85705\, United States
CATEGORIES:Classes,Contemporary / Modern
ATTACH;FMTTYPE=image/jpeg:https://www.azdancecoalition.org/wp-content/uploads/2025/12/Wednesday-Modern-CRPD.jpg
END:VEVENT
END:VCALENDAR