BEGIN:VCALENDAR
VERSION:2.0
PRODID:-//Arizona Dance Coalition - ECPv6.8.3//NONSGML v1.0//EN
CALSCALE:GREGORIAN
METHOD:PUBLISH
X-WR-CALNAME:Arizona Dance Coalition
X-ORIGINAL-URL:https://www.azdancecoalition.org
X-WR-CALDESC:Events for Arizona Dance Coalition
REFRESH-INTERVAL;VALUE=DURATION:PT1H
X-Robots-Tag:noindex
X-PUBLISHED-TTL:PT1H
BEGIN:VTIMEZONE
TZID:America/Phoenix
BEGIN:STANDARD
TZOFFSETFROM:-0700
TZOFFSETTO:-0700
TZNAME:MST
DTSTART:20260101T000000
END:STANDARD
END:VTIMEZONE
BEGIN:VEVENT
DTSTART;VALUE=DATE:20260112
DTEND;VALUE=DATE:20261220
DTSTAMP:20260425T050122
CREATED:20251216T183900Z
LAST-MODIFIED:20251225T220716Z
UID:29006-1768176000-1797724799@www.azdancecoalition.org
SUMMARY:Private and Semi-Private Tap Lessons with Jenefer Miller
DESCRIPTION:Renowned tap artist and educator Jenefer Miller offers ongoing private tap lessons for dancers seeking strong rhythmic foundations\, artistic growth\, and deeper musical connection. Lessons are individualized and may include technique\, solo or group choreography\, improvisation\, teacher training\, mentorship\, and audition or college prep. Open to all levels. \nContact: moc.snoitcudorpllimjnull@nej | @jenk360
URL:https://www.azdancecoalition.org/event/private-and-semi-private-tap-lessons-with-jenefer-miller/
LOCATION:Tempe\, AZ
CATEGORIES:Book Event and Dance Community Conversation,Classes,Tap Dance,Tap Dance,Teacher Training
ATTACH;FMTTYPE=image/jpeg:https://www.azdancecoalition.org/wp-content/uploads/2025/12/Tap-Teaching-Ad-2-3-scaled.jpg
ORGANIZER;CN="JMill Productions LLC":MAILTO:jen@jmillproductions.com
END:VEVENT
BEGIN:VEVENT
DTSTART;TZID=America/Phoenix:20260227T190000
DTEND;TZID=America/Phoenix:20260227T210000
DTSTAMP:20260425T050122
CREATED:20260226T161609Z
LAST-MODIFIED:20260227T142051Z
UID:29185-1772218800-1772226000@www.azdancecoalition.org
SUMMARY:Ballet Tucson's Desert Voices (Tucson)
DESCRIPTION:Ballet Tucson’s Desert Voices\nWe can’t wait to share our love letter to the Sonoran Desert—created by Tucson\, for Tucson. Join us for the WORLD PREMIERE of Desert Dweller\, a brand-new ballet that celebrates our region’s beauty through inspiring local collaborations:⁣ \n Breathtaking desert botanical photography by @cchavezphoto captured in the blooming gardens of @tohonochul \n Live original music performed onstage by internationally acclaimed guitarist @misael_flamencoguitar \n Athletic\, grounded choreography by our Artistic Director @margaretmullin\, inspired by the strength and beauty of our desert home⁣ \nThis is Tucson at its finest—when our artists unite to honor the desert we love. ⁣ \nTo read the full Tucson Weekly cover story\, click the link in our bio. ⁣ \nDon’t miss this world premiere at Desert Voices! ⁣ \nIn partnership with the Tucson Desert Song Festival and Tucson Guitar Society⁣ \n February 27–March 1\, 2026⁣ \n Temple of Music and Art⁣ \n Tickets start at just $35!⁣ \nhttps://ballettucson.org/performances/desert-voices/ | 520.903.1445⁣ \n𝘋𝘦𝘴𝘦𝘳𝘵 𝘝𝘰𝘪𝘤𝘦𝘴 𝘪𝘴 𝘨𝘦𝘯𝘦𝘳𝘰𝘶𝘴𝘭𝘺 𝘴𝘱𝘰𝘯𝘴𝘰𝘳𝘦𝘥 𝘣𝘺 𝘓𝘭𝘰𝘺𝘥 𝘢𝘯𝘥 𝘔𝘪𝘸𝘢 𝘊𝘭𝘶𝘤𝘢𝘴.⁣⁣ \nPhotos by Carlos Chavez of Kayla DeGaray\, Edward Oyarce-Solomon\, Brooke Amundrud and Sky Byrd⁣ \n#BalletTucson #TucsonWeekly #TohonoChuI #TucsonArts #SonoranDesert \nBallet Tucson continues its longtime partnership with the Tucson Desert Song Festival and Tucson Guitar Society with the highly anticipated return of Chieko Imada’s Himiko. This audience favorite work offers a beautiful blend of ballet and traditional Japanese dance as a tribute to the human spirit\, honor\, and resilience\, featuring music by Yusuke Nakanishi performed live by celebrated ensemble Duo Chinoiserie and Soprano Erika Burkhart. Tucson audiences have marveled at Kiyon Ross’ dynamic ballets and Un-A’frayed Edges\, a “colorful and fantastical” work that plays with speed\, angles\, and formations will be his fifth contribution to our Ballet Tucson repertoire. The program will also include a world premiere by Tucson native Margaret Mullin\, Desert Dweller\, created in collaboration with Tohono Chul Gardens. Filled with vivid projections of striking botanicals captured by photographer Carlos Chavez and set to the music of renowned guitarist Misael Barraza-Diaz\, this work will serve as a celebration of the natural beauty of this region we all call home.
URL:https://www.azdancecoalition.org/event/29185/
LOCATION:The Temple of Music and Art\, 330 S Scott Ave\, Tucson\, AZ\, 85701\, United States
CATEGORIES:Ballet,Dance Performance
ATTACH;FMTTYPE=image/jpeg:https://www.azdancecoalition.org/wp-content/uploads/2026/02/desert-voices-hero-desktop.jpg
END:VEVENT
BEGIN:VEVENT
DTSTART;TZID=America/Phoenix:20260228T100000
DTEND;TZID=America/Phoenix:20260228T170000
DTSTAMP:20260425T050122
CREATED:20260226T094301Z
LAST-MODIFIED:20260226T094636Z
UID:29149-1772272800-1772298000@www.azdancecoalition.org
SUMMARY:Natya Vaibavam: Community Festival in Celebration of Indian Classical Dance (Mesa)
DESCRIPTION:Natya Vaibavam\nEvent by Fine Arts Association of Arizona \n\n\n\n\n\n\n\n\n\n\n\nChinmaya Mission\, Mesa\, AZ \n\n\n\n\n\n\n\n\n\n\nOpen to the Public \n\n\n\n\n\nCommunity festival in celebration of Indian Classical dance forms. Registration begins Jan 15th\, 2026. Please check www.arizonafinearts.org \n\n\nFine Arts Association of Arizona will be presenting Natya Vaibavam through a series of classical dance presentations featuring local talents from Arizona. \n\nAll the events will be conducted at Chinmaya Mission\, 325 El Dorado\, Mesa\, AZ 85202. \nRegistration is now CLOSED.We look forward to seeing you on Feb 28th. \n\n\n\n\n\nDate\nTime\nEvent Details\n\n\nFeb 28\, 2026\n10:00am onwards\nJunior and Senior Classical Dance showcase\n\n\n\n\n\nWe request you to kindly attend the entire program at the venue\, network and support the various dancers\, teachers\, choreographers and celebrate the achievements of this generation. \nYour volunteering will be highly appreciated.
URL:https://www.azdancecoalition.org/event/natya-vaibavam-community-festival-in-celebration-of-indian-classical-dance-mesa/
LOCATION:Chinmaya Mission\, 325 El Dorado\, Mesa\, AZ\, 85202\, United States
CATEGORIES:Bharatanatyam,Classical Indian,Dance Performance,Dances from India,Ethnic,Indian Dance
ATTACH;FMTTYPE=image/jpeg:https://www.azdancecoalition.org/wp-content/uploads/2026/02/Gauri-Bhobe-FAAA-Chimaya.jpg
ORGANIZER;CN="Fine Arts Association of Arizona":MAILTO:azfinearts@yahoo.com
END:VEVENT
BEGIN:VEVENT
DTSTART;TZID=America/Phoenix:20260228T110000
DTEND;TZID=America/Phoenix:20260228T200000
DTSTAMP:20260425T050122
CREATED:20260226T105218Z
LAST-MODIFIED:20260226T105259Z
UID:29159-1772276400-1772308800@www.azdancecoalition.org
SUMMARY:Arizona Festival of Nations (Chandler)
DESCRIPTION:AZ Festival of Nations 2026 Join us for a vibrant celebration that highlights cultural diversity through food\, art\, live performances and community engagement. Date: Sat. Feb 28th\, Sun Mar 1st Time: 11am – 8pm & 11am -7pm Location: DR A.J Chandler Downtown Stage Park
URL:https://www.azdancecoalition.org/event/arizona-festival-of-nations-chandler/
LOCATION:AJ Chandler Park\, 3 S. Arizona Ave.  \, Chandler\, AZ\, United States
CATEGORIES:African,African,Belly Dance,Bharatanatyam,Brazilian Dance,Caribbean,Chinese,Classical Indian,Dance Performance,Dances from India,Ethnic,Festival,Folklorico,Hispanic Heritage,Indian Dance,Indigenous,Mexican Folklorico,Multicultural,Polynesian,Polynesian,West African
ATTACH;FMTTYPE=image/jpeg:https://www.azdancecoalition.org/wp-content/uploads/2026/02/AZ-Fest-of-Nations.jpg
ORGANIZER;CN="Arizona Festival of Nations":MAILTO:salomon@azfestivalofnations.org
END:VEVENT
BEGIN:VEVENT
DTSTART;TZID=America/Phoenix:20260228T140000
DTEND;TZID=America/Phoenix:20260228T160000
DTSTAMP:20260425T050122
CREATED:20260226T161609Z
LAST-MODIFIED:20260226T161959Z
UID:29193-1772287200-1772294400@www.azdancecoalition.org
SUMMARY:Ballet Tucson's Desert Voices (Tucson)
DESCRIPTION:Ballet Tucson’s Desert Voices\nWe can’t wait to share our love letter to the Sonoran Desert—created by Tucson\, for Tucson. Join us for the WORLD PREMIERE of Desert Dweller\, a brand-new ballet that celebrates our region’s beauty through inspiring local collaborations:⁣\n⁣\n Breathtaking desert botanical photography by @cchavezphoto captured in the blooming gardens of @tohonochul\n Live original music performed onstage by internationally acclaimed guitarist @misael_flamencoguitar\n Athletic\, grounded choreography by our Artistic Director @margaretmullin\, inspired by the strength and beauty of our desert home⁣\n⁣\nThis is Tucson at its finest—when our artists unite to honor the desert we love. ⁣\n⁣\nTo read the full Tucson Weekly cover story\, click the link in our bio. ⁣\n⁣\nDon’t miss this world premiere at Desert Voices! ⁣\nIn partnership with the Tucson Desert Song Festival and Tucson Guitar Society⁣\n February 27–March 1\, 2026⁣\n Temple of Music and Art⁣\n Tickets start at just $35!⁣\n⁣\nhttps://ballettucson.org/performances/desert-voices/ | 520.903.1445⁣\n⁣\n𝘋𝘦𝘴𝘦𝘳𝘵 𝘝𝘰𝘪𝘤𝘦𝘴 𝘪𝘴 𝘨𝘦𝘯𝘦𝘳𝘰𝘶𝘴𝘭𝘺 𝘴𝘱𝘰𝘯𝘴𝘰𝘳𝘦𝘥 𝘣𝘺 𝘓𝘭𝘰𝘺𝘥 𝘢𝘯𝘥 𝘔𝘪𝘸𝘢 𝘊𝘭𝘶𝘤𝘢𝘴.⁣\n⁣\nPhotos by Carlos Chavez of Kayla DeGaray\, Edward Oyarce-Solomon\, Brooke Amundrud and Sky Byrd⁣\n#BalletTucson #TucsonWeekly #TohonoChuI #TucsonArts #SonoranDesert\n\nBallet Tucson continues its longtime partnership with the Tucson Desert Song Festival and Tucson Guitar Society with the highly anticipated return of Chieko Imada’s Himiko. This audience favorite work offers a beautiful blend of ballet and traditional Japanese dance as a tribute to the human spirit\, honor\, and resilience\, featuring music by Yusuke Nakanishi performed live by celebrated ensemble Duo Chinoiserie and Soprano Erika Burkhart. Tucson audiences have marveled at Kiyon Ross’ dynamic ballets and Un-A’frayed Edges\, a “colorful and fantastical” work that plays with speed\, angles\, and formations will be his fifth contribution to our Ballet Tucson repertoire. The program will also include a world premiere by Tucson native Margaret Mullin\, Desert Dweller\, created in collaboration with Tohono Chul Gardens. Filled with vivid projections of striking botanicals captured by photographer Carlos Chavez and set to the music of renowned guitarist Misael Barraza-Diaz\, this work will serve as a celebration of the natural beauty of this region we all call home.
URL:https://www.azdancecoalition.org/event/ballet-tucsons-desert-voices-tucson-2/
LOCATION:The Temple of Music and Art\, 330 S Scott Ave\, Tucson\, AZ\, 85701\, United States
CATEGORIES:Ballet,Dance Performance
ATTACH;FMTTYPE=image/jpeg:https://www.azdancecoalition.org/wp-content/uploads/2026/02/desert-voices-hero-desktop.jpg
END:VEVENT
BEGIN:VEVENT
DTSTART;TZID=America/Phoenix:20260228T190000
DTEND;TZID=America/Phoenix:20260228T210000
DTSTAMP:20260425T050122
CREATED:20260226T161609Z
LAST-MODIFIED:20260226T161918Z
UID:29191-1772305200-1772312400@www.azdancecoalition.org
SUMMARY:Ballet Tucson's Desert Voices (Tucson)
DESCRIPTION:Ballet Tucson’s Desert Voices\nWe can’t wait to share our love letter to the Sonoran Desert—created by Tucson\, for Tucson. Join us for the WORLD PREMIERE of Desert Dweller\, a brand-new ballet that celebrates our region’s beauty through inspiring local collaborations:⁣\n⁣\n Breathtaking desert botanical photography by @cchavezphoto captured in the blooming gardens of @tohonochul\n Live original music performed onstage by internationally acclaimed guitarist @misael_flamencoguitar\n Athletic\, grounded choreography by our Artistic Director @margaretmullin\, inspired by the strength and beauty of our desert home⁣\n⁣\nThis is Tucson at its finest—when our artists unite to honor the desert we love. ⁣\n⁣\nTo read the full Tucson Weekly cover story\, click the link in our bio. ⁣\n⁣\nDon’t miss this world premiere at Desert Voices! ⁣\nIn partnership with the Tucson Desert Song Festival and Tucson Guitar Society⁣\n February 27–March 1\, 2026⁣\n Temple of Music and Art⁣\n Tickets start at just $35!⁣\n⁣\nhttps://ballettucson.org/performances/desert-voices/ | 520.903.1445⁣\n⁣\n𝘋𝘦𝘴𝘦𝘳𝘵 𝘝𝘰𝘪𝘤𝘦𝘴 𝘪𝘴 𝘨𝘦𝘯𝘦𝘳𝘰𝘶𝘴𝘭𝘺 𝘴𝘱𝘰𝘯𝘴𝘰𝘳𝘦𝘥 𝘣𝘺 𝘓𝘭𝘰𝘺𝘥 𝘢𝘯𝘥 𝘔𝘪𝘸𝘢 𝘊𝘭𝘶𝘤𝘢𝘴.⁣\n⁣\nPhotos by Carlos Chavez of Kayla DeGaray\, Edward Oyarce-Solomon\, Brooke Amundrud and Sky Byrd⁣\n#BalletTucson #TucsonWeekly #TohonoChuI #TucsonArts #SonoranDesert\n\nBallet Tucson continues its longtime partnership with the Tucson Desert Song Festival and Tucson Guitar Society with the highly anticipated return of Chieko Imada’s Himiko. This audience favorite work offers a beautiful blend of ballet and traditional Japanese dance as a tribute to the human spirit\, honor\, and resilience\, featuring music by Yusuke Nakanishi performed live by celebrated ensemble Duo Chinoiserie and Soprano Erika Burkhart. Tucson audiences have marveled at Kiyon Ross’ dynamic ballets and Un-A’frayed Edges\, a “colorful and fantastical” work that plays with speed\, angles\, and formations will be his fifth contribution to our Ballet Tucson repertoire. The program will also include a world premiere by Tucson native Margaret Mullin\, Desert Dweller\, created in collaboration with Tohono Chul Gardens. Filled with vivid projections of striking botanicals captured by photographer Carlos Chavez and set to the music of renowned guitarist Misael Barraza-Diaz\, this work will serve as a celebration of the natural beauty of this region we all call home.
URL:https://www.azdancecoalition.org/event/ballet-tucsons-desert-voices-tucson/
LOCATION:The Temple of Music and Art\, 330 S Scott Ave\, Tucson\, AZ\, 85701\, United States
CATEGORIES:Ballet,Dance Performance
ATTACH;FMTTYPE=image/jpeg:https://www.azdancecoalition.org/wp-content/uploads/2026/02/desert-voices-hero-desktop.jpg
END:VEVENT
BEGIN:VEVENT
DTSTART;TZID=America/Phoenix:20260228T193000
DTEND;TZID=America/Phoenix:20260228T210000
DTSTAMP:20260425T050122
CREATED:20250506T213912Z
LAST-MODIFIED:20260226T084819Z
UID:28349-1772307000-1772312400@www.azdancecoalition.org
SUMMARY:GALLIM (Scottsdale)
DESCRIPTION:Prepare for a visually breathtaking evening of dance with GALLIM’s signature blend of athleticism and artistry. Founded by visionary choreographer Andrea Miller\, GALLIM is celebrated for its boundary-pushing movement\, raw emotional power\, and beautiful storytelling. GALLIM creates immersive experiences that defy expectations\, like the eerily beautiful From\, which takes the audience on a satisfyingly trippy\, bendy journey. Whether you’re a devoted dance lover or new to contemporary performance\, GALLIM will challenge\, inspire\, and move you.  \nJoin us for a post-show discussion following the performance.  \nAbout the Event \nGALLIM is a home for the exchange of movement wisdom through the three pillars of art-making\, education\, and community-building. Founded in 2007 by groundbreaking choreographer Andrea Miller\, GALLIM nurtures creative careers and stimulates the imagination of worldwide audiences through performance\, education\, and innovation in dance. The company has toured globally\, performing at prestigious venues like Lincoln Center\, The Kennedy Center\, The Metropolitan Museum of Art\, The Guggenheim Museum\, and Jacob’s Pillow\, as well as collaborating across film\, theatre\, fashion\, and visual arts. Miller\, a Guggenheim Fellow and the first choreographer named Artist in Residence at The Metropolitan Museum of Art\, has created works for New York City Ballet\, English National Ballet\, Martha Graham Dance Company\, and The Julliard School. Through the GALLIM School of Movement and Moving Artist Residencies\, the company nurtures emerging artists\, fostering creativity and innovation in dance. 
URL:https://www.azdancecoalition.org/event/gallim/
LOCATION:Scottsdale Center for the Performing Arts\, 7380 E Second St\, Scottsdale\, 85251\, United States
CATEGORIES:Acrobatic,Dance Performance
ATTACH;FMTTYPE=image/webp:https://www.azdancecoalition.org/wp-content/uploads/2025/05/Gallim_1600x900-3-scaled-2000x1125-Photo-by-Rachel-Papo.webp
END:VEVENT
END:VCALENDAR