BEGIN:VCALENDAR
VERSION:2.0
PRODID:-//Arizona Dance Coalition - ECPv6.8.3//NONSGML v1.0//EN
CALSCALE:GREGORIAN
METHOD:PUBLISH
X-ORIGINAL-URL:https://www.azdancecoalition.org
X-WR-CALDESC:Events for Arizona Dance Coalition
REFRESH-INTERVAL;VALUE=DURATION:PT1H
X-Robots-Tag:noindex
X-PUBLISHED-TTL:PT1H
BEGIN:VTIMEZONE
TZID:America/Phoenix
BEGIN:STANDARD
TZOFFSETFROM:-0700
TZOFFSETTO:-0700
TZNAME:MST
DTSTART:20260101T000000
END:STANDARD
END:VTIMEZONE
BEGIN:VEVENT
DTSTART;VALUE=DATE:20260112
DTEND;VALUE=DATE:20261220
DTSTAMP:20260425T050651
CREATED:20251216T183900Z
LAST-MODIFIED:20251225T220716Z
UID:29006-1768176000-1797724799@www.azdancecoalition.org
SUMMARY:Private and Semi-Private Tap Lessons with Jenefer Miller
DESCRIPTION:Renowned tap artist and educator Jenefer Miller offers ongoing private tap lessons for dancers seeking strong rhythmic foundations\, artistic growth\, and deeper musical connection. Lessons are individualized and may include technique\, solo or group choreography\, improvisation\, teacher training\, mentorship\, and audition or college prep. Open to all levels. \nContact: moc.snoitcudorpllimjnull@nej | @jenk360
URL:https://www.azdancecoalition.org/event/private-and-semi-private-tap-lessons-with-jenefer-miller/
LOCATION:Tempe\, AZ
CATEGORIES:Book Event and Dance Community Conversation,Classes,Tap Dance,Tap Dance,Teacher Training
ATTACH;FMTTYPE=image/jpeg:https://www.azdancecoalition.org/wp-content/uploads/2025/12/Tap-Teaching-Ad-2-3-scaled.jpg
ORGANIZER;CN="JMill Productions LLC":MAILTO:jen@jmillproductions.com
END:VEVENT
BEGIN:VEVENT
DTSTART;TZID=America/Phoenix:20260301T110000
DTEND;TZID=America/Phoenix:20260301T190000
DTSTAMP:20260425T050651
CREATED:20260226T105218Z
LAST-MODIFIED:20260226T105423Z
UID:29169-1772362800-1772391600@www.azdancecoalition.org
SUMMARY:Arizona Festival of Nations (Chandler)
DESCRIPTION:AZ Festival of Nations 2026 Join us for a vibrant celebration that highlights cultural diversity through food\, art\, live performances and community engagement. Date: Sat. Feb 28th\, Sun Mar 1st Time: 11am – 8pm & 11am -7pm Location: DR A.J Chandler Downtown Stage Park
URL:https://www.azdancecoalition.org/event/arizona-festival-of-nations-chandler-2/
LOCATION:AJ Chandler Park\, 3 S. Arizona Ave.  \, Chandler\, AZ\, United States
CATEGORIES:African,African,Belly Dance,Bharatanatyam,Brazilian Dance,Caribbean,Chinese,Classical Indian,Dance Performance,Dances from India,Ethnic,Festival,Folklorico,Hispanic Heritage,Indian Dance,Indigenous,Mexican Folklorico,Multicultural,Polynesian,Polynesian,West African
ATTACH;FMTTYPE=image/jpeg:https://www.azdancecoalition.org/wp-content/uploads/2026/02/AZ-Fest-of-Nations.jpg
ORGANIZER;CN="Arizona Festival of Nations":MAILTO:salomon@azfestivalofnations.org
END:VEVENT
BEGIN:VEVENT
DTSTART;TZID=America/Phoenix:20260301T140000
DTEND;TZID=America/Phoenix:20260301T160000
DTSTAMP:20260425T050651
CREATED:20260226T161609Z
LAST-MODIFIED:20260226T162057Z
UID:29195-1772373600-1772380800@www.azdancecoalition.org
SUMMARY:Ballet Tucson's Desert Voices (Tucson)
DESCRIPTION:Ballet Tucson’s Desert Voices\nWe can’t wait to share our love letter to the Sonoran Desert—created by Tucson\, for Tucson. Join us for the WORLD PREMIERE of Desert Dweller\, a brand-new ballet that celebrates our region’s beauty through inspiring local collaborations:⁣\n⁣\n Breathtaking desert botanical photography by @cchavezphoto captured in the blooming gardens of @tohonochul\n Live original music performed onstage by internationally acclaimed guitarist @misael_flamencoguitar\n Athletic\, grounded choreography by our Artistic Director @margaretmullin\, inspired by the strength and beauty of our desert home⁣\n⁣\nThis is Tucson at its finest—when our artists unite to honor the desert we love. ⁣\n⁣\nTo read the full Tucson Weekly cover story\, click the link in our bio. ⁣\n⁣\nDon’t miss this world premiere at Desert Voices! ⁣\nIn partnership with the Tucson Desert Song Festival and Tucson Guitar Society⁣\n February 27–March 1\, 2026⁣\n Temple of Music and Art⁣\n Tickets start at just $35!⁣\n⁣\nhttps://ballettucson.org/performances/desert-voices/ | 520.903.1445⁣\n⁣\n𝘋𝘦𝘴𝘦𝘳𝘵 𝘝𝘰𝘪𝘤𝘦𝘴 𝘪𝘴 𝘨𝘦𝘯𝘦𝘳𝘰𝘶𝘴𝘭𝘺 𝘴𝘱𝘰𝘯𝘴𝘰𝘳𝘦𝘥 𝘣𝘺 𝘓𝘭𝘰𝘺𝘥 𝘢𝘯𝘥 𝘔𝘪𝘸𝘢 𝘊𝘭𝘶𝘤𝘢𝘴.⁣\n⁣\nPhotos by Carlos Chavez of Kayla DeGaray\, Edward Oyarce-Solomon\, Brooke Amundrud and Sky Byrd⁣\n#BalletTucson #TucsonWeekly #TohonoChuI #TucsonArts #SonoranDesert\n\nBallet Tucson continues its longtime partnership with the Tucson Desert Song Festival and Tucson Guitar Society with the highly anticipated return of Chieko Imada’s Himiko. This audience favorite work offers a beautiful blend of ballet and traditional Japanese dance as a tribute to the human spirit\, honor\, and resilience\, featuring music by Yusuke Nakanishi performed live by celebrated ensemble Duo Chinoiserie and Soprano Erika Burkhart. Tucson audiences have marveled at Kiyon Ross’ dynamic ballets and Un-A’frayed Edges\, a “colorful and fantastical” work that plays with speed\, angles\, and formations will be his fifth contribution to our Ballet Tucson repertoire. The program will also include a world premiere by Tucson native Margaret Mullin\, Desert Dweller\, created in collaboration with Tohono Chul Gardens. Filled with vivid projections of striking botanicals captured by photographer Carlos Chavez and set to the music of renowned guitarist Misael Barraza-Diaz\, this work will serve as a celebration of the natural beauty of this region we all call home.
URL:https://www.azdancecoalition.org/event/ballet-tucsons-desert-voices-tucson-3/
LOCATION:The Temple of Music and Art\, 330 S Scott Ave\, Tucson\, AZ\, 85701\, United States
CATEGORIES:Ballet,Dance Performance
ATTACH;FMTTYPE=image/jpeg:https://www.azdancecoalition.org/wp-content/uploads/2026/02/desert-voices-hero-desktop.jpg
END:VEVENT
BEGIN:VEVENT
DTSTART;TZID=America/Phoenix:20260319T190000
DTEND;TZID=America/Phoenix:20260319T210000
DTSTAMP:20260425T050651
CREATED:20260226T150955Z
LAST-MODIFIED:20260226T150955Z
UID:29171-1773946800-1773954000@www.azdancecoalition.org
SUMMARY:Ballet Arizona's Cacti & Other Works (Phoenix)
DESCRIPTION:Cacti & Other Works\n\n\n\n\n\n\n\n\nMarch 19 – 22\, 2026 \nOrpheum Theatre \n\n\n\n\n\n\n\n\n\nChoreography: George Balanchine\, Alexander Ekman\, and Hans van Manen \nMusic: Various Artists (Details Below) \nRuntime: 2 hours and 15 minutes\, inclusive of intermission \nEnjoy the best of contemporary and classical ballets this spring! In this mixed program\, Ballet Arizona celebrates masterful and inventive choreography. Experience three short but dynamic ballets\, similar to a collection of short stories. \nEnhance Your Experience: \nStudio Spotlight \nGo behind-the-scenes! Join us for an in-studio rehearsal with the dancers\, learn more about the production from our Artistic team\, engage in a Q&A\, and MORE! \nMarch 6\, 2026 at 7PM – $30 \nLearn More \n  \nPerformance Chats \nPerformance chats give attendees the opportunity to participate in a FREE Q&A with the company dancers before or after the show. \nLearn More \n\n  \nBallet Arizona Box Office: 602-381-1096 \nHours: Monday – Friday from 9:30 am – 5:30 pm \n2835 E. Washington St. Phoenix\, AZ 85034 \n\n\n\n\nYour spring plans just got better.  \nGet 30% off* Cacti & Other Works with code CACTUS30 — offer ends March 9. \n Join us March 19–22 \n\n\n*Discount code not valid for saver and premium seats. Code must be used before selecting seats. All ticket sales are final.
URL:https://www.azdancecoalition.org/event/ballet-arizonas-cacti-other-works-phoenix/
LOCATION:Phoenix Orpheum Theatre\, 203 W Adams\, Phoenix\, AZ\, 85003\, United States
CATEGORIES:Ballet,Dance Performance,Modern Contemporary
ATTACH;FMTTYPE=image/png:https://www.azdancecoalition.org/wp-content/uploads/2026/02/635146075_1435461981279965_7896925178159762186_n.png
END:VEVENT
BEGIN:VEVENT
DTSTART;TZID=America/Phoenix:20260320T193000
DTEND;TZID=America/Phoenix:20260320T213000
DTSTAMP:20260425T050651
CREATED:20260226T150955Z
LAST-MODIFIED:20260226T151646Z
UID:29175-1774035000-1774042200@www.azdancecoalition.org
SUMMARY:Ballet Arizona's Cacti & Other Works (Phoenix)
DESCRIPTION:Cacti & Other Works\n\n\n\n\n\n\n\n\nMarch 19 – 22\, 2026 \nOrpheum Theatre \n\n\n\n\n\n\n\n\n\nChoreography: George Balanchine\, Alexander Ekman\, and Hans van Manen \nMusic: Various Artists (Details Below) \nRuntime: 2 hours and 15 minutes\, inclusive of intermission \nEnjoy the best of contemporary and classical ballets this spring! In this mixed program\, Ballet Arizona celebrates masterful and inventive choreography. Experience three short but dynamic ballets\, similar to a collection of short stories. \nEnhance Your Experience: \nStudio Spotlight \nGo behind-the-scenes! Join us for an in-studio rehearsal with the dancers\, learn more about the production from our Artistic team\, engage in a Q&A\, and MORE! \nMarch 6\, 2026 at 7PM – $30 \nLearn More \n  \nPerformance Chats \nPerformance chats give attendees the opportunity to participate in a FREE Q&A with the company dancers before or after the show. \nLearn More \n\n  \nBallet Arizona Box Office: 602-381-1096 \nHours: Monday – Friday from 9:30 am – 5:30 pm \n2835 E. Washington St. Phoenix\, AZ 85034 \n\n\n\n\nYour spring plans just got better.  \nGet 30% off* Cacti & Other Works with code CACTUS30 — offer ends March 9. \n Join us March 19–22 \n\n\n*Discount code not valid for saver and premium seats. Code must be used before selecting seats. All ticket sales are final.
URL:https://www.azdancecoalition.org/event/ballet-arizonas-cacti-other-works-phoenix-2/
LOCATION:Phoenix Orpheum Theatre\, 203 W Adams\, Phoenix\, AZ\, 85003\, United States
CATEGORIES:Ballet,Dance Performance,Modern Contemporary
ATTACH;FMTTYPE=image/png:https://www.azdancecoalition.org/wp-content/uploads/2026/02/635146075_1435461981279965_7896925178159762186_n.png
END:VEVENT
BEGIN:VEVENT
DTSTART;TZID=America/Phoenix:20260321T140000
DTEND;TZID=America/Phoenix:20260321T160000
DTSTAMP:20260425T050652
CREATED:20260226T150955Z
LAST-MODIFIED:20260226T151358Z
UID:29177-1774101600-1774108800@www.azdancecoalition.org
SUMMARY:Ballet Arizona's Cacti & Other Works (Phoenix)
DESCRIPTION:Cacti & Other Works\n\n\n\n\n\n\n\n\nMarch 19 – 22\, 2026 \nOrpheum Theatre \n\n\n\n\n\n\n\n\n\nChoreography: George Balanchine\, Alexander Ekman\, and Hans van Manen \nMusic: Various Artists (Details Below) \nRuntime: 2 hours and 15 minutes\, inclusive of intermission \nEnjoy the best of contemporary and classical ballets this spring! In this mixed program\, Ballet Arizona celebrates masterful and inventive choreography. Experience three short but dynamic ballets\, similar to a collection of short stories. \nEnhance Your Experience: \nStudio Spotlight \nGo behind-the-scenes! Join us for an in-studio rehearsal with the dancers\, learn more about the production from our Artistic team\, engage in a Q&A\, and MORE! \nMarch 6\, 2026 at 7PM – $30 \nLearn More \n  \nPerformance Chats \nPerformance chats give attendees the opportunity to participate in a FREE Q&A with the company dancers before or after the show. \nLearn More \n\n  \nBallet Arizona Box Office: 602-381-1096 \nHours: Monday – Friday from 9:30 am – 5:30 pm \n2835 E. Washington St. Phoenix\, AZ 85034 \n\n\n\n\nYour spring plans just got better.  \nGet 30% off* Cacti & Other Works with code CACTUS30 — offer ends March 9. \n Join us March 19–22 \n\n\n*Discount code not valid for saver and premium seats. Code must be used before selecting seats. All ticket sales are final.
URL:https://www.azdancecoalition.org/event/ballet-arizonas-cacti-other-works-phoenix-3/
LOCATION:Phoenix Orpheum Theatre\, 203 W Adams\, Phoenix\, AZ\, 85003\, United States
CATEGORIES:Ballet,Dance Performance,Modern Contemporary
ATTACH;FMTTYPE=image/png:https://www.azdancecoalition.org/wp-content/uploads/2026/02/635146075_1435461981279965_7896925178159762186_n.png
END:VEVENT
BEGIN:VEVENT
DTSTART;TZID=America/Phoenix:20260321T183000
DTEND;TZID=America/Phoenix:20260321T203000
DTSTAMP:20260425T050652
CREATED:20260306T041420Z
LAST-MODIFIED:20260306T041815Z
UID:29220-1774117800-1774125000@www.azdancecoalition.org
SUMMARY:Amor al Baile 10 - Flamenco and more
DESCRIPTION:https://www.azdancecoalition.org/wp-content/uploads/2026/03/Amor-10-Promo_Final-Instagram-Post-34.mp4\nNow celebrating its 10th year\, this captivating performance unites over 30 exceptional dancers from diverse styles; flamenco\, belly dance\, contemporary\, salsa\, and classical Indian dance\, creating an electrifying showcase of movement and expression. The second half of the show features flamenco with live musicians\, including Spanish guitar\, percussion\, singers\, and more. Amor al Baile 10 promises a thrilling fusion of music and dance that will transport audiences to the heart of cultural celebration.
URL:https://www.azdancecoalition.org/event/amor-al-baile-10/
LOCATION:Tempe Center for the Arts – Theater\, 700 W. Rio Salado Parkway\, Tempe\, AZ\, 85281\, United States
CATEGORIES:Belly Dance,Dance Performance,Flamenco,Flamenco,Flamenco Dance,Kathak,Modern Contemporary
ATTACH;FMTTYPE=image/jpeg:https://www.azdancecoalition.org/wp-content/uploads/2026/03/Blank_-Amor10-Flyer_4x6_V2-scaled.jpg
END:VEVENT
BEGIN:VEVENT
DTSTART;TZID=America/Phoenix:20260321T193000
DTEND;TZID=America/Phoenix:20260321T213000
DTSTAMP:20260425T050652
CREATED:20260226T150955Z
LAST-MODIFIED:20260226T151731Z
UID:29179-1774121400-1774128600@www.azdancecoalition.org
SUMMARY:Ballet Arizona's Cacti & Other Works (Phoenix)
DESCRIPTION:Cacti & Other Works\n\n\n\n\n\n\n\n\nMarch 19 – 22\, 2026 \nOrpheum Theatre \n\n\n\n\n\n\n\n\n\nChoreography: George Balanchine\, Alexander Ekman\, and Hans van Manen \nMusic: Various Artists (Details Below) \nRuntime: 2 hours and 15 minutes\, inclusive of intermission \nEnjoy the best of contemporary and classical ballets this spring! In this mixed program\, Ballet Arizona celebrates masterful and inventive choreography. Experience three short but dynamic ballets\, similar to a collection of short stories. \nEnhance Your Experience: \nStudio Spotlight \nGo behind-the-scenes! Join us for an in-studio rehearsal with the dancers\, learn more about the production from our Artistic team\, engage in a Q&A\, and MORE! \nMarch 6\, 2026 at 7PM – $30 \nLearn More \n  \nPerformance Chats \nPerformance chats give attendees the opportunity to participate in a FREE Q&A with the company dancers before or after the show. \nLearn More \n\n  \nBallet Arizona Box Office: 602-381-1096 \nHours: Monday – Friday from 9:30 am – 5:30 pm \n2835 E. Washington St. Phoenix\, AZ 85034 \n\n\n\n\nYour spring plans just got better.  \nGet 30% off* Cacti & Other Works with code CACTUS30 — offer ends March 9. \n Join us March 19–22 \n\n\n*Discount code not valid for saver and premium seats. Code must be used before selecting seats. All ticket sales are final.
URL:https://www.azdancecoalition.org/event/ballet-arizonas-cacti-other-works-phoenix-4/
LOCATION:Phoenix Orpheum Theatre\, 203 W Adams\, Phoenix\, AZ\, 85003\, United States
CATEGORIES:Ballet,Dance Performance,Modern Contemporary
ATTACH;FMTTYPE=image/png:https://www.azdancecoalition.org/wp-content/uploads/2026/02/635146075_1435461981279965_7896925178159762186_n.png
END:VEVENT
BEGIN:VEVENT
DTSTART;TZID=America/Phoenix:20260322T130000
DTEND;TZID=America/Phoenix:20260322T150000
DTSTAMP:20260425T050652
CREATED:20260226T150955Z
LAST-MODIFIED:20260226T151906Z
UID:29181-1774184400-1774191600@www.azdancecoalition.org
SUMMARY:Ballet Arizona's Cacti & Other Works (Phoenix)
DESCRIPTION:Cacti & Other Works\n\n\n\n\n\n\n\n\nMarch 19 – 22\, 2026 \nOrpheum Theatre \n\n\n\n\n\n\n\n\n\nChoreography: George Balanchine\, Alexander Ekman\, and Hans van Manen \nMusic: Various Artists (Details Below) \nRuntime: 2 hours and 15 minutes\, inclusive of intermission \nEnjoy the best of contemporary and classical ballets this spring! In this mixed program\, Ballet Arizona celebrates masterful and inventive choreography. Experience three short but dynamic ballets\, similar to a collection of short stories. \nEnhance Your Experience: \nStudio Spotlight \nGo behind-the-scenes! Join us for an in-studio rehearsal with the dancers\, learn more about the production from our Artistic team\, engage in a Q&A\, and MORE! \nMarch 6\, 2026 at 7PM – $30 \nLearn More \n  \nPerformance Chats \nPerformance chats give attendees the opportunity to participate in a FREE Q&A with the company dancers before or after the show. \nLearn More \n\n  \nBallet Arizona Box Office: 602-381-1096 \nHours: Monday – Friday from 9:30 am – 5:30 pm \n2835 E. Washington St. Phoenix\, AZ 85034 \n\n\n\n\nYour spring plans just got better.  \nGet 30% off* Cacti & Other Works with code CACTUS30 — offer ends March 9. \n Join us March 19–22 \n\n\n*Discount code not valid for saver and premium seats. Code must be used before selecting seats. All ticket sales are final.
URL:https://www.azdancecoalition.org/event/ballet-arizonas-cacti-other-works-phoenix-5/
LOCATION:Phoenix Orpheum Theatre\, 203 W Adams\, Phoenix\, AZ\, 85003\, United States
CATEGORIES:Ballet,Dance Performance,Modern Contemporary
ATTACH;FMTTYPE=image/png:https://www.azdancecoalition.org/wp-content/uploads/2026/02/635146075_1435461981279965_7896925178159762186_n.png
END:VEVENT
BEGIN:VEVENT
DTSTART;TZID=America/Phoenix:20260328T190000
DTEND;TZID=America/Phoenix:20260328T203000
DTSTAMP:20260425T050652
CREATED:20260226T233416Z
LAST-MODIFIED:20260226T234118Z
UID:29197-1774724400-1774729800@www.azdancecoalition.org
SUMMARY:RUBBERBAND "Ever So Slightly" (Tempe)
DESCRIPTION:RUBBERBAND is back\, with ten dancer-athletes in top form. Ever So Slightly explores the behavioral mechanisms and reflexes we develop against the ceaseless flow of irritants that bombard us in our daily lives. Most of us long for calm and resilience\, but how do we get to a zone where noise and aggressivity no longer have a place? Simultaneously delivering delicacy\, brutality\, finesse\, and high-voltage action\, the choreographer conveys all the energy contained in urgency\, revolt\, chaos\, and flight. \nVictor Quijada’s RUBBERBAND is back\, with ten dancer-athletes in top form. Ever So Slightly explores the behavioural mechanisms and reflexes we develop against the ceaseless flow of irritants that bombard us in our daily lives. Most of us long for calm and resilience\, but how do we get to a zone where noise and aggressivity no longer have a place? Simultaneously delivering delicacy\, brutality\, finesse\, and high-voltage action\, the choreographer conveys all the energy contained in urgency\, revolt\, chaos\, and flight. \nThe premiere of Ever So Slightly took place in December 2018 at Théâtre Maisonneuve of Place des Arts\, in Montreal. \nEver So Slightly is a coproduction of RUBBERBAND\, Danse Danse\, Société de la Place des Arts de Montréal\, Théâtre Hector-Charland and Global Arts Live. With the support of the Canada Council for the Arts\, the Conseil des arts et des lettres du Québec\, the Conseil des arts de Montréal and the Ontario Arts Council. \nRUBBERBAND benefited from the support of Danse à la Carte and residencies at Place des Arts\, Salle Pauline-Julien\, CCOV – Centre de création O Vertigo and Théâtre Hector-Charland for the creation of Ever So Slightly.
URL:https://www.azdancecoalition.org/event/rubberband-ever-so-slightly/
LOCATION:ASU Gammage\, 1200 South Forest\, Tempe\, AZ\, United States
CATEGORIES:Dance Performance,Interdisciplinary/Multidisciplinary,Modern Contemporary
ATTACH;FMTTYPE=image/jpeg:https://www.azdancecoalition.org/wp-content/uploads/2026/02/Productions_Vraiment-doucement.jpg
END:VEVENT
BEGIN:VEVENT
DTSTART;TZID=America/Phoenix:20260328T193000
DTEND;TZID=America/Phoenix:20260328T210000
DTSTAMP:20260425T050652
CREATED:20250506T214233Z
LAST-MODIFIED:20250506T214233Z
UID:28352-1774726200-1774731600@www.azdancecoalition.org
SUMMARY:Jacob Jonas The Company
DESCRIPTION:Returning to Arizona with a new work commissioned by Scottsdale Arts\, Jacob Jonas The Company brings its cinematic dance approach to Nature Sounds while the IV Drips\, the second work in its Keeping Score trilogy. The series is choreographer Jacob Jonas’s first post-cancer work. Inspired by Bessel van der Kolk’s book The Body Keeps the Score\, the trilogy is a journey to understanding illness. With original music composed by Imogen Heap\, Nature Sounds while the IV Drips explores themes of endurance and survival through sustained hospital stays\, where a patient is alone with their thoughts while undergoing chemotherapy. JJTC is known for blending contemporary dance\, acrobatics\, and street dance influences. \nAbout the Company \nJacob Jonas The Company (JJTC) is a Los Angeles-based creative company that intersects dance across mediums to make original works and initiate nontraditional collaborations. JJTC has created more than 100 original works for the stage and the camera. Presentations in live performance include Kennedy Center\, Hollywood Bowl\, Lincoln Center\, Wallis Annenberg Center for the Performing Arts\, Lensic Performing Arts Center\, and Scottsdale Center for the Performing Arts. JJTC has collaborated with other artists\, including Rosalia\, Elton John\, Sia\, Vanessa Beecroft\, and Patrick Watson. The company has created original works for brands\, including Apple\, Gap\, James Perse\, and Sony\, and partnered with museums\, including Metropolitan Museum of Art\, Getty Museum\, Swiss National Museum\, and Whitney Museum. The company continues to create work with a mission to make dance more visible and valuable. Instagram: @JacobJonasTheCompany 
URL:https://www.azdancecoalition.org/event/jacob-jonas-the-company-3/
LOCATION:Scottsdale Center for the Performing Arts\, 7380 E Second St\, Scottsdale\, 85251\, United States
CATEGORIES:Acrobatic,Dance Performance,Modern Contemporary
ATTACH;FMTTYPE=image/jpeg:https://www.azdancecoalition.org/wp-content/uploads/2025/05/IMG_1411-scaled.jpeg
END:VEVENT
END:VCALENDAR