BEGIN:VCALENDAR
VERSION:2.0
PRODID:-//Arizona Dance Coalition - ECPv6.8.3//NONSGML v1.0//EN
CALSCALE:GREGORIAN
METHOD:PUBLISH
X-ORIGINAL-URL:https://www.azdancecoalition.org
X-WR-CALDESC:Events for Arizona Dance Coalition
REFRESH-INTERVAL;VALUE=DURATION:PT1H
X-Robots-Tag:noindex
X-PUBLISHED-TTL:PT1H
BEGIN:VTIMEZONE
TZID:America/Phoenix
BEGIN:STANDARD
TZOFFSETFROM:-0700
TZOFFSETTO:-0700
TZNAME:MST
DTSTART:20250101T000000
END:STANDARD
END:VTIMEZONE
BEGIN:VEVENT
DTSTART;TZID=America/Phoenix:20251004T140000
DTEND;TZID=America/Phoenix:20251004T160000
DTSTAMP:20260420T141342
CREATED:20250911T072938Z
LAST-MODIFIED:20250911T073047Z
UID:28609-1759586400-1759593600@www.azdancecoalition.org
SUMMARY:NSALAZ Event at Western Spirit: Scottsdale’s Museum of the West
DESCRIPTION:The National Society of Arts and Letters Arizona Chapter invites members and guests to attend a special gathering on Saturday\, October 4\, from 2pm to 4pm at Western Spirit: Scottsdale’s Museum of the West\, https://westernspirit.org/  \nWestern Spirit: Scottsdale’s Museum of the West\, 3830 N. Marshall Way\, Scottsdale. \nFree parking adjacent to the Museum. \nArrive by 2 pm and enjoy a self-guided tour of the Western Spirit Museum.At 2:30 pm join other NSAL members and their guests for light refreshments\, beverages\, and a program about Trumpet & French Horn plus a dance performance. \n \n  \nMeet Leif Austin for Arizona State University who is our Chair of the 2026 High Brass Competition. Leif will demonstrate how breath becomes music. \n  \n  \n  \n  \n \n  \n  \nEnjoy a special performance by past NSAL dance awardees as they interpret “Hoe Down” from Aaron Copland’s “Rodeo.” \n  \n  \n  \n  \nMembers are encouraged to bring guests of all ages to this complimentary event. To attend\, please RSVP by emailing gro.zalasnnull@ofni with your name\, the names of any guests\, and their email addresses. \nMembership https://nsalaz.org/membership/
URL:https://www.azdancecoalition.org/event/nsalaz-event-at-western-spirit-scottsdales-museum-of-the-west/
LOCATION:Western Spirit: Scottsdale’s Museum of the West\, 3830 N. Marshall Way\, Scottsdale\, AZ\, 85251\, United States
CATEGORIES:Ballet,Community Event,Dance Performance
ATTACH;FMTTYPE=image/jpeg:https://www.azdancecoalition.org/wp-content/uploads/2025/09/unnamed-3.jpg
ORGANIZER;CN="National Society of Arts and Letters / ARIZONA CHAPTER":MAILTO:info@nsalaz.org
END:VEVENT
END:VCALENDAR