BEGIN:VCALENDAR
VERSION:2.0
PRODID:-//Arizona Dance Coalition - ECPv6.8.3//NONSGML v1.0//EN
CALSCALE:GREGORIAN
METHOD:PUBLISH
X-ORIGINAL-URL:https://www.azdancecoalition.org
X-WR-CALDESC:Events for Arizona Dance Coalition
REFRESH-INTERVAL;VALUE=DURATION:PT1H
X-Robots-Tag:noindex
X-PUBLISHED-TTL:PT1H
BEGIN:VTIMEZONE
TZID:America/Phoenix
BEGIN:STANDARD
TZOFFSETFROM:-0700
TZOFFSETTO:-0700
TZNAME:MST
DTSTART:20250101T000000
END:STANDARD
END:VTIMEZONE
BEGIN:VEVENT
DTSTART;TZID=America/Phoenix:20251213T130000
DTEND;TZID=America/Phoenix:20251213T150000
DTSTAMP:20260419T215118
CREATED:20251118T230125Z
LAST-MODIFIED:20251118T230545Z
UID:28773-1765630800-1765638000@www.azdancecoalition.org
SUMMARY:Convergence Ballet Company's The Nutcracker (Phoenix)
DESCRIPTION:The Nutcracker\nDec. 12 – 14 | Herberger Theater Center \n\n\n\nA new approach to the holiday classic with fun for the whole family. \n\nDelight in holiday magic with Convergence Ballet and students from Ballet Theatre of Phoenix for this holiday classic. \nWe are thrilled to welcome back Silambam Phoenix and ¡Ay Flamenco! in the Land of the Sweets for an unforgettable community and cultural performance. \n\nTickets are selling quick; grab yours http://bit.ly/4lvqlDk\n Show times: �December 12\, 6:00pm\nDecember 13\, 1:00pm & 6:00pm\nDecember 14\, 1:00pm\n\n#nutcracker #performance #balletstudio #conballetco #ballettheatrephx #dancestudio #ratking #balletworld
URL:https://www.azdancecoalition.org/event/convergence-ballet-companys-the-nutcracker-phoenix-2/
LOCATION:Herberger Theater Center\, 222 E Monroe St\, Phoenix\, AZ\, United States
CATEGORIES:Ballet,Classical Indian,Dance Performance,Flamenco
ATTACH;FMTTYPE=image/jpeg:https://www.azdancecoalition.org/wp-content/uploads/2025/11/581266565_1248406530659144_457628913704475466_n.jpg
ORGANIZER;CN="Convergence Ballet Company":MAILTO:info@convergenceballet.org
END:VEVENT
BEGIN:VEVENT
DTSTART;TZID=America/Phoenix:20251213T180000
DTEND;TZID=America/Phoenix:20251213T200000
DTSTAMP:20260419T215118
CREATED:20251118T230125Z
LAST-MODIFIED:20251213T012431Z
UID:28775-1765648800-1765656000@www.azdancecoalition.org
SUMMARY:Convergence Ballet Company's The Nutcracker (Phoenix)
DESCRIPTION:The Nutcracker\nDec. 12 – 14 | Herberger Theater Center \n\n\n\nA new approach to the holiday classic with fun for the whole family. \n\nDelight in holiday magic with Convergence Ballet and students from Ballet Theatre of Phoenix for this holiday classic. \nWe are thrilled to welcome back Silambam Phoenix and ¡Ay Flamenco! in the Land of the Sweets for an unforgettable community and cultural performance. \n\nTickets are selling quick; grab yours http://bit.ly/4lvqlDk \n Show times: �December 12\, 6:00pm \nDecember 13\, 1:00pm & 6:00pm \nDecember 14\, 1:00pm \n\n#nutcracker #performance #balletstudio #conballetco #ballettheatrephx #dancestudio #ratking #balletworld
URL:https://www.azdancecoalition.org/event/convergence-ballet-companys-the-nutcracker-phoenix-3/
LOCATION:Herberger Theater Center\, 222 E Monroe St\, Phoenix\, AZ\, United States
CATEGORIES:Ballet,Classical Indian,Dance Performance,Flamenco
ATTACH;FMTTYPE=image/jpeg:https://www.azdancecoalition.org/wp-content/uploads/2025/11/581266565_1248406530659144_457628913704475466_n.jpg
ORGANIZER;CN="Convergence Ballet Company":MAILTO:info@convergenceballet.org
END:VEVENT
END:VCALENDAR