BEGIN:VCALENDAR
VERSION:2.0
PRODID:-//Arizona Dance Coalition - ECPv6.8.3//NONSGML v1.0//EN
CALSCALE:GREGORIAN
METHOD:PUBLISH
X-ORIGINAL-URL:https://www.azdancecoalition.org
X-WR-CALDESC:Events for Arizona Dance Coalition
REFRESH-INTERVAL;VALUE=DURATION:PT1H
X-Robots-Tag:noindex
X-PUBLISHED-TTL:PT1H
BEGIN:VTIMEZONE
TZID:America/Phoenix
BEGIN:STANDARD
TZOFFSETFROM:-0700
TZOFFSETTO:-0700
TZNAME:MST
DTSTART:20260101T000000
END:STANDARD
END:VTIMEZONE
BEGIN:VEVENT
DTSTART;VALUE=DATE:20260112
DTEND;VALUE=DATE:20261220
DTSTAMP:20260424T122416
CREATED:20251216T183900Z
LAST-MODIFIED:20251225T220716Z
UID:29006-1768176000-1797724799@www.azdancecoalition.org
SUMMARY:Private and Semi-Private Tap Lessons with Jenefer Miller
DESCRIPTION:Renowned tap artist and educator Jenefer Miller offers ongoing private tap lessons for dancers seeking strong rhythmic foundations\, artistic growth\, and deeper musical connection. Lessons are individualized and may include technique\, solo or group choreography\, improvisation\, teacher training\, mentorship\, and audition or college prep. Open to all levels. \nContact: moc.snoitcudorpllimjnull@nej | @jenk360
URL:https://www.azdancecoalition.org/event/private-and-semi-private-tap-lessons-with-jenefer-miller/
LOCATION:Tempe\, AZ
CATEGORIES:Book Event and Dance Community Conversation,Classes,Tap Dance,Tap Dance,Teacher Training
ATTACH;FMTTYPE=image/jpeg:https://www.azdancecoalition.org/wp-content/uploads/2025/12/Tap-Teaching-Ad-2-3-scaled.jpg
ORGANIZER;CN="JMill Productions LLC":MAILTO:jen@jmillproductions.com
END:VEVENT
BEGIN:VEVENT
DTSTART;TZID=America/Phoenix:20260425T140000
DTEND;TZID=America/Phoenix:20260425T163000
DTSTAMP:20260424T122416
CREATED:20260325T225111Z
LAST-MODIFIED:20260325T225505Z
UID:29238-1777125600-1777134600@www.azdancecoalition.org
SUMMARY:All That's Between
DESCRIPTION:Mesa Community College Music and Dance Presents the Spring Dance Concert: All That’s Between\, a student practicum concert. \nAll That’s Between takes you through the joy\, the ache\, the spiral\, and the spark exploring everything we feel in the spaces between life. \nPerformance dates: April 24 at 7:30 pm and April 25 at 2 pm \nFeaturing the Mesa Contemporary Dance Ensemble in new choreography by three student choreographers who are completing their practicum at MCC this semester. \nArtistic Director: Jennifer Seigle \nJoin us! \nLobby talk host Jennifer Seigle \nApril 24 at 7:00 pm – Lobby Talk\n7:30 – Performance
URL:https://www.azdancecoalition.org/event/all-thats-between-2/
LOCATION:Mesa Community College Performing Arts Center\, 1520 S Longmore\, Mesa\, AZ\, United States
CATEGORIES:Community Event,Dance Performance,Modern Contemporary,Performance Art
ATTACH;FMTTYPE=image/jpeg:https://www.azdancecoalition.org/wp-content/uploads/2026/03/Square-c-scaled.jpg
END:VEVENT
BEGIN:VEVENT
DTSTART;TZID=America/Phoenix:20260425T193000
DTEND;TZID=America/Phoenix:20260425T210000
DTSTAMP:20260424T122416
CREATED:20260401T212645Z
LAST-MODIFIED:20260401T212645Z
UID:29240-1777145400-1777150800@www.azdancecoalition.org
SUMMARY:HOMEGROWN | An Arizona Choreographer Showcase
DESCRIPTION:Scottsdale Center for the Performing Arts proudly presents HOMEGROWN—an evening dedicated to celebrating the strength and creativity of Arizona’s rich choreographic landscape. This inaugural program highlights four accomplished choreographers: Alicia Nascimento Castro\, Liliana Gomez\, Candy Jimenez\, and Halley Willcox– Methods of Madness Dance Theater. These artists are planting bold new ideas and pushing creative boundaries—and we’re thrilled to showcase their latest creations\, many of which will make their Arizona premiere. Join us for an inspiring evening of movement\, momentum\, and the vibrant artistry thriving right here in our own backyard. \nHOMEGROWN is a reflection of the Center’s ongoing commitment to supporting the blooming talent within Arizona’s dance scene and the growing presence of contemporary dance in the Valley of the Sun.
URL:https://www.azdancecoalition.org/event/homegrown-an-arizona-choreographer-showcase/
LOCATION:Scottsdale Center for the Performing Arts\, 7380 E Second St\, Scottsdale\, 85251\, United States
CATEGORIES:Dance Performance,Modern Contemporary,Performance Art
ATTACH;FMTTYPE=image/jpeg:https://www.azdancecoalition.org/wp-content/uploads/2026/04/20260226-A7B03134-copy-scaled.jpg
END:VEVENT
END:VCALENDAR