BEGIN:VCALENDAR
VERSION:2.0
PRODID:-//Arizona Dance Coalition - ECPv6.8.3//NONSGML v1.0//EN
CALSCALE:GREGORIAN
METHOD:PUBLISH
X-WR-CALNAME:Arizona Dance Coalition
X-ORIGINAL-URL:https://www.azdancecoalition.org
X-WR-CALDESC:Events for Arizona Dance Coalition
REFRESH-INTERVAL;VALUE=DURATION:PT1H
X-Robots-Tag:noindex
X-PUBLISHED-TTL:PT1H
BEGIN:VTIMEZONE
TZID:America/Phoenix
BEGIN:STANDARD
TZOFFSETFROM:-0700
TZOFFSETTO:-0700
TZNAME:MST
DTSTART:20260101T000000
END:STANDARD
END:VTIMEZONE
BEGIN:VEVENT
DTSTART;TZID=America/Phoenix:20260424T193000
DTEND;TZID=America/Phoenix:20260424T213000
DTSTAMP:20260425T142907
CREATED:20260425T163026Z
LAST-MODIFIED:20260425T171949Z
UID:29288-1777059000-1777066200@www.azdancecoalition.org
SUMMARY:CaZo Dance Theatre's YOU ARE NOT ALONE: In Memoriam (Tempe)
DESCRIPTION:Inspired by real stories from CaZo artistic director Bridgette Borzillo and CaZo Dance members\, You are not Alone is a powerful\, movement-driven production that explores the nuances of real high school experiences and the emotional realities of identity\, belonging\, and the silent struggles many face in the age of social media. Touching on many tough subjects many teens struggle with (bullying\, peer pressure\, sexual encounters\, coming out\, rumors\, crushes\, suicide\, body image)\, the work reflects the pressures of friendship\, social expectations\, and the longing to be truly seen. At its core\, You Are Not Alone is a reminder to everyone\, young and old\, that even in life’s darkest moments\, connection is possible; no one has to do it alone. \nOur 2026 presentation of You Are Not Alone is dedicated to the memory of Keanna Agustin\, a beloved dancer and creative force whose spirit\, passion\, and light continue to live on in every movement shared on stage. \nJoin us a half hour before the show forspecial pre-show entertainment. \nApril 24 at 7:30 and April 25th 2 and 7:30pm \nTempe Center for the Arts \nTickets: https://cazodance.com/performances/
URL:https://www.azdancecoalition.org/event/cazo-dance-theatres-you-are-not-alone-in-memoriam-for-keanna-agustin/
LOCATION:Tempe Center for the Arts Studio\, 700 West Rio Salado Parkway\, Tempe\, AZ\, United States
CATEGORIES:Ballet,Dance Performance,Hip Hop,Modern Contemporary,Musical Theater
ATTACH;FMTTYPE=image/jpeg:https://www.azdancecoalition.org/wp-content/uploads/2026/04/CAZO.jpg
ORGANIZER;CN="CaZo Dance Theatre":MAILTO:cazodancecompany@gmail.com
END:VEVENT
BEGIN:VEVENT
DTSTART;TZID=America/Phoenix:20260425T140000
DTEND;TZID=America/Phoenix:20260425T153000
DTSTAMP:20260425T142907
CREATED:20260425T102811Z
LAST-MODIFIED:20260425T153601Z
UID:29277-1777125600-1777131000@www.azdancecoalition.org
SUMMARY:Southwest Ballet Theatre presents "Coppélia" (Avondale)
DESCRIPTION:Southwest Ballet Theatre presents COPPÉLIA\nA Tale of Love\, Mischief\, and Mechanical Wonders \n\n\n\n\n\n\n\n\n\n\n\n\n\nFri. Apr 24th 2026\, 7:00 pm \nSat. Apr 25th 2026\, 2:00 pm \nSat. Apr 25th 2026\, 7:00 pm \nSun. Apr 26th 2026\, 2:00 pm \n\n\n\n\nEstrella Mountain Community College Performing Arts Center – 3000 N. Dysart Road\, Avondale\, AZ 85392 \n\n\n\n\n\n\n\nTickets: https://www.onthestage.tickets/show/southwest-ballet-theatre/ \n\n\n\n\n\n\nCoppélia (also known as The Girl with the Enamel Eyes) features choreography by artistic director Crystal Fullmer after Marius Petipa\, set to the original music of Léo Delibes. Showcasing the talents of Southwest Ballet Theatre dancers and guest artists from Grand Canyon University’s Dance Department\, this comic ballet is sure to entertain audiences of all ages.
URL:https://www.azdancecoalition.org/event/southwest-ballet-theatre-presents-coppelia-avondale-2/
LOCATION:Estrella Mountain Community College\, 3000 N Dysart Rd\, Avondale\, AZ\, 85392\, United States
CATEGORIES:Ballet,Dance Performance
ATTACH;FMTTYPE=image/jpeg:https://www.azdancecoalition.org/wp-content/uploads/2026/04/646127247_1751566592874638_4411305201452484575_n.jpg
ORGANIZER;CN="Southwest Ballet Theatre":MAILTO:admin@swbtballet.org
END:VEVENT
BEGIN:VEVENT
DTSTART;TZID=America/Phoenix:20260425T140000
DTEND;TZID=America/Phoenix:20260425T160000
DTSTAMP:20260425T142907
CREATED:20260425T163026Z
LAST-MODIFIED:20260425T172208Z
UID:29303-1777125600-1777132800@www.azdancecoalition.org
SUMMARY:CaZo Dance Theatre's YOU ARE NOT ALONE: In Memoriam (Tempe)
DESCRIPTION:Inspired by real stories from CaZo artistic director Bridgette Borzillo and CaZo Dance members\, You are not Alone is a powerful\, movement-driven production that explores the nuances of real high school experiences and the emotional realities of identity\, belonging\, and the silent struggles many face in the age of social media. Touching on many tough subjects many teens struggle with (bullying\, peer pressure\, sexual encounters\, coming out\, rumors\, crushes\, suicide\, body image)\, the work reflects the pressures of friendship\, social expectations\, and the longing to be truly seen. At its core\, You Are Not Alone is a reminder to everyone\, young and old\, that even in life’s darkest moments\, connection is possible; no one has to do it alone. \nOur 2026 presentation of You Are Not Alone is dedicated to the memory of Keanna Agustin\, a beloved dancer and creative force whose spirit\, passion\, and light continue to live on in every movement shared on stage. \nJoin us a half hour before the show forspecial pre-show entertainment. \nApril 24 at 7:30 and April 25th 2 and 7:30pm \nTempe Center for the Arts \nTickets: https://cazodance.com/performances/
URL:https://www.azdancecoalition.org/event/cazo-dance-theatres-you-are-not-alone-in-memoriam-tempe-2/
LOCATION:Tempe Center for the Arts Studio\, 700 West Rio Salado Parkway\, Tempe\, AZ\, United States
CATEGORIES:Ballet,Dance Performance,Hip Hop,Modern Contemporary,Musical Theater
ATTACH;FMTTYPE=image/jpeg:https://www.azdancecoalition.org/wp-content/uploads/2026/04/CAZO.jpg
ORGANIZER;CN="CaZo Dance Theatre":MAILTO:cazodancecompany@gmail.com
END:VEVENT
BEGIN:VEVENT
DTSTART;TZID=America/Phoenix:20260425T140000
DTEND;TZID=America/Phoenix:20260425T163000
DTSTAMP:20260425T142907
CREATED:20260325T225111Z
LAST-MODIFIED:20260425T171853Z
UID:29238-1777125600-1777134600@www.azdancecoalition.org
SUMMARY:MCC Music and Dance's Spring Dance Concert: All That's Between (Mesa)
DESCRIPTION:Mesa Community College Music and Dance Presents the Spring Dance Concert: All That’s Between\, a student practicum concert. \nAll That’s Between takes you through the joy\, the ache\, the spiral\, and the spark exploring everything we feel in the spaces between life. \nPerformance dates: April 24 at 7:30 pm and April 25 at 2 pm \nFeaturing the Mesa Contemporary Dance Ensemble in new choreography by three student choreographers who are completing their practicum at MCC this semester. \nArtistic Director: Jennifer Seigle \nJoin us! \nLobby talk host Jennifer Seigle \nApril 24 at 7:00 pm – Lobby Talk\n7:30 – Performance
URL:https://www.azdancecoalition.org/event/all-thats-between-2/
LOCATION:Mesa Community College Performing Arts Center\, 1520 S Longmore\, Mesa\, AZ\, United States
CATEGORIES:Community Event,Dance Performance,Modern Contemporary,Performance Art
ATTACH;FMTTYPE=image/jpeg:https://www.azdancecoalition.org/wp-content/uploads/2026/03/Square-c-scaled.jpg
END:VEVENT
BEGIN:VEVENT
DTSTART;TZID=America/Phoenix:20260425T180000
DTEND;TZID=America/Phoenix:20260425T190000
DTSTAMP:20260425T142907
CREATED:20260425T181049Z
LAST-MODIFIED:20260425T181049Z
UID:29309-1777140000-1777143600@www.azdancecoalition.org
SUMMARY:Movement Source Dance Company - Pop Up Performance (Phoenix)
DESCRIPTION:Join us for a free performance under the sky at @herbergertheater! \n\n\n Saturday\, April 25 \n 6pm \nHerberger Theater Center – Pavilion Stage \n live music by @nolan.mckelvey
URL:https://www.azdancecoalition.org/event/movement-source-dance-company-pop-up-performance-phoenix/
LOCATION:The Pavilion at the Herberger Theater\, 222 East Monroe Street\, Phoenix\, AZ\, 85004\, United States
CATEGORIES:Dance Performance,Modern Contemporary
ATTACH;FMTTYPE=image/jpeg:https://www.azdancecoalition.org/wp-content/uploads/2026/04/678348939_10122087820542471_978612352439488077_n.jpg
ORGANIZER;CN="Movement Source Dance Company":MAILTO:movementsource@gmail.com
END:VEVENT
BEGIN:VEVENT
DTSTART;TZID=America/Phoenix:20260425T190000
DTEND;TZID=America/Phoenix:20260425T203000
DTSTAMP:20260425T142907
CREATED:20260425T102811Z
LAST-MODIFIED:20260425T153709Z
UID:29279-1777143600-1777149000@www.azdancecoalition.org
SUMMARY:Southwest Ballet Theatre presents "Coppélia" (Avondale)
DESCRIPTION:Southwest Ballet Theatre presents COPPÉLIA\nA Tale of Love\, Mischief\, and Mechanical Wonders \n\n\n\n\n\n\n\n\n\n\n\n\n\nFri. Apr 24th 2026\, 7:00 pm \nSat. Apr 25th 2026\, 2:00 pm \nSat. Apr 25th 2026\, 7:00 pm \nSun. Apr 26th 2026\, 2:00 pm \n\n\n\n\nEstrella Mountain Community College Performing Arts Center – 3000 N. Dysart Road\, Avondale\, AZ 85392 \n\n\n\n\n\n\n\nTickets: https://www.onthestage.tickets/show/southwest-ballet-theatre/ \n\n\n\n\n\n\nCoppélia (also known as The Girl with the Enamel Eyes) features choreography by artistic director Crystal Fullmer after Marius Petipa\, set to the original music of Léo Delibes. Showcasing the talents of Southwest Ballet Theatre dancers and guest artists from Grand Canyon University’s Dance Department\, this comic ballet is sure to entertain audiences of all ages.
URL:https://www.azdancecoalition.org/event/southwest-ballet-theatre-presents-coppelia-avondale-3/
LOCATION:Estrella Mountain Community College\, 3000 N Dysart Rd\, Avondale\, AZ\, 85392\, United States
CATEGORIES:Ballet,Dance Performance
ATTACH;FMTTYPE=image/jpeg:https://www.azdancecoalition.org/wp-content/uploads/2026/04/646127247_1751566592874638_4411305201452484575_n.jpg
ORGANIZER;CN="Southwest Ballet Theatre":MAILTO:admin@swbtballet.org
END:VEVENT
BEGIN:VEVENT
DTSTART;TZID=America/Phoenix:20260425T190000
DTEND;TZID=America/Phoenix:20260425T210000
DTSTAMP:20260425T142907
CREATED:20260425T170058Z
LAST-MODIFIED:20260425T170058Z
UID:29292-1777143600-1777150800@www.azdancecoalition.org
SUMMARY:Grey Box Collective's A Decade In The Grey (Phoenix)
DESCRIPTION:A Decade In The Grey\nApril 26th | 7pm | Third Street Theater\, Phoenix Center for the Arts Documentary Film Premiere + Encore Performance + Coloring Book Release \nThis is the moment we’ve been building toward\, a celebration of ten years spent playing in the messy grey areas of life. Join us for the premiere of our documentary film\, a special encore performance of Finger Painting [for grown-ups]\, and the release of our fourth coloring book! \nYou won’t want to miss it. \nEvent Overview: Join Grey Box Collective at Third Street Theater in Phoenix Center for the Arts on April 26th to celebrate all ten seasons! For A Decade in the Grey\, we’ve got the premiere of our documentary film\, an encore performance\, and a new coloring book release. \n6:30p Doors Open 6:45p Pre-show 7:00p Encore Performance of Finger Painting [for grown-ups] Intermission 8:00p Documentary Film Screening 8:45p Q&A with Performers\, Filmmakers & Creatives of GBC Event concludes around 9:15pm \nWhat Audiences Are Saying: “It was a true pleasure to witness Finger Painting [for grown-ups] tonight. It was engaging\, thoughtful\, thought-provoking\, honest\, personal\, funny\, relatable\, beautifully performed\, and wonderfully constructed.” \n“The way Finger Painting [for grown-ups] reflected the collective social anxiety I already feel\, offered an antidote for fear and stress through joy and group play. I appreciated the interactive moments\, care\, and thoughtfulness of the performers and creative team. It was engaging and cathartic.” \n“Grey Box Collective offers a space to hold and reflect our very human experiences\, together\, with care and intention.” \nWhat to expect: Honestly – and we recognize this probably isn’t super helpful – expect the unexpected. As with any Grey Box show\, it’s about the journey\, not the destination. Be as present as possible and enjoy the semi-organized\, chaotic ride. If you’re seated on stage\, you’ll likely be asked to hold things (budgets are tight\, so we appreciate the extra hands) and read things aloud with others (you can always say no or just pretend). No matter where you sit\, performers will talk to you. Don’t be alarmed; they’re just highly caffeinated extroverts seeking human connection. We also recommend warming up your singing voice and brushing up on your Pokémon knowledge to fully engage with the show. \nA lot more detail available at https://www.greyboxcollective.com/event42626 \n\n\n link in bio or greyboxcollective.com
URL:https://www.azdancecoalition.org/event/grey-box-collectives-a-decade-in-the-grey-phoenix/
LOCATION:Phoenix Center for the Arts\, 1202 N. 3rd Street\, Phoenix\, AZ\, 85004\, United States
CATEGORIES:Dance Performance,Documentary,Film Screening,Interdisciplinary/Multidisciplinary,Modern Contemporary
ATTACH;FMTTYPE=image/jpeg:https://www.azdancecoalition.org/wp-content/uploads/2026/04/Grey-Box-Collective.jpg
END:VEVENT
BEGIN:VEVENT
DTSTART;TZID=America/Phoenix:20260425T193000
DTEND;TZID=America/Phoenix:20260425T210000
DTSTAMP:20260425T142907
CREATED:20260401T212645Z
LAST-MODIFIED:20260425T172720Z
UID:29240-1777145400-1777150800@www.azdancecoalition.org
SUMMARY:HOMEGROWN | An Arizona Choreographer Showcase (Scottsdale)
DESCRIPTION:Scottsdale Center for the Performing Arts proudly presents HOMEGROWN—an evening dedicated to celebrating the strength and creativity of Arizona’s rich choreographic landscape. This inaugural program highlights four accomplished choreographers: Alicia Nascimento Castro\, Liliana Gomez\, Candy Jimenez\, and Halley Willcox– Methods of Madness Dance Theater. These artists are planting bold new ideas and pushing creative boundaries—and we’re thrilled to showcase their latest creations\, many of which will make their Arizona premiere. Join us for an inspiring evening of movement\, momentum\, and the vibrant artistry thriving right here in our own backyard. \nHOMEGROWN is a reflection of the Center’s ongoing commitment to supporting the blooming talent within Arizona’s dance scene and the growing presence of contemporary dance in the Valley of the Sun.
URL:https://www.azdancecoalition.org/event/homegrown-an-arizona-choreographer-showcase/
LOCATION:Scottsdale Center for the Performing Arts\, 7380 E Second St\, Scottsdale\, 85251\, United States
CATEGORIES:Dance Performance,Modern Contemporary,Performance Art
ATTACH;FMTTYPE=image/jpeg:https://www.azdancecoalition.org/wp-content/uploads/2026/04/20260226-A7B03134-copy-scaled.jpg
END:VEVENT
BEGIN:VEVENT
DTSTART;TZID=America/Phoenix:20260425T193000
DTEND;TZID=America/Phoenix:20260425T213000
DTSTAMP:20260425T142907
CREATED:20260425T163026Z
LAST-MODIFIED:20260425T172105Z
UID:29301-1777145400-1777152600@www.azdancecoalition.org
SUMMARY:CaZo Dance Theatre's YOU ARE NOT ALONE: In Memoriam (Tempe)
DESCRIPTION:Inspired by real stories from CaZo artistic director Bridgette Borzillo and CaZo Dance members\, You are not Alone is a powerful\, movement-driven production that explores the nuances of real high school experiences and the emotional realities of identity\, belonging\, and the silent struggles many face in the age of social media. Touching on many tough subjects many teens struggle with (bullying\, peer pressure\, sexual encounters\, coming out\, rumors\, crushes\, suicide\, body image)\, the work reflects the pressures of friendship\, social expectations\, and the longing to be truly seen. At its core\, You Are Not Alone is a reminder to everyone\, young and old\, that even in life’s darkest moments\, connection is possible; no one has to do it alone. \nOur 2026 presentation of You Are Not Alone is dedicated to the memory of Keanna Agustin\, a beloved dancer and creative force whose spirit\, passion\, and light continue to live on in every movement shared on stage. \nJoin us a half hour before the show forspecial pre-show entertainment. \nApril 24 at 7:30 and April 25th 2 and 7:30pm \nTempe Center for the Arts \nTickets: https://cazodance.com/performances/
URL:https://www.azdancecoalition.org/event/cazo-dance-theatres-you-are-not-alone-in-memoriam-tempe/
LOCATION:Tempe Center for the Arts Studio\, 700 West Rio Salado Parkway\, Tempe\, AZ\, United States
CATEGORIES:Ballet,Dance Performance,Hip Hop,Modern Contemporary,Musical Theater
ATTACH;FMTTYPE=image/jpeg:https://www.azdancecoalition.org/wp-content/uploads/2026/04/CAZO.jpg
ORGANIZER;CN="CaZo Dance Theatre":MAILTO:cazodancecompany@gmail.com
END:VEVENT
BEGIN:VEVENT
DTSTART;TZID=America/Phoenix:20260426T140000
DTEND;TZID=America/Phoenix:20260426T153000
DTSTAMP:20260425T142907
CREATED:20260425T102811Z
LAST-MODIFIED:20260425T153239Z
UID:29281-1777212000-1777217400@www.azdancecoalition.org
SUMMARY:Southwest Ballet Theatre presents "Coppélia" (Avondale)
DESCRIPTION:Southwest Ballet Theatre presents COPPÉLIA\nA Tale of Love\, Mischief\, and Mechanical Wonders \n\n\n\n\n\n\n\n\n\n\n\n\n\nFri. Apr 24th 2026\, 7:00 pm \nSat. Apr 25th 2026\, 2:00 pm \nSat. Apr 25th 2026\, 7:00 pm \nSun. Apr 26th 2026\, 2:00 pm \n\n\n\n\nEstrella Mountain Community College Performing Arts Center – 3000 N. Dysart Road\, Avondale\, AZ 85392 \n\n\n\n\n\n\n\nTickets: https://www.onthestage.tickets/show/southwest-ballet-theatre/ \n\n\n\n\n\n\nCoppélia (also known as The Girl with the Enamel Eyes) features choreography by artistic director Crystal Fullmer after Marius Petipa\, set to the original music of Léo Delibes. Showcasing the talents of Southwest Ballet Theatre dancers and guest artists from Grand Canyon University’s Dance Department\, this comic ballet is sure to entertain audiences of all ages.
URL:https://www.azdancecoalition.org/event/southwest-ballet-theatre-presents-coppelia-avondale-4/
LOCATION:Estrella Mountain Community College\, 3000 N Dysart Rd\, Avondale\, AZ\, 85392\, United States
CATEGORIES:Ballet,Dance Performance
ATTACH;FMTTYPE=image/jpeg:https://www.azdancecoalition.org/wp-content/uploads/2026/04/646127247_1751566592874638_4411305201452484575_n.jpg
ORGANIZER;CN="Southwest Ballet Theatre":MAILTO:admin@swbtballet.org
END:VEVENT
BEGIN:VEVENT
DTSTART;TZID=America/Phoenix:20260426T180000
DTEND;TZID=America/Phoenix:20260426T200000
DTSTAMP:20260425T142907
CREATED:20260425T175134Z
LAST-MODIFIED:20260425T175134Z
UID:29306-1777226400-1777233600@www.azdancecoalition.org
SUMMARY:Convergence Ballet's The Space Before: An Evening of Metamorphosis (Phoenix)
DESCRIPTION:The Space Before\nApril 26th | 6:00pm \n\n\n\nAn evening of metamorphosis with Convergence Ballet. \nJoin us for an evening that reveals where Convergence Ballet is headed. Playful\, lyrical\, and quietly bold\, the program traces the shift from what was to what’s possible. New creations by Artistic Director Ian Parsons slip between surreal dreamscapes\, intimate reflection\, and the pulse of emerging identity\, weaving together a night that celebrates evolution in all its forms. \nConvergence Ballet presents a bold and deeply personal mixed repertory program marking Artistic Director Ian Parsons’ first full choreographic offering to Phoenix audiences. The evening features Peggy Baker’s acclaimed 5 Views of the Temple Garden alongside Parsons’ own works — including two world premieres. \nFrom dark\, driving neoclassical movement to an intimate lyrical meditation on longing\, the program culminates in With a Little Help from the Static\, where The Beatles collide with baroque ballet in a theatrical and joyful celebration of dance. Intimate\, inventive\, and emotionally resonant\, this is Convergence Ballet at a turning point. \nApril 26 at 6:00 PM\nDorrance Theatre\nAddress: 2835 E. Washington St Phoenix\, AZ 85034\n(Located inside Ballet Arizona)
URL:https://www.azdancecoalition.org/event/convergence-ballets-the-space-before-an-evening-of-metamorphosis-phoenix/
LOCATION:Dorrance Theatre at Ballet Arizona\, 2835 East Washington Street\, Phoenix\, AZ\, 85034\, United States
CATEGORIES:Ballet,Dance Performance,Modern Contemporary
ATTACH;FMTTYPE=image/jpeg:https://www.azdancecoalition.org/wp-content/uploads/2026/04/Convergence-Photo.jpg
ORGANIZER;CN="Convergence Ballet Company":MAILTO:info@convergenceballet.org
END:VEVENT
BEGIN:VEVENT
DTSTART;TZID=America/Phoenix:20260508T200000
DTEND;TZID=America/Phoenix:20260508T220000
DTSTAMP:20260425T142907
CREATED:20260408T220025Z
LAST-MODIFIED:20260408T220025Z
UID:29255-1778270400-1778277600@www.azdancecoalition.org
SUMMARY:SCC Dance Presents Kinetic Connections
DESCRIPTION:The award-winning Scottsdale Community College Dance Program presents Kinetic Connections\, an exciting evening of movement showcasing works by eight choreographers. They will be joined by guests Bodies Contemporary Company and Tareake Dorill Ramos. This all-ages performance will be presented in person and via livestream. Join us for this inspiring biannual SCC Dance tradition! \nIf you go \nWhen: Friday\, May 8 and Saturday\, May 9\, 8:00 p.m. \nWhere: Scottsdale Community College Performing Arts Center and online \nAdmission: Free (donations graciously accepted) \nHow to Attend: Click here to reserve in-person tickets and to register for the livestream. Walk-ins will be first come\, first served.
URL:https://www.azdancecoalition.org/event/scc-dance-presents-kinetic-connections-12/
LOCATION:Scottsdale Community College Performing Arts Center\, 9000 E. Chaparral Rd.\, Scottsdale\, AZ\, 85256\, United States
CATEGORIES:Dance Performance
ATTACH;FMTTYPE=application/pdf:https://www.azdancecoalition.org/wp-content/uploads/2026/04/KC_Flyer_SP2026_Final_web.pdf
END:VEVENT
BEGIN:VEVENT
DTSTART;TZID=America/Phoenix:20260509T200000
DTEND;TZID=America/Phoenix:20260509T220000
DTSTAMP:20260425T142907
CREATED:20260408T220248Z
LAST-MODIFIED:20260408T220248Z
UID:29258-1778356800-1778364000@www.azdancecoalition.org
SUMMARY:SCC Dance Presents Kinetic Connections
DESCRIPTION:The award-winning Scottsdale Community College Dance Program presents Kinetic Connections\, an exciting evening of movement showcasing works by eight choreographers. They will be joined by guests Bodies Contemporary Company and Tareake Dorill Ramos. This all-ages performance will be presented in person and via livestream. Join us for this inspiring biannual SCC Dance tradition! \nIf you go \nWhen: Friday\, May 8 and Saturday\, May 9\, 8:00 p.m. \nWhere: Scottsdale Community College Performing Arts Center and online \nAdmission: Free (donations graciously accepted) \nHow to Attend: Click here to reserve in-person tickets and to register for the livestream. Walk-ins will be first come\, first served.
URL:https://www.azdancecoalition.org/event/scc-dance-presents-kinetic-connections-13/
LOCATION:Scottsdale Community College Performing Arts Center\, 9000 E. Chaparral Rd.\, Scottsdale\, AZ\, 85256\, United States
CATEGORIES:Dance Performance
ATTACH;FMTTYPE=application/pdf:https://www.azdancecoalition.org/wp-content/uploads/2026/04/KC_Flyer_SP2026_Final_web-1.pdf
END:VEVENT
BEGIN:VEVENT
DTSTART;VALUE=DATE:20260525
DTEND;VALUE=DATE:20260526
DTSTAMP:20260425T142907
CREATED:20180306T194230Z
LAST-MODIFIED:20180306T194230Z
UID:25093-1779667200-1779753599@www.azdancecoalition.org
SUMMARY:National TAP DANCE DAY ~ a global event
DESCRIPTION:National TAP DANCE DAY is celebrated around the world on the birth date of the light-footed tap dance legend Bill ‘Bojangles’ Robinson. \nNational Tap Dance Day\, initially commemorated on May 25\, 1989\, is now celebrated internationally every year. The law was passed by the 101st United States Congress\, however from Tokyo to New York City and throughout Europe and Asia\, there are celebrations\, large and small. Tap dance enthusiasts\, students\, and professionals come together all through the month of May to celebrate the art form with performances\, workshops\, tap jams and more. https://tapdanceday.org/about-tap-dance-day/ \nCheck for events in your community and support this dance art form created in the U.S.A. \nPhoto: June 2011 – Hilary Tone and Jeff Baciagalupo\, Tucson’s National Tap Dance Day Celebration / Sounds of the Soles of the Southwest. Photo by LaCorte Photography. \n 
URL:https://www.azdancecoalition.org/event/national-tap-dance-day-a-global-event-2026-05-25/
LOCATION:AZ
CATEGORIES:Tap Dance,Tap Dance
ATTACH;FMTTYPE=image/jpeg:https://www.azdancecoalition.org/wp-content/uploads/2016/07/2011-6_hilary-tone_jeff-baciagalupo_lacorte.jpg
END:VEVENT
END:VCALENDAR