BEGIN:VCALENDAR
VERSION:2.0
PRODID:-//Arizona Dance Coalition - ECPv6.8.3//NONSGML v1.0//EN
CALSCALE:GREGORIAN
METHOD:PUBLISH
X-WR-CALNAME:Arizona Dance Coalition
X-ORIGINAL-URL:https://www.azdancecoalition.org
X-WR-CALDESC:Events for Arizona Dance Coalition
REFRESH-INTERVAL;VALUE=DURATION:PT1H
X-Robots-Tag:noindex
X-PUBLISHED-TTL:PT1H
BEGIN:VTIMEZONE
TZID:America/Phoenix
BEGIN:STANDARD
TZOFFSETFROM:-0700
TZOFFSETTO:-0700
TZNAME:MST
DTSTART:20260101T000000
END:STANDARD
END:VTIMEZONE
BEGIN:VEVENT
DTSTART;TZID=America/Phoenix:20260426T180000
DTEND;TZID=America/Phoenix:20260426T200000
DTSTAMP:20260425T155956
CREATED:20260425T175134Z
LAST-MODIFIED:20260425T175134Z
UID:29306-1777226400-1777233600@www.azdancecoalition.org
SUMMARY:Convergence Ballet's The Space Before: An Evening of Metamorphosis (Phoenix)
DESCRIPTION:The Space Before\nApril 26th | 6:00pm \n\n\n\nAn evening of metamorphosis with Convergence Ballet. \nJoin us for an evening that reveals where Convergence Ballet is headed. Playful\, lyrical\, and quietly bold\, the program traces the shift from what was to what’s possible. New creations by Artistic Director Ian Parsons slip between surreal dreamscapes\, intimate reflection\, and the pulse of emerging identity\, weaving together a night that celebrates evolution in all its forms. \nConvergence Ballet presents a bold and deeply personal mixed repertory program marking Artistic Director Ian Parsons’ first full choreographic offering to Phoenix audiences. The evening features Peggy Baker’s acclaimed 5 Views of the Temple Garden alongside Parsons’ own works — including two world premieres. \nFrom dark\, driving neoclassical movement to an intimate lyrical meditation on longing\, the program culminates in With a Little Help from the Static\, where The Beatles collide with baroque ballet in a theatrical and joyful celebration of dance. Intimate\, inventive\, and emotionally resonant\, this is Convergence Ballet at a turning point. \nApril 26 at 6:00 PM\nDorrance Theatre\nAddress: 2835 E. Washington St Phoenix\, AZ 85034\n(Located inside Ballet Arizona)
URL:https://www.azdancecoalition.org/event/convergence-ballets-the-space-before-an-evening-of-metamorphosis-phoenix/
LOCATION:Dorrance Theatre at Ballet Arizona\, 2835 East Washington Street\, Phoenix\, AZ\, 85034\, United States
CATEGORIES:Ballet,Dance Performance,Modern Contemporary
ATTACH;FMTTYPE=image/jpeg:https://www.azdancecoalition.org/wp-content/uploads/2026/04/Convergence-Photo.jpg
ORGANIZER;CN="Convergence Ballet Company":MAILTO:info@convergenceballet.org
END:VEVENT
BEGIN:VEVENT
DTSTART;TZID=America/Phoenix:20260508T200000
DTEND;TZID=America/Phoenix:20260508T220000
DTSTAMP:20260425T155956
CREATED:20260408T220025Z
LAST-MODIFIED:20260408T220025Z
UID:29255-1778270400-1778277600@www.azdancecoalition.org
SUMMARY:SCC Dance Presents Kinetic Connections
DESCRIPTION:The award-winning Scottsdale Community College Dance Program presents Kinetic Connections\, an exciting evening of movement showcasing works by eight choreographers. They will be joined by guests Bodies Contemporary Company and Tareake Dorill Ramos. This all-ages performance will be presented in person and via livestream. Join us for this inspiring biannual SCC Dance tradition! \nIf you go \nWhen: Friday\, May 8 and Saturday\, May 9\, 8:00 p.m. \nWhere: Scottsdale Community College Performing Arts Center and online \nAdmission: Free (donations graciously accepted) \nHow to Attend: Click here to reserve in-person tickets and to register for the livestream. Walk-ins will be first come\, first served.
URL:https://www.azdancecoalition.org/event/scc-dance-presents-kinetic-connections-12/
LOCATION:Scottsdale Community College Performing Arts Center\, 9000 E. Chaparral Rd.\, Scottsdale\, AZ\, 85256\, United States
CATEGORIES:Dance Performance
ATTACH;FMTTYPE=application/pdf:https://www.azdancecoalition.org/wp-content/uploads/2026/04/KC_Flyer_SP2026_Final_web.pdf
END:VEVENT
BEGIN:VEVENT
DTSTART;TZID=America/Phoenix:20260509T200000
DTEND;TZID=America/Phoenix:20260509T220000
DTSTAMP:20260425T155956
CREATED:20260408T220248Z
LAST-MODIFIED:20260408T220248Z
UID:29258-1778356800-1778364000@www.azdancecoalition.org
SUMMARY:SCC Dance Presents Kinetic Connections
DESCRIPTION:The award-winning Scottsdale Community College Dance Program presents Kinetic Connections\, an exciting evening of movement showcasing works by eight choreographers. They will be joined by guests Bodies Contemporary Company and Tareake Dorill Ramos. This all-ages performance will be presented in person and via livestream. Join us for this inspiring biannual SCC Dance tradition! \nIf you go \nWhen: Friday\, May 8 and Saturday\, May 9\, 8:00 p.m. \nWhere: Scottsdale Community College Performing Arts Center and online \nAdmission: Free (donations graciously accepted) \nHow to Attend: Click here to reserve in-person tickets and to register for the livestream. Walk-ins will be first come\, first served.
URL:https://www.azdancecoalition.org/event/scc-dance-presents-kinetic-connections-13/
LOCATION:Scottsdale Community College Performing Arts Center\, 9000 E. Chaparral Rd.\, Scottsdale\, AZ\, 85256\, United States
CATEGORIES:Dance Performance
ATTACH;FMTTYPE=application/pdf:https://www.azdancecoalition.org/wp-content/uploads/2026/04/KC_Flyer_SP2026_Final_web-1.pdf
END:VEVENT
BEGIN:VEVENT
DTSTART;VALUE=DATE:20260525
DTEND;VALUE=DATE:20260526
DTSTAMP:20260425T155956
CREATED:20180306T194230Z
LAST-MODIFIED:20180306T194230Z
UID:25093-1779667200-1779753599@www.azdancecoalition.org
SUMMARY:National TAP DANCE DAY ~ a global event
DESCRIPTION:National TAP DANCE DAY is celebrated around the world on the birth date of the light-footed tap dance legend Bill ‘Bojangles’ Robinson. \nNational Tap Dance Day\, initially commemorated on May 25\, 1989\, is now celebrated internationally every year. The law was passed by the 101st United States Congress\, however from Tokyo to New York City and throughout Europe and Asia\, there are celebrations\, large and small. Tap dance enthusiasts\, students\, and professionals come together all through the month of May to celebrate the art form with performances\, workshops\, tap jams and more. https://tapdanceday.org/about-tap-dance-day/ \nCheck for events in your community and support this dance art form created in the U.S.A. \nPhoto: June 2011 – Hilary Tone and Jeff Baciagalupo\, Tucson’s National Tap Dance Day Celebration / Sounds of the Soles of the Southwest. Photo by LaCorte Photography. \n 
URL:https://www.azdancecoalition.org/event/national-tap-dance-day-a-global-event-2026-05-25/
LOCATION:AZ
CATEGORIES:Tap Dance,Tap Dance
ATTACH;FMTTYPE=image/jpeg:https://www.azdancecoalition.org/wp-content/uploads/2016/07/2011-6_hilary-tone_jeff-baciagalupo_lacorte.jpg
END:VEVENT
END:VCALENDAR