BEGIN:VCALENDAR
VERSION:2.0
PRODID:-//Arizona Dance Coalition - ECPv6.8.3//NONSGML v1.0//EN
CALSCALE:GREGORIAN
METHOD:PUBLISH
X-WR-CALNAME:Arizona Dance Coalition
X-ORIGINAL-URL:https://www.azdancecoalition.org
X-WR-CALDESC:Events for Arizona Dance Coalition
REFRESH-INTERVAL;VALUE=DURATION:PT1H
X-Robots-Tag:noindex
X-PUBLISHED-TTL:PT1H
BEGIN:VTIMEZONE
TZID:America/Phoenix
BEGIN:STANDARD
TZOFFSETFROM:-0700
TZOFFSETTO:-0700
TZNAME:MST
DTSTART:20170101T000000
END:STANDARD
END:VTIMEZONE
BEGIN:VEVENT
DTSTART;TZID=America/Phoenix:20171027T190000
DTEND;TZID=America/Phoenix:20171027T210000
DTSTAMP:20260420T124437
CREATED:20170913T031849Z
LAST-MODIFIED:20170930T005159Z
UID:11849-1509130800-1509138000@www.azdancecoalition.org
SUMMARY:SW Ballet Theatre Harvest Gala (Avondale)
DESCRIPTION:Southwest Ballet Theatre (SWBT) and guests invite you to their first Harvest Gala at Estrella Mountain Community College’s Performing Arts Center\, located at 3000 North Dysart Rd in Avondale. SWBT is joined by guest performers from Convergence Dance Company\, DancEstrella\, Keleidoscape Dance\, SistElos Company\, and Pas de Quatre performed by guest artists.  Enjoy original works by Daniel Baudendistel performed by students of SWBT with piano accompaniment by Alex Richards. 
URL:https://www.azdancecoalition.org/event/swbt-presents-harvest-gala/
LOCATION:AZ
CATEGORIES:Ballet,Dance Performance,Modern Contemporary,Variety Show
ORGANIZER;CN="Southwest Ballet Theatre":MAILTO:admin@swbtballet.org
END:VEVENT
END:VCALENDAR