BEGIN:VCALENDAR
VERSION:2.0
PRODID:-//Arizona Dance Coalition - ECPv6.8.3//NONSGML v1.0//EN
CALSCALE:GREGORIAN
METHOD:PUBLISH
X-WR-CALNAME:Arizona Dance Coalition
X-ORIGINAL-URL:https://www.azdancecoalition.org
X-WR-CALDESC:Events for Arizona Dance Coalition
REFRESH-INTERVAL;VALUE=DURATION:PT1H
X-Robots-Tag:noindex
X-PUBLISHED-TTL:PT1H
BEGIN:VTIMEZONE
TZID:America/Phoenix
BEGIN:STANDARD
TZOFFSETFROM:-0700
TZOFFSETTO:-0700
TZNAME:MST
DTSTART:20190101T000000
END:STANDARD
END:VTIMEZONE
BEGIN:VEVENT
DTSTART;TZID=America/Phoenix:20190403T190000
DTEND;TZID=America/Phoenix:20190403T203000
DTSTAMP:20260419T083449
CREATED:20190319T020254Z
LAST-MODIFIED:20190320T012115Z
UID:16871-1554318000-1554323400@www.azdancecoalition.org
SUMMARY:Chandler-Gilbert CC Student Dance Showcase (Chandler)
DESCRIPTION:Chandler-Gilbert CC Student Dance Showcase (Chandler)\nPlease join the Chandler-Gilbert Community College dance students for an evening of original works. A diverse set of dance styles will be represented in this show completely comprised of student choreographed works. Admission is free. Seating is limited\, doors open at 6:30 pm. More information can be found at cgc.edu/arts.
URL:https://www.azdancecoalition.org/event/cgcc-student-dance-showcase/
LOCATION:Chandler-Gilbert Community College AGA 1300\, 2626 E. Pecos Road\, Chandler\, AZ\, 85225\, United States
CATEGORIES:Dance Performance,Hip Hop,Hip Hop,Modern Contemporary,STUDENT SHOW,Variety Show
ORGANIZER;CN="Chandler-Gilbert Community College Dance":MAILTO:micaela.church@cgc.edu
END:VEVENT
END:VCALENDAR