BEGIN:VCALENDAR
VERSION:2.0
PRODID:-//Arizona Dance Coalition - ECPv6.8.3//NONSGML v1.0//EN
CALSCALE:GREGORIAN
METHOD:PUBLISH
X-ORIGINAL-URL:https://www.azdancecoalition.org
X-WR-CALDESC:Events for Arizona Dance Coalition
REFRESH-INTERVAL;VALUE=DURATION:PT1H
X-Robots-Tag:noindex
X-PUBLISHED-TTL:PT1H
BEGIN:VTIMEZONE
TZID:America/Phoenix
BEGIN:STANDARD
TZOFFSETFROM:-0700
TZOFFSETTO:-0700
TZNAME:MST
DTSTART:20190101T000000
END:STANDARD
END:VTIMEZONE
BEGIN:VEVENT
DTSTART;TZID=America/Phoenix:20190430T173000
DTEND;TZID=America/Phoenix:20190430T213000
DTSTAMP:20260423T090513
CREATED:20190325T044651Z
LAST-MODIFIED:20190325T162134Z
UID:16988-1556645400-1556659800@www.azdancecoalition.org
SUMMARY:Maricopa CC Artists of Promise Gala Performance (PHX)
DESCRIPTION:Maricopa CC Artists of Promise Gala Performance (PHX)\nCelebrate this year’s Chancellor Award Winners of the Maricopa Community Colleges’ Artists of Promise competition! In addition to winners in disciplines spanning creative writing to fashion design and more\, this Gala Performance will include works by four student choreographers: Chanel Craig\, Spencer Dennis\, Callista Mincks\, and Kyara Parker. Come support the amazing work of these choreographers! \nThe event begins with an art exhibition and reception at 5:30 pm\, followed by the live performances at 6:30 pm. Admission is free. \nFor more information\, please visit Artist of Promise Gala Performance.
URL:https://www.azdancecoalition.org/event/artists-of-promise-gala-performance/
LOCATION:Orpheum Theatre\, 203 W Adams St\, Phoenix\, AZ\, 85003\, United States
CATEGORIES:Dance Performance,Modern Contemporary,Variety Show
END:VEVENT
END:VCALENDAR