BEGIN:VCALENDAR
VERSION:2.0
PRODID:-//Arizona Dance Coalition - ECPv6.8.3//NONSGML v1.0//EN
CALSCALE:GREGORIAN
METHOD:PUBLISH
X-ORIGINAL-URL:https://www.azdancecoalition.org
X-WR-CALDESC:Events for Arizona Dance Coalition
REFRESH-INTERVAL;VALUE=DURATION:PT1H
X-Robots-Tag:noindex
X-PUBLISHED-TTL:PT1H
BEGIN:VTIMEZONE
TZID:America/Phoenix
BEGIN:STANDARD
TZOFFSETFROM:-0700
TZOFFSETTO:-0700
TZNAME:MST
DTSTART:20180101T000000
END:STANDARD
END:VTIMEZONE
BEGIN:VEVENT
DTSTART;TZID=America/Phoenix:20260301T110000
DTEND;TZID=America/Phoenix:20260301T190000
DTSTAMP:20260420T154814
CREATED:20260226T105218Z
LAST-MODIFIED:20260226T105423Z
UID:29169-1772362800-1772391600@www.azdancecoalition.org
SUMMARY:Arizona Festival of Nations (Chandler)
DESCRIPTION:AZ Festival of Nations 2026 Join us for a vibrant celebration that highlights cultural diversity through food\, art\, live performances and community engagement. Date: Sat. Feb 28th\, Sun Mar 1st Time: 11am – 8pm & 11am -7pm Location: DR A.J Chandler Downtown Stage Park
URL:https://www.azdancecoalition.org/event/arizona-festival-of-nations-chandler-2/
LOCATION:AJ Chandler Park\, 3 S. Arizona Ave.  \, Chandler\, AZ\, United States
CATEGORIES:African,African,Belly Dance,Bharatanatyam,Brazilian Dance,Caribbean,Chinese,Classical Indian,Dance Performance,Dances from India,Ethnic,Festival,Folklorico,Hispanic Heritage,Indian Dance,Indigenous,Mexican Folklorico,Multicultural,Polynesian,Polynesian,West African
ATTACH;FMTTYPE=image/jpeg:https://www.azdancecoalition.org/wp-content/uploads/2026/02/AZ-Fest-of-Nations.jpg
ORGANIZER;CN="Arizona Festival of Nations":MAILTO:salomon@azfestivalofnations.org
END:VEVENT
BEGIN:VEVENT
DTSTART;TZID=America/Phoenix:20260228T110000
DTEND;TZID=America/Phoenix:20260228T200000
DTSTAMP:20260420T154814
CREATED:20260226T105218Z
LAST-MODIFIED:20260226T105259Z
UID:29159-1772276400-1772308800@www.azdancecoalition.org
SUMMARY:Arizona Festival of Nations (Chandler)
DESCRIPTION:AZ Festival of Nations 2026 Join us for a vibrant celebration that highlights cultural diversity through food\, art\, live performances and community engagement. Date: Sat. Feb 28th\, Sun Mar 1st Time: 11am – 8pm & 11am -7pm Location: DR A.J Chandler Downtown Stage Park
URL:https://www.azdancecoalition.org/event/arizona-festival-of-nations-chandler/
LOCATION:AJ Chandler Park\, 3 S. Arizona Ave.  \, Chandler\, AZ\, United States
CATEGORIES:African,African,Belly Dance,Bharatanatyam,Brazilian Dance,Caribbean,Chinese,Classical Indian,Dance Performance,Dances from India,Ethnic,Festival,Folklorico,Hispanic Heritage,Indian Dance,Indigenous,Mexican Folklorico,Multicultural,Polynesian,Polynesian,West African
ATTACH;FMTTYPE=image/jpeg:https://www.azdancecoalition.org/wp-content/uploads/2026/02/AZ-Fest-of-Nations.jpg
ORGANIZER;CN="Arizona Festival of Nations":MAILTO:salomon@azfestivalofnations.org
END:VEVENT
BEGIN:VEVENT
DTSTART;TZID=America/Phoenix:20240623T140000
DTEND;TZID=America/Phoenix:20240623T153000
DTSTAMP:20260420T154814
CREATED:20240521T183328Z
LAST-MODIFIED:20240607T172156Z
UID:25041-1719151200-1719156600@www.azdancecoalition.org
SUMMARY:Global Grooves: A Celebration of Dance Diversity
DESCRIPTION:An afternoon of world dance featuring Middle Eastern dance by Sharqia Dance Theater and Farhat al Raqs\, classical Indian dance by  Sanskaar Nritya Dance Academy\, and traditional Polynesian dance by Hālau Kūliaikapono and more!
URL:https://www.azdancecoalition.org/event/global-grooves-a-celebration-of-dance-diversity/
LOCATION:Phoenix Center for the Arts\, 1202 N. 3rd Street\, Phoenix\, AZ\, 85004\, United States
CATEGORIES:Belly Dance / Mid-Eastern,Classical Indian,Dance Performance,Ethnic,Indian Dance,Polynesian,Variety Show
ATTACH;FMTTYPE=image/png:https://www.azdancecoalition.org/wp-content/uploads/2024/05/Global-Grooves-SQ-2024.png
ORGANIZER;CN="One World Dance &amp%3B Music":MAILTO:info@oneworlddanceandmusic.com
END:VEVENT
BEGIN:VEVENT
DTSTART;TZID=America/Phoenix:20230610T190000
DTEND;TZID=America/Phoenix:20230610T203000
DTSTAMP:20260420T154814
CREATED:20230503T205321Z
LAST-MODIFIED:20230503T205321Z
UID:23164-1686423600-1686429000@www.azdancecoalition.org
SUMMARY:Global Grooves - A Celebration of Dance Diversity (Phoenix)
DESCRIPTION:Global Grooves – A Celebration of Dance Diversity (Phoenix)\nAn evening of world dance featuring Middle Eastern dance by Sharqia Dance Theater and Farhat al Raqs\, classical Indian dance by  Sanskaar Nritya Dance Academy\, and traditional Polynesian dance by Hālau Kūliaikapono.
URL:https://www.azdancecoalition.org/event/global-grooves-a-celebration-of-dance-diversity-phoenix/
LOCATION:Phoenix Center for the Arts\, 1202 N. 3rd Street\, Phoenix\, AZ\, 85004\, United States
CATEGORIES:Belly Dance / Mid-Eastern,Community Event,Dance Performance,Ethnic,Indian Dance,Polynesian
ATTACH;FMTTYPE=image/png:https://www.azdancecoalition.org/wp-content/uploads/2023/05/Global-Grooves-SQ-logo.png
ORGANIZER;CN="One World Dance &amp%3B Music":MAILTO:info@oneworlddanceandmusic.com
END:VEVENT
BEGIN:VEVENT
DTSTART;TZID=America/Phoenix:20180915T130000
DTEND;TZID=America/Phoenix:20180915T140000
DTSTAMP:20260420T154814
CREATED:20180625T225503Z
LAST-MODIFIED:20180626T224439Z
UID:14510-1537016400-1537020000@www.azdancecoalition.org
SUMMARY:Ori Tahiti (Tahitian dance) Pre-Festival Dance Workshop by Kumu Kalena
DESCRIPTION:  \nOri Tahitian dance lesson. The most energetic of all the Polynesian dances and widely known for very fast hip movements. (Remember the dancer during the Hawaii 5-0 theme song and credits.) Emphasis is on hip isolation. Instruction includes strength and stamina training. Learn the difference between Otea and Aparima. \nDress: A pareo or scarf for the hips\, wear comfortable clothing. For girls and boys. All ages welcome!\n \nGroupon discount available on Pre-Fest Events page. \nAbout Kumu Kalena \nKalena has been dancing since childhood. She has choreographed original works and developed the dance company into an award-winning ensemble. Kalena teaches the following dances: Hawaiian (Ancient and Modern)\, Tahitian\, Fijian\, Tongan\, Maori New Zealand\, and Samoan. In addition to dance classes\, she conducts Tahitian drumming and Samoan fire and knife dance seminars. Kumu Kalena is Artistic Director of Tropical Polynesian Productions and Festival Director for the West Valley Island Cultural Festival.
URL:https://www.azdancecoalition.org/event/ori-tahiti-tahitian-dance/
LOCATION:Phoenix Center for the Arts\, 1202 N. 3rd Street\, Phoenix\, AZ\, 85004\, United States
CATEGORIES:Classes,Ethnic,Polynesian
ORGANIZER;CN="West Valley Island Cultural Festival":MAILTO:info@wvislandculturalfest.com
END:VEVENT
BEGIN:VEVENT
DTSTART;TZID=America/Phoenix:20180804T130000
DTEND;TZID=America/Phoenix:20180804T140000
DTSTAMP:20260420T154814
CREATED:20180625T223447Z
LAST-MODIFIED:20180626T224759Z
UID:14505-1533387600-1533391200@www.azdancecoalition.org
SUMMARY:Hawaiian Hula Pre-Festival Dance Workshop by Kumu Kalena
DESCRIPTION:Introductory Hawaiian Hula dance lesson. Students will learn the basic foot and hand motions. Learn the difference between Hula Kahiko (Ancient Hula) and Hula Auana\, (Modern Hula). Dress: Pa’u skirt (for females) and/or wear comfortable clothing. For boys and girls. All ages welcome!\n \nPlease note: Groupon discount is available on the Pre-Fest Events page of the website. \nAbout Kumu Kalena \nKalena has been dancing since childhood. She has choreographed original works and developed the dance company into an award-winning ensemble. Kalena teaches the following dances: Hawaiian (Ancient and Modern)\, Tahitian\, Fijian\, Tongan\, Maori New Zealand\, and Samoan. In addition to dance classes\, she conducts Tahitian drumming and Samoan fire and knife dance seminars. Kumu Kalena is Artistic Director of Tropical Polynesian Productions and Festival Director for the West Valley Island Cultural Festival.
URL:https://www.azdancecoalition.org/event/hawaiian-hula/
LOCATION:Phoenix Center for the Arts\, 1202 N. 3rd Street\, Phoenix\, AZ\, 85004\, United States
CATEGORIES:Classes,Ethnic,Polynesian
ORGANIZER;CN="West Valley Island Cultural Festival":MAILTO:info@wvislandculturalfest.com
END:VEVENT
END:VCALENDAR