BEGIN:VCALENDAR
VERSION:2.0
PRODID:-//Arizona Dance Coalition - ECPv6.8.3//NONSGML v1.0//EN
CALSCALE:GREGORIAN
METHOD:PUBLISH
X-ORIGINAL-URL:https://www.azdancecoalition.org
X-WR-CALDESC:Events for Arizona Dance Coalition
REFRESH-INTERVAL;VALUE=DURATION:PT1H
X-Robots-Tag:noindex
X-PUBLISHED-TTL:PT1H
BEGIN:VTIMEZONE
TZID:America/Phoenix
BEGIN:STANDARD
TZOFFSETFROM:-0700
TZOFFSETTO:-0700
TZNAME:MST
DTSTART:20170101T000000
END:STANDARD
TZID:America/Denver
BEGIN:DAYLIGHT
TZOFFSETFROM:-0700
TZOFFSETTO:-0600
TZNAME:MDT
DTSTART:20170312T090000
END:DAYLIGHT
BEGIN:STANDARD
TZOFFSETFROM:-0600
TZOFFSETTO:-0700
TZNAME:MST
DTSTART:20171105T080000
END:STANDARD
END:VTIMEZONE
BEGIN:VEVENT
DTSTART;TZID=America/Phoenix:20180107T193000
DTEND;TZID=America/Phoenix:20180107T213000
DTSTAMP:20260422T203402
CREATED:20170822T233339Z
LAST-MODIFIED:20171229T052555Z
UID:11709-1515353400-1515360600@www.azdancecoalition.org
SUMMARY:The Tango Fire Company of Buenos Aires (Wickenburg)
DESCRIPTION:Immerse yourself in the intoxicating passion of late night Buenos Aires. Direct from Argentina\, Tango Fire combines authentic dancers\, sophisticated choreography and sultry live music in one seductive performance.
URL:https://www.azdancecoalition.org/event/tango-fire-company-buenos-aires/
LOCATION:Del E. Webb Center for the Performing Arts\, 1090 South Vulture Mine Road\, Wickenburg\, AZ\, 85390
CATEGORIES:Argentine Tango,Dance Performance
ORGANIZER;CN="Del E Webb Center for the Performing Arts":MAILTO:info (at) dewpac (dot) org
END:VEVENT
BEGIN:VEVENT
DTSTART;VALUE=DATE:20170525
DTEND;VALUE=DATE:20170526
DTSTAMP:20260422T203402
CREATED:20170527T091051Z
LAST-MODIFIED:20170703T211847Z
UID:11345-1495670400-1495756799@www.azdancecoalition.org
SUMMARY:ARIZONA DANCE FESTIVAL Submissions ~ Deadline July 20
DESCRIPTION:ARIZONA DANCE FESTIVAL 2017\nApplication & Submissions ~ Deadline July 20\, 2017 \nThe Arizona Dance Festival (ADF) will take place at Tempe Center for the Arts Studio on October 5-7\, 2017\, co-sponsored by the Arizona Dance Coalition.  The festival will give you or your company great exposure\, and it’s a fun way to share your art with colleagues from around the state and guests from out of state. \nThe Arizona Dance Festival is open to individuals and emerging artist groups as well as professional companies from all genres and styles of dance. Up to 15 dance slots per show will be selected to be performed. The applicant works will be adjudicated by a diverse panel of judges that are highly knowledgeable about dance. \nHere’s how to apply: \nYou must submit the following by July 20\, 2017: \n\nADF application form\nDescription form\nAudition Video Link\n$35 non-refundable application fee ($15 per additional audition pieces)\n\nThe audition Video Link must be the work that you are planning to show that has not been seen in any major Metro-Phoenix venues within 2 months prior to the show dates or a work that is representative of your current repertory with your current dance members. \nApplications can be downloaded from https://desertdancetheatre.org/adf-2017-application/. If you have any questions\, contact me at 480-962-4584 or at gro.ertaehTecnaDtreseDnull@asiL. \nWe are anticipating an exciting program this upcoming season and hope you can participate. \n 
URL:https://www.azdancecoalition.org/event/arizona-dance-festival-submissions-deadline-july-20/
LOCATION:Desert Dance Theatre\, P.O. Box 25332\, Tempe\, AZ\, 85285\, United States
CATEGORIES:Aerial,Afro-Cuban Dance,Argentine Tango,Argentine Tango,Audition,Ballet,Ballet Folklorico,Ballroom,Belly Dance / Mid-Eastern,Brazilian Dance,Classes,Contra Dance,Dance Performance,Ethnic,Festival,Flamenco Dance,Guest Artist Master Class,Indian Dance,Jazz,Junk Funk,Lindy Hop / Swing,Modern Contemporary,Performance Art,Salsa/Latin Dance,Social Dance,Tap Dance,Tap Dance,Variety Show,Workshop
ATTACH;FMTTYPE=image/png:https://www.azdancecoalition.org/wp-content/uploads/2017/05/ADF-Logo-Crpd.png
END:VEVENT
BEGIN:VEVENT
DTSTART;VALUE=DATE:20170302
DTEND;VALUE=DATE:20170303
DTSTAMP:20260422T203402
CREATED:20170129T174236Z
LAST-MODIFIED:20170221T223935Z
UID:10379-1488412800-1488499199@www.azdancecoalition.org
SUMMARY:Tucson TANGO FESTIVAL
DESCRIPTION:The Tucson Tango Festival is being held March 2-5\, 2017\, at a new venue — the 4-Star destination resort of Casino Del Sol — just six (6) miles west of I19 on Valencia. \nInstructors are: Alex Krebs and Patricia (Portland OR)\, Adam Cornett and Tilly Kimm (Providence RI)\, Alicia Pons (Argentina) and Daniel Arias (Los Angeles CA)\, Melina Sedo and Detlef Engel (Germany)\, and roving guest instructor Vania Rey (available for privates). \nTo view the Full Schedule: https://tucsontangofestival.com/full-schedule/ \nThere is a Beginners Bootcamp. It’s specifically designed for those first lessons in Argentine Tango\, or to review the basics if you have been dancing for a while. If you have been dancing for a while and would like to introduce a friend to tango\, please join them in the classes. \nSpecial thanks Green Valley sponsors Beverly Tobiason and Chuck Soukup for their generous support in helping build the tango community. Thanks to their contribution the Beginners Bootcamp will be free to those wishing to attend. To register specifically for this Beginners Bootcamp\, click here: https://tucsontangofestival.com/registration-for-restricted-classes/ \nHotel: Rate is $89 Wednesday\, Thursday and Sunday. The $89 rate is extended to three days before and three days after the festival. Friday and Saturday are $119 per night plus 10% room fee. No resort fees or taxes. Free parking. No WiFi fees / 10% occupancy fee. \nReserve room here. \n@TucsonTangoFestival \nhttps://www.facebook.com/tucsontangofestival/
URL:https://www.azdancecoalition.org/event/tucson-tango-festival-3/
LOCATION:Casino del Sol Resort\, 5655 W Valencia Rd\, Tucson\, AZ\, United States
CATEGORIES:Argentine Tango,Festival
ORGANIZER;CN="Jim Baker":MAILTO:info(at)TucsonTangoFestival(dot)com
END:VEVENT
END:VCALENDAR