BEGIN:VCALENDAR
VERSION:2.0
PRODID:-//Arizona Dance Coalition - ECPv6.8.3//NONSGML v1.0//EN
CALSCALE:GREGORIAN
METHOD:PUBLISH
X-ORIGINAL-URL:https://www.azdancecoalition.org
X-WR-CALDESC:Events for Arizona Dance Coalition
REFRESH-INTERVAL;VALUE=DURATION:PT1H
X-Robots-Tag:noindex
X-PUBLISHED-TTL:PT1H
BEGIN:VTIMEZONE
TZID:America/Phoenix
BEGIN:STANDARD
TZOFFSETFROM:-0700
TZOFFSETTO:-0700
TZNAME:MST
DTSTART:20260101T000000
END:STANDARD
END:VTIMEZONE
BEGIN:VEVENT
DTSTART;VALUE=DATE:20260430
DTEND;VALUE=DATE:20260501
DTSTAMP:20260420T184936
CREATED:20260103T172249Z
LAST-MODIFIED:20260103T172249Z
UID:29076-1777507200-1777593599@www.azdancecoalition.org
SUMMARY:ExtraStep Films - Promotional Offer (Expiration Date)
DESCRIPTION:This year\, we quietly tested photography with five studios during their Nutcracker performances. The feedback has gone well beyond what we expected. \nWe invite you to take a look at our sample gallery\, created specifically for dance school owners. It showcases the quality of the images as well as the package options available to your families. \nhttps://extrastepfilmsandphotography.shootproof.com/gallery/SampleGallery \n  \nOur offer to you: \nWhen you book any video package with ExtraStep Films\, we will professionally photograph your live performance for $99 per show. \nIn return\, you’ll receive approximately 200–400 beautifully edited images per performance\, each one carefully refined by our team and delivered in a polished online gallery for your families. \nWe only ask in return that you share the gallery with your families. \nThis introductory offer is available for shows presented through April 30\, 2026. \nWe’d love to hear your thoughts and are happy to answer any questions. \nWarm regards\, \nAndy Kershenblatt\nExtraStep Films \n609.653.0040 \nmoc.petsartxenull@ydna
URL:https://www.azdancecoalition.org/event/extrastep-films-promotional-offer-expiration-date/
CATEGORIES:PHOTOGRAPHY,VIDEOGRAPHY
ATTACH;FMTTYPE=image/jpeg:https://www.azdancecoalition.org/wp-content/uploads/2026/01/Photography-flyer-CRPD-scaled.jpeg
ORGANIZER;CN="NextStep":MAILTO:andy@extrastep.com
END:VEVENT
END:VCALENDAR